| Back to Build/check report for BioC 3.17 |
|
This page was generated on 2023-01-02 09:00:25 -0500 (Mon, 02 Jan 2023).
| Hostname | OS | Arch (*) | R version | Installed pkgs |
|---|---|---|---|---|
| palomino5 | Windows Server 2022 Datacenter | x64 | R Under development (unstable) (2022-12-25 r83502 ucrt) -- "Unsuffered Consequences" | 4165 |
| Click on any hostname to see more info about the system (e.g. compilers) (*) as reported by 'uname -p', except on Windows and Mac OS X | ||||
|
To the developers/maintainers of the customProDB package: Make sure to use the following settings in order to reproduce any error or warning you see on this page. |
| Package 449/2158 | Hostname | OS / Arch | INSTALL | BUILD | CHECK | BUILD BIN | ||||||||
| customProDB 1.39.0 (landing page) Xiaojing Wang
| palomino5 | Windows Server 2022 Datacenter / x64 | OK | OK | OK | OK | ||||||||
| Package: customProDB |
| Version: 1.39.0 |
| Command: chmod a+r customProDB -R && F:\biocbuild\bbs-3.17-bioc\R\bin\R.exe CMD build --keep-empty-dirs --no-resave-data customProDB |
| StartedAt: 2022-12-28 17:27:57 -0500 (Wed, 28 Dec 2022) |
| EndedAt: 2022-12-28 17:29:48 -0500 (Wed, 28 Dec 2022) |
| EllapsedTime: 111.0 seconds |
| RetCode: 0 |
| Status: OK |
| PackageFile: customProDB_1.39.0.tar.gz |
| PackageFileSize: 541.3 KiB |
##############################################################################
##############################################################################
###
### Running command:
###
### chmod a+r customProDB -R && F:\biocbuild\bbs-3.17-bioc\R\bin\R.exe CMD build --keep-empty-dirs --no-resave-data customProDB
###
##############################################################################
##############################################################################
* checking for file 'customProDB/DESCRIPTION' ... OK
* preparing 'customProDB':
* checking DESCRIPTION meta-information ... OK
* installing the package to build vignettes
* creating vignettes ... OK
* checking for LF line-endings in source and make files and shell scripts
* checking for empty or unneeded directories
NB: this package now depends on R (>= 3.5.0)
WARNING: Added dependency on R >= 3.5.0 because serialized objects in
serialize/load version 3 cannot be read in older versions of R.
File(s) containing such objects:
'customProDB/inst/extdata/refseq/cosmic.RData'
'customProDB/inst/extdata/refseq/dbsnpinCoding.RData'
* building 'customProDB_1.39.0.tar.gz'