| Back to Build/check report for BioC 3.17 |
|
This page was generated on 2023-01-02 09:00:25 -0500 (Mon, 02 Jan 2023).
| Hostname | OS | Arch (*) | R version | Installed pkgs |
|---|---|---|---|---|
| palomino5 | Windows Server 2022 Datacenter | x64 | R Under development (unstable) (2022-12-25 r83502 ucrt) -- "Unsuffered Consequences" | 4165 |
| Click on any hostname to see more info about the system (e.g. compilers) (*) as reported by 'uname -p', except on Windows and Mac OS X | ||||
|
To the developers/maintainers of the customCMPdb package: Make sure to use the following settings in order to reproduce any error or warning you see on this page. |
| Package 448/2158 | Hostname | OS / Arch | INSTALL | BUILD | CHECK | BUILD BIN | ||||||||
| customCMPdb 1.9.0 (landing page) Yuzhu Duan
| palomino5 | Windows Server 2022 Datacenter / x64 | OK | OK | OK | OK | ||||||||
| Package: customCMPdb |
| Version: 1.9.0 |
| Command: F:\biocbuild\bbs-3.17-bioc\R\bin\R.exe CMD check --no-multiarch --install=check:customCMPdb.install-out.txt --library=F:\biocbuild\bbs-3.17-bioc\R\library --no-vignettes --timings customCMPdb_1.9.0.tar.gz |
| StartedAt: 2022-12-28 22:56:06 -0500 (Wed, 28 Dec 2022) |
| EndedAt: 2022-12-28 22:58:05 -0500 (Wed, 28 Dec 2022) |
| EllapsedTime: 119.8 seconds |
| RetCode: 0 |
| Status: OK |
| CheckDir: customCMPdb.Rcheck |
| Warnings: 0 |
##############################################################################
##############################################################################
###
### Running command:
###
### F:\biocbuild\bbs-3.17-bioc\R\bin\R.exe CMD check --no-multiarch --install=check:customCMPdb.install-out.txt --library=F:\biocbuild\bbs-3.17-bioc\R\library --no-vignettes --timings customCMPdb_1.9.0.tar.gz
###
##############################################################################
##############################################################################
* using log directory 'F:/biocbuild/bbs-3.17-bioc-rtools43/meat/customCMPdb.Rcheck'
* using R Under development (unstable) (2022-12-25 r83502 ucrt)
* using platform: x86_64-w64-mingw32 (64-bit)
* R was compiled by
gcc.exe (GCC) 10.4.0
GNU Fortran (GCC) 10.4.0
* running under: Windows Server x64 (build 20348)
* using session charset: UTF-8
* using option '--no-vignettes'
* checking for file 'customCMPdb/DESCRIPTION' ... OK
* this is package 'customCMPdb' version '1.9.0'
* package encoding: UTF-8
* checking package namespace information ... OK
* checking package dependencies ... OK
* checking if this is a source package ... OK
* checking if there is a namespace ... OK
* checking for hidden files and directories ... OK
* checking for portable file names ... OK
* checking whether package 'customCMPdb' can be installed ... OK
* checking installed package size ... OK
* checking package directory ... OK
* checking 'build' directory ... OK
* checking DESCRIPTION meta-information ... OK
* checking top-level files ... OK
* checking for left-over files ... OK
* checking index information ... OK
* checking package subdirectories ... OK
* checking R files for non-ASCII characters ... OK
* checking R files for syntax errors ... OK
* checking whether the package can be loaded ... OK
* checking whether the package can be loaded with stated dependencies ... OK
* checking whether the package can be unloaded cleanly ... OK
* checking whether the namespace can be loaded with stated dependencies ... OK
* checking whether the namespace can be unloaded cleanly ... OK
* checking dependencies in R code ... OK
* checking S3 generic/method consistency ... OK
* checking replacement functions ... OK
* checking foreign function calls ... OK
* checking R code for possible problems ... OK
* checking Rd files ... OK
* checking Rd metadata ... OK
* checking Rd cross-references ... OK
* checking for missing documentation entries ... OK
* checking for code/documentation mismatches ... OK
* checking Rd \usage sections ... OK
* checking Rd contents ... OK
* checking for unstated dependencies in examples ... OK
* checking files in 'vignettes' ... OK
* checking examples ... OK
Examples with CPU (user + system) or elapsed time > 5s
user system elapsed
queryAnnotDB 6.39 1.70 10.36
customAnnot 5.36 1.24 9.09
* checking for unstated dependencies in vignettes ... OK
* checking package vignettes in 'inst/doc' ... OK
* checking running R code from vignettes ... SKIPPED
* checking re-building of vignette outputs ... SKIPPED
* checking PDF version of manual ... OK
* DONE
Status: OK
customCMPdb.Rcheck/00install.out
############################################################################## ############################################################################## ### ### Running command: ### ### F:\biocbuild\bbs-3.17-bioc\R\bin\R.exe CMD INSTALL customCMPdb ### ############################################################################## ############################################################################## * installing to library 'F:/biocbuild/bbs-3.17-bioc/R/library' * installing *source* package 'customCMPdb' ... ** using staged installation ** R ** inst ** byte-compile and prepare package for lazy loading ** help *** installing help indices ** building package indices ** installing vignettes ** testing if installed package can be loaded from temporary location ** testing if installed package can be loaded from final location ** testing if installed package keeps a record of temporary installation path * DONE (customCMPdb)
customCMPdb.Rcheck/customCMPdb-Ex.timings
| name | user | system | elapsed | |
| buildCMAPdb | 0 | 0 | 0 | |
| buildDrugAgeDB | 0.11 | 0.00 | 0.11 | |
| customAnnot | 5.36 | 1.24 | 9.09 | |
| customCMPdb-package | 0.03 | 0.00 | 0.04 | |
| dbxml2df | 0 | 0 | 0 | |
| df2SQLite | 0.02 | 0.00 | 0.02 | |
| loadAnnot | 1.39 | 0.33 | 1.76 | |
| loadSDFwithName | 2.32 | 0.44 | 2.91 | |
| processDrugage | 0 | 0 | 0 | |
| queryAnnotDB | 6.39 | 1.70 | 10.36 | |