| Back to Build/check report for BioC 3.17 |
|
This page was generated on 2023-01-02 09:00:25 -0500 (Mon, 02 Jan 2023).
| Hostname | OS | Arch (*) | R version | Installed pkgs |
|---|---|---|---|---|
| palomino5 | Windows Server 2022 Datacenter | x64 | R Under development (unstable) (2022-12-25 r83502 ucrt) -- "Unsuffered Consequences" | 4165 |
| Click on any hostname to see more info about the system (e.g. compilers) (*) as reported by 'uname -p', except on Windows and Mac OS X | ||||
|
To the developers/maintainers of the ctsGE package: Make sure to use the following settings in order to reproduce any error or warning you see on this page. |
| Package 445/2158 | Hostname | OS / Arch | INSTALL | BUILD | CHECK | BUILD BIN | ||||||||
| ctsGE 1.25.0 (landing page) Michal Sharabi-Schwager
| palomino5 | Windows Server 2022 Datacenter / x64 | OK | OK | OK | OK | ||||||||
| Package: ctsGE |
| Version: 1.25.0 |
| Command: chmod a+r ctsGE -R && F:\biocbuild\bbs-3.17-bioc\R\bin\R.exe CMD build --keep-empty-dirs --no-resave-data ctsGE |
| StartedAt: 2022-12-28 17:27:50 -0500 (Wed, 28 Dec 2022) |
| EndedAt: 2022-12-28 17:28:11 -0500 (Wed, 28 Dec 2022) |
| EllapsedTime: 21.2 seconds |
| RetCode: 0 |
| Status: OK |
| PackageFile: ctsGE_1.25.0.tar.gz |
| PackageFileSize: 718.4 KiB |
##############################################################################
##############################################################################
###
### Running command:
###
### chmod a+r ctsGE -R && F:\biocbuild\bbs-3.17-bioc\R\bin\R.exe CMD build --keep-empty-dirs --no-resave-data ctsGE
###
##############################################################################
##############################################################################
* checking for file 'ctsGE/DESCRIPTION' ... OK
* preparing 'ctsGE':
* checking DESCRIPTION meta-information ... OK
* installing the package to build vignettes
* creating vignettes ... OK
Warning: 'inst/doc' file
'ctsGE.html'
ignored as vignettes have been rebuilt.
Run R CMD build with --no-build-vignettes to prevent rebuilding.
* checking for LF line-endings in source and make files and shell scripts
* checking for empty or unneeded directories
Omitted 'LazyData' from DESCRIPTION
* building 'ctsGE_1.25.0.tar.gz'