| Back to Build/check report for BioC 3.17 |
|
This page was generated on 2023-01-02 09:00:25 -0500 (Mon, 02 Jan 2023).
| Hostname | OS | Arch (*) | R version | Installed pkgs |
|---|---|---|---|---|
| palomino5 | Windows Server 2022 Datacenter | x64 | R Under development (unstable) (2022-12-25 r83502 ucrt) -- "Unsuffered Consequences" | 4165 |
| Click on any hostname to see more info about the system (e.g. compilers) (*) as reported by 'uname -p', except on Windows and Mac OS X | ||||
|
To the developers/maintainers of the crisprScore package: Make sure to use the following settings in order to reproduce any error or warning you see on this page. |
| Package 429/2158 | Hostname | OS / Arch | INSTALL | BUILD | CHECK | BUILD BIN | ||||||||
| crisprScore 1.3.0 (landing page) Jean-Philippe Fortin
| palomino5 | Windows Server 2022 Datacenter / x64 | OK | OK | OK | OK | ||||||||
| Package: crisprScore |
| Version: 1.3.0 |
| Command: rm -rf crisprScore.buildbin-libdir && mkdir crisprScore.buildbin-libdir && F:\biocbuild\bbs-3.17-bioc\R\bin\R.exe CMD INSTALL --build --library=crisprScore.buildbin-libdir crisprScore_1.3.0.tar.gz |
| StartedAt: 2022-12-29 05:01:14 -0500 (Thu, 29 Dec 2022) |
| EndedAt: 2022-12-29 05:01:34 -0500 (Thu, 29 Dec 2022) |
| EllapsedTime: 19.9 seconds |
| RetCode: 0 |
| Status: OK |
| PackageFile: crisprScore_1.3.0.zip |
| PackageFileSize: 4.381 MiB |
############################################################################## ############################################################################## ### ### Running command: ### ### rm -rf crisprScore.buildbin-libdir && mkdir crisprScore.buildbin-libdir && F:\biocbuild\bbs-3.17-bioc\R\bin\R.exe CMD INSTALL --build --library=crisprScore.buildbin-libdir crisprScore_1.3.0.tar.gz ### ############################################################################## ############################################################################## * installing *source* package 'crisprScore' ... ** using non-staged installation via StagedInstall field ** R ** data *** moving datasets to lazyload DB ** inst ** byte-compile and prepare package for lazy loading ** help *** installing help indices ** building package indices ** installing vignettes ** testing if installed package can be loaded * MD5 sums packaged installation of 'crisprScore' as crisprScore_1.3.0.zip * DONE (crisprScore)