| Back to Build/check report for BioC 3.17 |
|
This page was generated on 2023-01-02 09:00:22 -0500 (Mon, 02 Jan 2023).
| Hostname | OS | Arch (*) | R version | Installed pkgs |
|---|---|---|---|---|
| palomino5 | Windows Server 2022 Datacenter | x64 | R Under development (unstable) (2022-12-25 r83502 ucrt) -- "Unsuffered Consequences" | 4165 |
| Click on any hostname to see more info about the system (e.g. compilers) (*) as reported by 'uname -p', except on Windows and Mac OS X | ||||
|
To the developers/maintainers of the cellHTS2 package: Make sure to use the following settings in order to reproduce any error or warning you see on this page. |
| Package 271/2158 | Hostname | OS / Arch | INSTALL | BUILD | CHECK | BUILD BIN | ||||||||
| cellHTS2 2.63.0 (landing page) Joseph Barry
| palomino5 | Windows Server 2022 Datacenter / x64 | OK | OK | OK | OK | ||||||||
| Package: cellHTS2 |
| Version: 2.63.0 |
| Command: chmod a+r cellHTS2 -R && F:\biocbuild\bbs-3.17-bioc\R\bin\R.exe CMD build --keep-empty-dirs --no-resave-data cellHTS2 |
| StartedAt: 2022-12-28 17:07:53 -0500 (Wed, 28 Dec 2022) |
| EndedAt: 2022-12-28 17:11:02 -0500 (Wed, 28 Dec 2022) |
| EllapsedTime: 189.3 seconds |
| RetCode: 0 |
| Status: OK |
| PackageFile: cellHTS2_2.63.0.tar.gz |
| PackageFileSize: 2.759 MiB |
############################################################################## ############################################################################## ### ### Running command: ### ### chmod a+r cellHTS2 -R && F:\biocbuild\bbs-3.17-bioc\R\bin\R.exe CMD build --keep-empty-dirs --no-resave-data cellHTS2 ### ############################################################################## ############################################################################## * checking for file 'cellHTS2/DESCRIPTION' ... OK * preparing 'cellHTS2': * checking DESCRIPTION meta-information ... OK * installing the package to build vignettes * creating vignettes ... OK * checking for LF line-endings in source and make files and shell scripts * checking for empty or unneeded directories * looking to see if a 'data/datalist' file should be added * building 'cellHTS2_2.63.0.tar.gz'