| Back to Build/check report for BioC 3.17 | 
 | 
This page was generated on 2023-01-02 09:00:22 -0500 (Mon, 02 Jan 2023).
| Hostname | OS | Arch (*) | R version | Installed pkgs | 
|---|---|---|---|---|
| palomino5 | Windows Server 2022 Datacenter | x64 | R Under development (unstable) (2022-12-25 r83502 ucrt) -- "Unsuffered Consequences" | 4165 | 
| Click on any hostname to see more info about the system (e.g. compilers) (*) as reported by 'uname -p', except on Windows and Mac OS X | ||||
| To the developers/maintainers of the ccfindR package: Make sure to use the following settings in order to reproduce any error or warning you see on this page. | 
| Package 260/2158 | Hostname | OS / Arch | INSTALL | BUILD | CHECK | BUILD BIN | ||||||||
| ccfindR 1.19.0  (landing page) Jun Woo 
 | palomino5 | Windows Server 2022 Datacenter / x64 | OK | OK | OK | OK | ||||||||
| Package: ccfindR | 
| Version: 1.19.0 | 
| Command: chmod a+r ccfindR -R && F:\biocbuild\bbs-3.17-bioc\R\bin\R.exe CMD build --keep-empty-dirs --no-resave-data ccfindR | 
| StartedAt: 2022-12-28 17:06:42 -0500 (Wed, 28 Dec 2022) | 
| EndedAt: 2022-12-28 17:11:17 -0500 (Wed, 28 Dec 2022) | 
| EllapsedTime: 275.8 seconds | 
| RetCode: 0 | 
| Status: OK | 
| PackageFile: ccfindR_1.19.0.tar.gz | 
| PackageFileSize: 741.3 KiB | 
############################################################################## ############################################################################## ### ### Running command: ### ### chmod a+r ccfindR -R && F:\biocbuild\bbs-3.17-bioc\R\bin\R.exe CMD build --keep-empty-dirs --no-resave-data ccfindR ### ############################################################################## ############################################################################## * checking for file 'ccfindR/DESCRIPTION' ... OK * preparing 'ccfindR': * checking DESCRIPTION meta-information ... OK * cleaning src * installing the package to process help pages Loading required namespace: ccfindR * saving partial Rd database * creating vignettes ... OK * cleaning src * checking for LF line-endings in source and make files and shell scripts * checking for empty or unneeded directories * building 'ccfindR_1.19.0.tar.gz'