| Back to Build/check report for BioC 3.17 |
|
This page was generated on 2023-01-02 09:00:20 -0500 (Mon, 02 Jan 2023).
| Hostname | OS | Arch (*) | R version | Installed pkgs |
|---|---|---|---|---|
| palomino5 | Windows Server 2022 Datacenter | x64 | R Under development (unstable) (2022-12-25 r83502 ucrt) -- "Unsuffered Consequences" | 4165 |
| Click on any hostname to see more info about the system (e.g. compilers) (*) as reported by 'uname -p', except on Windows and Mac OS X | ||||
|
To the developers/maintainers of the bigmelon package: Make sure to use the following settings in order to reproduce any error or warning you see on this page. |
| Package 148/2158 | Hostname | OS / Arch | INSTALL | BUILD | CHECK | BUILD BIN | ||||||||
| bigmelon 1.25.1 (landing page) Tyler J. Gorrie-Stone
| palomino5 | Windows Server 2022 Datacenter / x64 | OK | OK | OK | OK | ||||||||
| Package: bigmelon |
| Version: 1.25.1 |
| Command: rm -rf bigmelon.buildbin-libdir && mkdir bigmelon.buildbin-libdir && F:\biocbuild\bbs-3.17-bioc\R\bin\R.exe CMD INSTALL --build --library=bigmelon.buildbin-libdir bigmelon_1.25.1.tar.gz |
| StartedAt: 2022-12-29 04:52:19 -0500 (Thu, 29 Dec 2022) |
| EndedAt: 2022-12-29 04:53:14 -0500 (Thu, 29 Dec 2022) |
| EllapsedTime: 55.6 seconds |
| RetCode: 0 |
| Status: OK |
| PackageFile: bigmelon_1.25.1.zip |
| PackageFileSize: 1.177 MiB |
############################################################################## ############################################################################## ### ### Running command: ### ### rm -rf bigmelon.buildbin-libdir && mkdir bigmelon.buildbin-libdir && F:\biocbuild\bbs-3.17-bioc\R\bin\R.exe CMD INSTALL --build --library=bigmelon.buildbin-libdir bigmelon_1.25.1.tar.gz ### ############################################################################## ############################################################################## * installing *source* package 'bigmelon' ... ** using staged installation ** R ** data ** inst ** byte-compile and prepare package for lazy loading No methods found in package 'RSQLite' for request: 'dbListFields' when loading 'lumi' Creating a new generic function for 'fot' in package 'bigmelon' ** help *** installing help indices ** building package indices ** installing vignettes ** testing if installed package can be loaded from temporary location No methods found in package 'RSQLite' for request: 'dbListFields' when loading 'lumi' ** testing if installed package can be loaded from final location No methods found in package 'RSQLite' for request: 'dbListFields' when loading 'lumi' ** testing if installed package keeps a record of temporary installation path * MD5 sums packaged installation of 'bigmelon' as bigmelon_1.25.1.zip * DONE (bigmelon)