| Back to Build/check report for BioC 3.17 |
|
This page was generated on 2023-01-02 09:00:54 -0500 (Mon, 02 Jan 2023).
| Hostname | OS | Arch (*) | R version | Installed pkgs |
|---|---|---|---|---|
| palomino5 | Windows Server 2022 Datacenter | x64 | R Under development (unstable) (2022-12-25 r83502 ucrt) -- "Unsuffered Consequences" | 4165 |
| Click on any hostname to see more info about the system (e.g. compilers) (*) as reported by 'uname -p', except on Windows and Mac OS X | ||||
|
To the developers/maintainers of the TrajectoryGeometry package: Make sure to use the following settings in order to reproduce any error or warning you see on this page. |
| Package 2052/2158 | Hostname | OS / Arch | INSTALL | BUILD | CHECK | BUILD BIN | ||||||||
| TrajectoryGeometry 1.7.0 (landing page) Michael Shapiro
| palomino5 | Windows Server 2022 Datacenter / x64 | OK | OK | OK | OK | ||||||||
| Package: TrajectoryGeometry |
| Version: 1.7.0 |
| Command: F:\biocbuild\bbs-3.17-bioc\R\bin\R.exe CMD check --no-multiarch --install=check:TrajectoryGeometry.install-out.txt --library=F:\biocbuild\bbs-3.17-bioc\R\library --no-vignettes --timings TrajectoryGeometry_1.7.0.tar.gz |
| StartedAt: 2022-12-29 04:16:14 -0500 (Thu, 29 Dec 2022) |
| EndedAt: 2022-12-29 04:17:21 -0500 (Thu, 29 Dec 2022) |
| EllapsedTime: 67.2 seconds |
| RetCode: 0 |
| Status: OK |
| CheckDir: TrajectoryGeometry.Rcheck |
| Warnings: 0 |
##############################################################################
##############################################################################
###
### Running command:
###
### F:\biocbuild\bbs-3.17-bioc\R\bin\R.exe CMD check --no-multiarch --install=check:TrajectoryGeometry.install-out.txt --library=F:\biocbuild\bbs-3.17-bioc\R\library --no-vignettes --timings TrajectoryGeometry_1.7.0.tar.gz
###
##############################################################################
##############################################################################
* using log directory 'F:/biocbuild/bbs-3.17-bioc-rtools43/meat/TrajectoryGeometry.Rcheck'
* using R Under development (unstable) (2022-12-25 r83502 ucrt)
* using platform: x86_64-w64-mingw32 (64-bit)
* R was compiled by
gcc.exe (GCC) 10.4.0
GNU Fortran (GCC) 10.4.0
* running under: Windows Server x64 (build 20348)
* using session charset: UTF-8
* using option '--no-vignettes'
* checking for file 'TrajectoryGeometry/DESCRIPTION' ... OK
* this is package 'TrajectoryGeometry' version '1.7.0'
* package encoding: UTF-8
* checking package namespace information ... OK
* checking package dependencies ... OK
* checking if this is a source package ... OK
* checking if there is a namespace ... OK
* checking for hidden files and directories ... OK
* checking for portable file names ... OK
* checking whether package 'TrajectoryGeometry' can be installed ... OK
* checking installed package size ... OK
* checking package directory ... OK
* checking 'build' directory ... OK
* checking DESCRIPTION meta-information ... OK
* checking top-level files ... OK
* checking for left-over files ... OK
* checking index information ... OK
* checking package subdirectories ... OK
* checking R files for non-ASCII characters ... OK
* checking R files for syntax errors ... OK
* checking whether the package can be loaded ... OK
* checking whether the package can be loaded with stated dependencies ... OK
* checking whether the package can be unloaded cleanly ... OK
* checking whether the namespace can be loaded with stated dependencies ... OK
* checking whether the namespace can be unloaded cleanly ... OK
* checking dependencies in R code ... OK
* checking S3 generic/method consistency ... OK
* checking replacement functions ... OK
* checking foreign function calls ... OK
* checking R code for possible problems ... NOTE
visualiseBranchPointStats: no visible binding for global variable
'value'
visualiseBranchPointStats: no visible binding for global variable
'logPValue'
visualiseTrajectoryStats: no visible binding for global variable 'type'
visualiseTrajectoryStats: no visible binding for global variable
'value'
Undefined global functions or variables:
logPValue type value
* checking Rd files ... OK
* checking Rd metadata ... OK
* checking Rd cross-references ... OK
* checking for missing documentation entries ... OK
* checking for code/documentation mismatches ... OK
* checking Rd \usage sections ... OK
* checking Rd contents ... OK
* checking for unstated dependencies in examples ... OK
* checking contents of 'data' directory ... OK
* checking data for non-ASCII characters ... OK
* checking LazyData ... OK
* checking data for ASCII and uncompressed saves ... OK
* checking files in 'vignettes' ... OK
* checking examples ... OK
Examples with CPU (user + system) or elapsed time > 5s
user system elapsed
testPathForDirectionality 9.13 0.31 9.44
analyseBranchPoint 9.10 0.25 9.34
* checking for unstated dependencies in vignettes ... OK
* checking package vignettes in 'inst/doc' ... OK
* checking running R code from vignettes ... SKIPPED
* checking re-building of vignette outputs ... SKIPPED
* checking PDF version of manual ... OK
* DONE
Status: 1 NOTE
See
'F:/biocbuild/bbs-3.17-bioc-rtools43/meat/TrajectoryGeometry.Rcheck/00check.log'
for details.
TrajectoryGeometry.Rcheck/00install.out
############################################################################## ############################################################################## ### ### Running command: ### ### F:\biocbuild\bbs-3.17-bioc\R\bin\R.exe CMD INSTALL TrajectoryGeometry ### ############################################################################## ############################################################################## * installing to library 'F:/biocbuild/bbs-3.17-bioc/R/library' * installing *source* package 'TrajectoryGeometry' ... ** using staged installation ** R ** data *** moving datasets to lazyload DB ** inst ** byte-compile and prepare package for lazy loading ** help *** installing help indices ** building package indices ** installing vignettes ** testing if installed package can be loaded from temporary location ** testing if installed package can be loaded from final location ** testing if installed package keeps a record of temporary installation path * DONE (TrajectoryGeometry)
TrajectoryGeometry.Rcheck/TrajectoryGeometry-Ex.timings
| name | user | system | elapsed | |
| analyseBranchPoint | 9.10 | 0.25 | 9.34 | |
| analyseSingleCellTrajectory | 1.75 | 0.06 | 1.81 | |
| circleOnTheUnitSphere | 0 | 0 | 0 | |
| distanceBetweenTrajectories | 0.89 | 0.02 | 0.91 | |
| findSphereClusterCenter | 0.05 | 0.00 | 0.05 | |
| findSphericalDistance | 0 | 0 | 0 | |
| generateRandomPaths | 0 | 0 | 0 | |
| generateRandomUnitVector | 0 | 0 | 0 | |
| getDistanceDataForPaths | 0.28 | 0.01 | 0.29 | |
| getSphericalData | 0.04 | 0.00 | 0.05 | |
| getStepLengths | 0 | 0 | 0 | |
| orthonormalBasis | 0 | 0 | 0 | |
| pathProgression | 0 | 0 | 0 | |
| pathToSphericalData | 0.05 | 0.00 | 0.05 | |
| plotPathProjectionCenterAndCircle | 0.02 | 0.02 | 0.03 | |
| projectPathToSphere | 0 | 0 | 0 | |
| samplePath | 0.01 | 0.00 | 0.01 | |
| testPathForDirectionality | 9.13 | 0.31 | 9.44 | |
| visualiseBranchPointStats | 0.67 | 0.00 | 0.67 | |
| visualiseTrajectoryStats | 1.80 | 0.16 | 1.96 | |