Back to Build/check report for BioC 3.17
ABCDEFGHIJKLMNOPQRS[T]UVWXYZ

This page was generated on 2023-01-02 09:00:54 -0500 (Mon, 02 Jan 2023).

HostnameOSArch (*)R versionInstalled pkgs
palomino5Windows Server 2022 Datacenterx64R Under development (unstable) (2022-12-25 r83502 ucrt) -- "Unsuffered Consequences" 4165
Click on any hostname to see more info about the system (e.g. compilers)      (*) as reported by 'uname -p', except on Windows and Mac OS X

CHECK results for TPP on palomino5


To the developers/maintainers of the TPP package:
Make sure to use the following settings in order to reproduce any error or warning you see on this page.

raw results

Package 2047/2158HostnameOS / ArchINSTALLBUILDCHECKBUILD BIN
TPP 3.27.0  (landing page)
Dorothee Childs
Snapshot Date: 2022-12-28 11:00:06 -0500 (Wed, 28 Dec 2022)
git_url: https://git.bioconductor.org/packages/TPP
git_branch: master
git_last_commit: e984b0c
git_last_commit_date: 2022-11-01 11:11:31 -0500 (Tue, 01 Nov 2022)
palomino5Windows Server 2022 Datacenter / x64  OK    OK    OK    OK  

Summary

Package: TPP
Version: 3.27.0
Command: F:\biocbuild\bbs-3.17-bioc\R\bin\R.exe CMD check --no-multiarch --install=check:TPP.install-out.txt --library=F:\biocbuild\bbs-3.17-bioc\R\library --no-vignettes --timings TPP_3.27.0.tar.gz
StartedAt: 2022-12-29 04:15:17 -0500 (Thu, 29 Dec 2022)
EndedAt: 2022-12-29 04:24:51 -0500 (Thu, 29 Dec 2022)
EllapsedTime: 573.7 seconds
RetCode: 0
Status:   OK  
CheckDir: TPP.Rcheck
Warnings: 0

Command output

##############################################################################
##############################################################################
###
### Running command:
###
###   F:\biocbuild\bbs-3.17-bioc\R\bin\R.exe CMD check --no-multiarch --install=check:TPP.install-out.txt --library=F:\biocbuild\bbs-3.17-bioc\R\library --no-vignettes --timings TPP_3.27.0.tar.gz
###
##############################################################################
##############################################################################


* using log directory 'F:/biocbuild/bbs-3.17-bioc-rtools43/meat/TPP.Rcheck'
* using R Under development (unstable) (2022-12-25 r83502 ucrt)
* using platform: x86_64-w64-mingw32 (64-bit)
* R was compiled by
    gcc.exe (GCC) 10.4.0
    GNU Fortran (GCC) 10.4.0
* running under: Windows Server x64 (build 20348)
* using session charset: UTF-8
* using option '--no-vignettes'
* checking for file 'TPP/DESCRIPTION' ... OK
* checking extension type ... Package
* this is package 'TPP' version '3.27.0'
* checking package namespace information ... OK
* checking package dependencies ... OK
* checking if this is a source package ... OK
* checking if there is a namespace ... OK
* checking for hidden files and directories ... OK
* checking for portable file names ... OK
* checking whether package 'TPP' can be installed ... OK
* checking installed package size ... NOTE
  installed size is 12.8Mb
  sub-directories of 1Mb or more:
    data           1.9Mb
    example_data   8.0Mb
    test_data      1.9Mb
* checking package directory ... OK
* checking 'build' directory ... OK
* checking DESCRIPTION meta-information ... OK
* checking top-level files ... OK
* checking for left-over files ... OK
* checking index information ... OK
* checking package subdirectories ... OK
* checking R files for non-ASCII characters ... OK
* checking R files for syntax errors ... OK
* checking whether the package can be loaded ... OK
* checking whether the package can be loaded with stated dependencies ... OK
* checking whether the package can be unloaded cleanly ... OK
* checking whether the namespace can be loaded with stated dependencies ... OK
* checking whether the namespace can be unloaded cleanly ... OK
* checking dependencies in R code ... NOTE
Namespace in Imports field not imported from: 'broom'
  All declared Imports should be used.
Unexported objects imported by ':::' calls:
  'doParallel:::.options' 'mefa:::rep.data.frame'
  See the note in ?`:::` about the use of this operator.
* checking S3 generic/method consistency ... OK
* checking replacement functions ... OK
* checking foreign function calls ... OK
* checking R code for possible problems ... NOTE
File 'TPP/R/TPP.R':
  .onLoad calls:
    packageStartupMessage(msgText, "\n")

See section 'Good practice' in '?.onAttach'.

fitSigmoidCCR: no visible global function definition for
  'capture.output'
modelSelector: no visible binding for global variable 'testHypothesis'
modelSelector: no visible binding for global variable 'fitMetric'
modelSelector: no visible binding for global variable 'minMetric'
plot_fSta_distribution: no visible binding for global variable
  '..density..'
plot_pVal_distribution: no visible binding for global variable
  '..density..'
tpp2dCreateTPPTRreference: no visible binding for global variable
  'meltcurve_plot'
tpp2dCreateTPPTRreference: no visible binding for global variable
  'Protein_ID'
tpp2dExport: no visible binding for global variable 'temperature'
tpp2dImport: no visible binding for global variable 'temperature'
tpp2dNormalize: no visible binding for global variable 'temperature'
Undefined global functions or variables:
  ..density.. Protein_ID capture.output fitMetric meltcurve_plot
  minMetric temperature testHypothesis
Consider adding
  importFrom("utils", "capture.output")
to your NAMESPACE file.
* checking Rd files ... OK
* checking Rd metadata ... OK
* checking Rd cross-references ... OK
* checking for missing documentation entries ... OK
* checking for code/documentation mismatches ... OK
* checking Rd \usage sections ... OK
* checking Rd contents ... OK
* checking for unstated dependencies in examples ... OK
* checking contents of 'data' directory ... OK
* checking data for non-ASCII characters ... OK
* checking data for ASCII and uncompressed saves ... OK
* checking sizes of PDF files under 'inst/doc' ... OK
* checking files in 'vignettes' ... OK
* checking examples ... OK
Examples with CPU (user + system) or elapsed time > 5s
                                user system elapsed
analyzeTPPTR                   32.80   0.55   33.34
tpp2dCreateDRplots             10.74   0.13   10.86
tppQCPlotsCorrelateExperiments 10.19   0.17   10.36
tpptrSplineFitAndTest           8.45   0.20   20.08
tpp2dSplineFitAndTest           7.20   0.10   11.62
analyze2DTPP                    4.86   0.16    5.02
tpptrPlotSplines                3.97   0.08   11.00
tpptrFTest                      3.97   0.05   10.59
* checking for unstated dependencies in 'tests' ... OK
* checking tests ...
  Running 'testthat.R'
 OK
* checking for unstated dependencies in vignettes ... OK
* checking package vignettes in 'inst/doc' ... OK
* checking running R code from vignettes ... SKIPPED
* checking re-building of vignette outputs ... SKIPPED
* checking PDF version of manual ... OK
* DONE

Status: 3 NOTEs
See
  'F:/biocbuild/bbs-3.17-bioc-rtools43/meat/TPP.Rcheck/00check.log'
for details.



Installation output

TPP.Rcheck/00install.out

##############################################################################
##############################################################################
###
### Running command:
###
###   F:\biocbuild\bbs-3.17-bioc\R\bin\R.exe CMD INSTALL TPP
###
##############################################################################
##############################################################################


* installing to library 'F:/biocbuild/bbs-3.17-bioc/R/library'
* installing *source* package 'TPP' ...
** using staged installation
** R
** data
** inst
** byte-compile and prepare package for lazy loading
** help
*** installing help indices
** building package indices
** installing vignettes
** testing if installed package can be loaded from temporary location
** testing if installed package can be loaded from final location
** testing if installed package keeps a record of temporary installation path
* DONE (TPP)

Tests output

TPP.Rcheck/tests/testthat.Rout


R Under development (unstable) (2022-12-25 r83502 ucrt) -- "Unsuffered Consequences"
Copyright (C) 2022 The R Foundation for Statistical Computing
Platform: x86_64-w64-mingw32/x64 (64-bit)

R is free software and comes with ABSOLUTELY NO WARRANTY.
You are welcome to redistribute it under certain conditions.
Type 'license()' or 'licence()' for distribution details.

R is a collaborative project with many contributors.
Type 'contributors()' for more information and
'citation()' on how to cite R or R packages in publications.

Type 'demo()' for some demos, 'help()' for on-line help, or
'help.start()' for an HTML browser interface to help.
Type 'q()' to quit R.

> library(testthat)
> library(TPP)
Loading required package: Biobase
Loading required package: BiocGenerics

Attaching package: 'BiocGenerics'

The following objects are masked from 'package:stats':

    IQR, mad, sd, var, xtabs

The following objects are masked from 'package:base':

    Filter, Find, Map, Position, Reduce, anyDuplicated, aperm, append,
    as.data.frame, basename, cbind, colnames, dirname, do.call,
    duplicated, eval, evalq, get, grep, grepl, intersect, is.unsorted,
    lapply, mapply, match, mget, order, paste, pmax, pmax.int, pmin,
    pmin.int, rank, rbind, rownames, sapply, setdiff, sort, table,
    tapply, union, unique, unsplit, which.max, which.min

Welcome to Bioconductor

    Vignettes contain introductory material; view with
    'browseVignettes()'. To cite Bioconductor, see
    'citation("Biobase")', and for packages 'citation("pkgname")'.

Loading required package: dplyr

Attaching package: 'dplyr'

The following object is masked from 'package:Biobase':

    combine

The following objects are masked from 'package:BiocGenerics':

    combine, intersect, setdiff, union

The following object is masked from 'package:testthat':

    matches

The following objects are masked from 'package:stats':

    filter, lag

The following objects are masked from 'package:base':

    intersect, setdiff, setequal, union

Loading required package: magrittr

Attaching package: 'magrittr'

The following objects are masked from 'package:testthat':

    equals, is_less_than, not

Loading required package: tidyr

Attaching package: 'tidyr'

The following object is masked from 'package:magrittr':

    extract

The following object is masked from 'package:testthat':

    matches

> 
> test_check("TPP")
[[1]]

[[2]]

[[3]]

[[1]]

[[2]]

[[3]]

[[1]]

[[2]]

[[3]]

[[1]]

[[2]]

[[3]]

[[1]]

[[2]]

[[3]]

[[1]]

[ FAIL 0 | WARN 4 | SKIP 0 | PASS 300 ]

[ FAIL 0 | WARN 4 | SKIP 0 | PASS 300 ]
> 
> proc.time()
   user  system elapsed 
 153.60    6.28  345.89 

Example timings

TPP.Rcheck/TPP-Ex.timings

nameusersystemelapsed
analyze2DTPP4.860.165.02
analyzeTPPCCR2.780.012.80
analyzeTPPTR32.80 0.5533.34
tpp2dAddAdditionalInfo0.030.000.03
tpp2dCalcFractAbundance1.690.141.83
tpp2dComputeFoldChanges0.400.010.42
tpp2dCreateDRplots10.74 0.1310.86
tpp2dCurveFit4.560.124.69
tpp2dExport0.030.000.31
tpp2dImport0.380.050.42
tpp2dMerge2dRef4.870.135.00
tpp2dNormalize0.500.010.52
tpp2dSplineFitAndTest 7.20 0.1011.62
tpp2dSplinePlot000
tpp2dTRReferenceObject0.020.000.02
tppDefaultTheme0.340.010.36
tppExport0.270.030.50
tppQCPlotsCorrelateExperiments10.19 0.1710.36
tppccrCurveFit2.680.022.70
tppccrImport0.100.000.09
tppccrNormalize0.090.000.10
tppccrNormalizeToReference0.130.000.13
tppccrPlotCurves4.680.024.70
tppccrResultTable2.710.042.75
tppccrTransform0.110.000.11
tpptrAnalyzeMeltingCurves0.280.010.29
tpptrCurveFit0.700.000.71
tpptrDefaultNormReqs0.450.000.45
tpptrFTest 3.97 0.0510.59
tpptrFitSplines0.830.023.54
tpptrImport0.190.010.20
tpptrNormalize0.360.000.36
tpptrPlotSplines 3.97 0.0811.00
tpptrSplineFitAndTest 8.45 0.2020.08
tpptrTidyUpESets0.390.000.39