| Back to Build/check report for BioC 3.17 |
|
This page was generated on 2023-01-02 09:00:53 -0500 (Mon, 02 Jan 2023).
| Hostname | OS | Arch (*) | R version | Installed pkgs |
|---|---|---|---|---|
| palomino5 | Windows Server 2022 Datacenter | x64 | R Under development (unstable) (2022-12-25 r83502 ucrt) -- "Unsuffered Consequences" | 4165 |
| Click on any hostname to see more info about the system (e.g. compilers) (*) as reported by 'uname -p', except on Windows and Mac OS X | ||||
|
To the developers/maintainers of the SynExtend package: Make sure to use the following settings in order to reproduce any error or warning you see on this page. |
| Package 1991/2158 | Hostname | OS / Arch | INSTALL | BUILD | CHECK | BUILD BIN | ||||||||
| SynExtend 1.11.4 (landing page) Nicholas Cooley
| palomino5 | Windows Server 2022 Datacenter / x64 | OK | OK | OK | OK | ||||||||
| Package: SynExtend |
| Version: 1.11.4 |
| Command: F:\biocbuild\bbs-3.17-bioc\R\bin\R.exe CMD check --no-multiarch --install=check:SynExtend.install-out.txt --library=F:\biocbuild\bbs-3.17-bioc\R\library --no-vignettes --timings SynExtend_1.11.4.tar.gz |
| StartedAt: 2022-12-29 04:05:12 -0500 (Thu, 29 Dec 2022) |
| EndedAt: 2022-12-29 04:07:43 -0500 (Thu, 29 Dec 2022) |
| EllapsedTime: 150.6 seconds |
| RetCode: 0 |
| Status: OK |
| CheckDir: SynExtend.Rcheck |
| Warnings: 0 |
##############################################################################
##############################################################################
###
### Running command:
###
### F:\biocbuild\bbs-3.17-bioc\R\bin\R.exe CMD check --no-multiarch --install=check:SynExtend.install-out.txt --library=F:\biocbuild\bbs-3.17-bioc\R\library --no-vignettes --timings SynExtend_1.11.4.tar.gz
###
##############################################################################
##############################################################################
* using log directory 'F:/biocbuild/bbs-3.17-bioc-rtools43/meat/SynExtend.Rcheck'
* using R Under development (unstable) (2022-12-25 r83502 ucrt)
* using platform: x86_64-w64-mingw32 (64-bit)
* R was compiled by
gcc.exe (GCC) 10.4.0
GNU Fortran (GCC) 10.4.0
* running under: Windows Server x64 (build 20348)
* using session charset: UTF-8
* using option '--no-vignettes'
* checking for file 'SynExtend/DESCRIPTION' ... OK
* checking extension type ... Package
* this is package 'SynExtend' version '1.11.4'
* package encoding: UTF-8
* checking package namespace information ... OK
* checking package dependencies ... OK
* checking if this is a source package ... OK
* checking if there is a namespace ... OK
* checking for hidden files and directories ... OK
* checking for portable file names ... OK
* checking whether package 'SynExtend' can be installed ... OK
* used C compiler: 'gcc.exe (GCC) 12.2.0'
* checking installed package size ... OK
* checking package directory ... OK
* checking 'build' directory ... OK
* checking DESCRIPTION meta-information ... OK
* checking top-level files ... OK
* checking for left-over files ... OK
* checking index information ... OK
* checking package subdirectories ... OK
* checking R files for non-ASCII characters ... OK
* checking R files for syntax errors ... OK
* checking whether the package can be loaded ... OK
* checking whether the package can be loaded with stated dependencies ... OK
* checking whether the package can be unloaded cleanly ... OK
* checking whether the namespace can be loaded with stated dependencies ... OK
* checking whether the namespace can be unloaded cleanly ... OK
* checking dependencies in R code ... OK
* checking S3 generic/method consistency ... OK
* checking replacement functions ... OK
* checking foreign function calls ... OK
* checking R code for possible problems ... OK
* checking Rd files ... OK
* checking Rd metadata ... OK
* checking Rd cross-references ... OK
* checking for missing documentation entries ... OK
* checking for code/documentation mismatches ... OK
* checking Rd \usage sections ... OK
* checking Rd contents ... OK
* checking for unstated dependencies in examples ... OK
* checking contents of 'data' directory ... OK
* checking data for non-ASCII characters ... OK
* checking data for ASCII and uncompressed saves ... OK
* checking line endings in C/C++/Fortran sources/headers ... OK
* checking compiled code ... NOTE
Note: information on .o files for x64 is not available
File 'F:/biocbuild/bbs-3.17-bioc/R/library/SynExtend/libs/x64/SynExtend.dll':
Found 'abort', possibly from 'abort' (C), 'runtime' (Fortran)
Compiled code should not call entry points which might terminate R nor
write to stdout/stderr instead of to the console, nor use Fortran I/O
nor system RNGs nor [v]sprintf. The detected symbols are linked into
the code but might come from libraries and not actually be called.
See 'Writing portable packages' in the 'Writing R Extensions' manual.
* checking sizes of PDF files under 'inst/doc' ... OK
* checking files in 'vignettes' ... OK
* checking examples ... OK
Examples with CPU (user + system) or elapsed time > 5s
user system elapsed
BlockExpansion 9.39 1.48 10.91
predict.ProtWeaver 9.41 0.61 14.11
BuiltInEnsembles 8.82 0.61 13.25
* checking for unstated dependencies in vignettes ... OK
* checking package vignettes in 'inst/doc' ... OK
* checking running R code from vignettes ... SKIPPED
* checking re-building of vignette outputs ... SKIPPED
* checking PDF version of manual ... OK
* DONE
Status: 1 NOTE
See
'F:/biocbuild/bbs-3.17-bioc-rtools43/meat/SynExtend.Rcheck/00check.log'
for details.
SynExtend.Rcheck/00install.out
############################################################################## ############################################################################## ### ### Running command: ### ### F:\biocbuild\bbs-3.17-bioc\R\bin\R.exe CMD INSTALL SynExtend ### ############################################################################## ############################################################################## * installing to library 'F:/biocbuild/bbs-3.17-bioc/R/library' * installing *source* package 'SynExtend' ... ** using staged installation ** libs using C compiler: 'gcc.exe (GCC) 12.2.0' gcc -I"F:/biocbuild/bbs-3.17-bioc/R/include" -DNDEBUG -I"c:/rtools42/x86_64-w64-mingw32.static.posix/include" -O2 -Wall -std=gnu99 -mfpmath=sse -msse2 -mstackrealign -c CDend.c -o CDend.o gcc -I"F:/biocbuild/bbs-3.17-bioc/R/include" -DNDEBUG -I"c:/rtools42/x86_64-w64-mingw32.static.posix/include" -O2 -Wall -std=gnu99 -mfpmath=sse -msse2 -mstackrealign -c CShuffle.c -o CShuffle.o gcc -I"F:/biocbuild/bbs-3.17-bioc/R/include" -DNDEBUG -I"c:/rtools42/x86_64-w64-mingw32.static.posix/include" -O2 -Wall -std=gnu99 -mfpmath=sse -msse2 -mstackrealign -c R_init_synextend.c -o R_init_synextend.o gcc -I"F:/biocbuild/bbs-3.17-bioc/R/include" -DNDEBUG -I"c:/rtools42/x86_64-w64-mingw32.static.posix/include" -O2 -Wall -std=gnu99 -mfpmath=sse -msse2 -mstackrealign -c SEutils.c -o SEutils.o gcc -I"F:/biocbuild/bbs-3.17-bioc/R/include" -DNDEBUG -I"c:/rtools42/x86_64-w64-mingw32.static.posix/include" -O2 -Wall -std=gnu99 -mfpmath=sse -msse2 -mstackrealign -c XORRand.c -o XORRand.o gcc -I"F:/biocbuild/bbs-3.17-bioc/R/include" -DNDEBUG -I"c:/rtools42/x86_64-w64-mingw32.static.posix/include" -O2 -Wall -std=gnu99 -mfpmath=sse -msse2 -mstackrealign -c calcMIR2C.c -o calcMIR2C.o gcc -shared -s -static-libgcc -o SynExtend.dll tmp.def CDend.o CShuffle.o R_init_synextend.o SEutils.o XORRand.o calcMIR2C.o -Lc:/rtools42/x86_64-w64-mingw32.static.posix/lib/x64 -Lc:/rtools42/x86_64-w64-mingw32.static.posix/lib -LF:/biocbuild/bbs-3.17-bioc/R/bin/x64 -lR installing to F:/biocbuild/bbs-3.17-bioc/R/library/00LOCK-SynExtend/00new/SynExtend/libs/x64 ** R ** data ** inst ** byte-compile and prepare package for lazy loading ** help *** installing help indices ** building package indices ** installing vignettes ** testing if installed package can be loaded from temporary location ** testing if installed package can be loaded from final location ** testing if installed package keeps a record of temporary installation path * DONE (SynExtend)
SynExtend.Rcheck/SynExtend-Ex.timings
| name | user | system | elapsed | |
| BlastSeqs | 0 | 0 | 0 | |
| BlockExpansion | 9.39 | 1.48 | 10.91 | |
| BlockReconciliation | 0.09 | 0.02 | 0.11 | |
| BuiltInEnsembles | 8.82 | 0.61 | 13.25 | |
| DPhyloStatistic | 0.03 | 0.00 | 0.03 | |
| DisjointSet | 0.03 | 0.00 | 0.03 | |
| Endosymbionts_GeneCalls | 0 | 0 | 0 | |
| Endosymbionts_LinkedFeatures | 0 | 0 | 0 | |
| Endosymbionts_Pairs01 | 0 | 0 | 0 | |
| Endosymbionts_Pairs02 | 0.02 | 0.00 | 0.01 | |
| Endosymbionts_Pairs03 | 0.00 | 0.01 | 0.02 | |
| Endosymbionts_Sets | 0 | 0 | 0 | |
| Endosymbionts_Synteny | 0 | 0 | 0 | |
| EstimRearrScen | 1.17 | 0.00 | 1.17 | |
| ExampleStreptomycesData | 0.89 | 0.02 | 0.90 | |
| ExtractBy | 0.17 | 0.01 | 0.19 | |
| FindSets | 0 | 0 | 0 | |
| Generic | 0 | 0 | 0 | |
| NucleotideOverlap | 0.21 | 0.00 | 0.21 | |
| PairSummaries | 1.61 | 0.00 | 1.61 | |
| PhyloDistance-GRF | 0 | 0 | 0 | |
| PhyloDistance-JRF | 0 | 0 | 0 | |
| PhyloDistance-KF | 0 | 0 | 0 | |
| PhyloDistance-RF | 0.02 | 0.00 | 0.02 | |
| PhyloDistance | 0 | 0 | 0 | |
| ProtWeaver | 0 | 0 | 0 | |
| ProtWeb | 0.31 | 0.05 | 0.36 | |
| SelectByK | 0.14 | 0.00 | 0.14 | |
| SequenceSimilarity | 0.10 | 0.00 | 0.11 | |
| SubSetPairs | 0.06 | 0.00 | 0.06 | |
| SuperTree | 1.78 | 0.41 | 2.19 | |
| SuperTreeEx | 0.06 | 0.00 | 0.06 | |
| gffToDataFrame | 4.50 | 0.03 | 4.53 | |
| plot.ProtWeb | 1.17 | 0.03 | 1.20 | |
| predict.ProtWeaver | 9.41 | 0.61 | 14.11 | |
| simMat | 0.01 | 0.00 | 0.01 | |