| Back to Build/check report for BioC 3.17 |
|
This page was generated on 2023-01-02 09:00:51 -0500 (Mon, 02 Jan 2023).
| Hostname | OS | Arch (*) | R version | Installed pkgs |
|---|---|---|---|---|
| palomino5 | Windows Server 2022 Datacenter | x64 | R Under development (unstable) (2022-12-25 r83502 ucrt) -- "Unsuffered Consequences" | 4165 |
| Click on any hostname to see more info about the system (e.g. compilers) (*) as reported by 'uname -p', except on Windows and Mac OS X | ||||
|
To the developers/maintainers of the SMAP package: Make sure to use the following settings in order to reproduce any error or warning you see on this page. |
| Package 1883/2158 | Hostname | OS / Arch | INSTALL | BUILD | CHECK | BUILD BIN | ||||||||
| SMAP 1.63.0 (landing page) Robin Andersson
| palomino5 | Windows Server 2022 Datacenter / x64 | OK | OK | OK | OK | ||||||||
| Package: SMAP |
| Version: 1.63.0 |
| Command: rm -rf SMAP.buildbin-libdir && mkdir SMAP.buildbin-libdir && F:\biocbuild\bbs-3.17-bioc\R\bin\R.exe CMD INSTALL --build --library=SMAP.buildbin-libdir SMAP_1.63.0.tar.gz |
| StartedAt: 2022-12-29 05:46:49 -0500 (Thu, 29 Dec 2022) |
| EndedAt: 2022-12-29 05:47:01 -0500 (Thu, 29 Dec 2022) |
| EllapsedTime: 12.8 seconds |
| RetCode: 0 |
| Status: OK |
| PackageFile: SMAP_1.63.0.zip |
| PackageFileSize: 4.484 MiB |
##############################################################################
##############################################################################
###
### Running command:
###
### rm -rf SMAP.buildbin-libdir && mkdir SMAP.buildbin-libdir && F:\biocbuild\bbs-3.17-bioc\R\bin\R.exe CMD INSTALL --build --library=SMAP.buildbin-libdir SMAP_1.63.0.tar.gz
###
##############################################################################
##############################################################################
* installing *source* package 'SMAP' ...
** using staged installation
** libs
using C compiler: 'gcc.exe (GCC) 12.2.0'
gcc -I"F:/biocbuild/bbs-3.17-bioc/R/include" -DNDEBUG -I"c:/rtools42/x86_64-w64-mingw32.static.posix/include" -O2 -Wall -std=gnu99 -mfpmath=sse -msse2 -mstackrealign -c gradient.c -o gradient.o
gradient.c: In function 'prior_gradient':
gradient.c:142:21: warning: variable 'lower' set but not used [-Wunused-but-set-variable]
142 | int lower;
| ^~~~~
gradient.c: In function 'hmm_update':
gradient.c:247:24: warning: unused variable 'tmp' [-Wunused-variable]
247 | double tmp;
| ^~~
gcc -I"F:/biocbuild/bbs-3.17-bioc/R/include" -DNDEBUG -I"c:/rtools42/x86_64-w64-mingw32.static.posix/include" -O2 -Wall -std=gnu99 -mfpmath=sse -msse2 -mstackrealign -c init.c -o init.o
gcc -I"F:/biocbuild/bbs-3.17-bioc/R/include" -DNDEBUG -I"c:/rtools42/x86_64-w64-mingw32.static.posix/include" -O2 -Wall -std=gnu99 -mfpmath=sse -msse2 -mstackrealign -c overlap.c -o overlap.o
gcc -I"F:/biocbuild/bbs-3.17-bioc/R/include" -DNDEBUG -I"c:/rtools42/x86_64-w64-mingw32.static.posix/include" -O2 -Wall -std=gnu99 -mfpmath=sse -msse2 -mstackrealign -c prob.c -o prob.o
gcc -I"F:/biocbuild/bbs-3.17-bioc/R/include" -DNDEBUG -I"c:/rtools42/x86_64-w64-mingw32.static.posix/include" -O2 -Wall -std=gnu99 -mfpmath=sse -msse2 -mstackrealign -c viterbi.c -o viterbi.o
viterbi.c: In function 'viterbi':
viterbi.c:136:32: warning: '*delta[<unknown>][0]' may be used uninitialized [-Wmaybe-uninitialized]
136 | *P = delta[T-1][Q[T-1]];
| ~~~~~~~~~~^~~~~~~~
gcc -shared -s -static-libgcc -o SMAP.dll tmp.def gradient.o init.o overlap.o prob.o viterbi.o -Lc:/rtools42/x86_64-w64-mingw32.static.posix/lib/x64 -Lc:/rtools42/x86_64-w64-mingw32.static.posix/lib -LF:/biocbuild/bbs-3.17-bioc/R/bin/x64 -lR
installing to F:/biocbuild/bbs-3.17-bioc-rtools43/meat/SMAP.buildbin-libdir/00LOCK-SMAP/00new/SMAP/libs/x64
** R
** data
** inst
** byte-compile and prepare package for lazy loading
** help
*** installing help indices
** building package indices
** installing vignettes
** testing if installed package can be loaded from temporary location
** testing if installed package can be loaded from final location
** testing if installed package keeps a record of temporary installation path
* MD5 sums
packaged installation of 'SMAP' as SMAP_1.63.0.zip
* DONE (SMAP)