| Back to Build/check report for BioC 3.17 |
|
This page was generated on 2023-01-02 09:00:47 -0500 (Mon, 02 Jan 2023).
| Hostname | OS | Arch (*) | R version | Installed pkgs |
|---|---|---|---|---|
| palomino5 | Windows Server 2022 Datacenter | x64 | R Under development (unstable) (2022-12-25 r83502 ucrt) -- "Unsuffered Consequences" | 4165 |
| Click on any hostname to see more info about the system (e.g. compilers) (*) as reported by 'uname -p', except on Windows and Mac OS X | ||||
|
To the developers/maintainers of the Rhdf5lib package: Make sure to use the following settings in order to reproduce any error or warning you see on this page. |
| Package 1656/2158 | Hostname | OS / Arch | INSTALL | BUILD | CHECK | BUILD BIN | ||||||||
| Rhdf5lib 1.21.0 (landing page) Mike Smith
| palomino5 | Windows Server 2022 Datacenter / x64 | OK | OK | OK | OK | ||||||||
| Package: Rhdf5lib |
| Version: 1.21.0 |
| Command: chmod a+r Rhdf5lib -R && F:\biocbuild\bbs-3.17-bioc\R\bin\R.exe CMD build --keep-empty-dirs --no-resave-data Rhdf5lib |
| StartedAt: 2022-12-28 20:09:18 -0500 (Wed, 28 Dec 2022) |
| EndedAt: 2022-12-28 20:09:33 -0500 (Wed, 28 Dec 2022) |
| EllapsedTime: 14.4 seconds |
| RetCode: 0 |
| Status: OK |
| PackageFile: Rhdf5lib_1.21.0.tar.gz |
| PackageFileSize: 13.97 MiB |
############################################################################## ############################################################################## ### ### Running command: ### ### chmod a+r Rhdf5lib -R && F:\biocbuild\bbs-3.17-bioc\R\bin\R.exe CMD build --keep-empty-dirs --no-resave-data Rhdf5lib ### ############################################################################## ############################################################################## * checking for file 'Rhdf5lib/DESCRIPTION' ... OK * preparing 'Rhdf5lib': * checking DESCRIPTION meta-information ... OK * cleaning src * running 'cleanup.win' * installing the package to build vignettes * creating vignettes ... OK * cleaning src * running 'cleanup.win' * checking for LF line-endings in source and make files and shell scripts * checking for empty or unneeded directories * building 'Rhdf5lib_1.21.0.tar.gz' Warning: file 'Rhdf5lib/cleanup' did not have execute permissions: corrected Warning: file 'Rhdf5lib/configure' did not have execute permissions: corrected