| Back to Build/check report for BioC 3.17 |
|
This page was generated on 2023-01-02 09:00:48 -0500 (Mon, 02 Jan 2023).
| Hostname | OS | Arch (*) | R version | Installed pkgs |
|---|---|---|---|---|
| palomino5 | Windows Server 2022 Datacenter | x64 | R Under development (unstable) (2022-12-25 r83502 ucrt) -- "Unsuffered Consequences" | 4165 |
| Click on any hostname to see more info about the system (e.g. compilers) (*) as reported by 'uname -p', except on Windows and Mac OS X | ||||
|
To the developers/maintainers of the RTCGAToolbox package: Make sure to use the following settings in order to reproduce any error or warning you see on this page. |
| Package 1724/2158 | Hostname | OS / Arch | INSTALL | BUILD | CHECK | BUILD BIN | ||||||||
| RTCGAToolbox 2.29.0 (landing page) Marcel Ramos
| palomino5 | Windows Server 2022 Datacenter / x64 | OK | OK | OK | OK | ||||||||
| Package: RTCGAToolbox |
| Version: 2.29.0 |
| Command: F:\biocbuild\bbs-3.17-bioc\R\bin\R.exe CMD check --no-multiarch --install=check:RTCGAToolbox.install-out.txt --library=F:\biocbuild\bbs-3.17-bioc\R\library --no-vignettes --timings RTCGAToolbox_2.29.0.tar.gz |
| StartedAt: 2022-12-29 03:06:12 -0500 (Thu, 29 Dec 2022) |
| EndedAt: 2022-12-29 03:08:52 -0500 (Thu, 29 Dec 2022) |
| EllapsedTime: 160.6 seconds |
| RetCode: 0 |
| Status: OK |
| CheckDir: RTCGAToolbox.Rcheck |
| Warnings: 0 |
##############################################################################
##############################################################################
###
### Running command:
###
### F:\biocbuild\bbs-3.17-bioc\R\bin\R.exe CMD check --no-multiarch --install=check:RTCGAToolbox.install-out.txt --library=F:\biocbuild\bbs-3.17-bioc\R\library --no-vignettes --timings RTCGAToolbox_2.29.0.tar.gz
###
##############################################################################
##############################################################################
* using log directory 'F:/biocbuild/bbs-3.17-bioc-rtools43/meat/RTCGAToolbox.Rcheck'
* using R Under development (unstable) (2022-12-25 r83502 ucrt)
* using platform: x86_64-w64-mingw32 (64-bit)
* R was compiled by
gcc.exe (GCC) 10.4.0
GNU Fortran (GCC) 10.4.0
* running under: Windows Server x64 (build 20348)
* using session charset: UTF-8
* using option '--no-vignettes'
* checking for file 'RTCGAToolbox/DESCRIPTION' ... OK
* checking extension type ... Package
* this is package 'RTCGAToolbox' version '2.29.0'
* package encoding: UTF-8
* checking package namespace information ... OK
* checking package dependencies ... OK
* checking if this is a source package ... OK
* checking if there is a namespace ... OK
* checking for hidden files and directories ... OK
* checking for portable file names ... OK
* checking whether package 'RTCGAToolbox' can be installed ... OK
* checking installed package size ... OK
* checking package directory ... OK
* checking 'build' directory ... OK
* checking DESCRIPTION meta-information ... OK
* checking top-level files ... OK
* checking for left-over files ... OK
* checking index information ... OK
* checking package subdirectories ... OK
* checking R files for non-ASCII characters ... OK
* checking R files for syntax errors ... OK
* checking whether the package can be loaded ... OK
* checking whether the package can be loaded with stated dependencies ... OK
* checking whether the package can be unloaded cleanly ... OK
* checking whether the namespace can be loaded with stated dependencies ... OK
* checking whether the namespace can be unloaded cleanly ... OK
* checking dependencies in R code ... OK
* checking S3 generic/method consistency ... OK
* checking replacement functions ... OK
* checking foreign function calls ... OK
* checking R code for possible problems ... OK
* checking Rd files ... OK
* checking Rd metadata ... OK
* checking Rd cross-references ... OK
* checking for missing documentation entries ... OK
* checking for code/documentation mismatches ... OK
* checking Rd \usage sections ... OK
* checking Rd contents ... OK
* checking for unstated dependencies in examples ... OK
* checking contents of 'data' directory ... OK
* checking data for non-ASCII characters ... OK
* checking data for ASCII and uncompressed saves ... OK
* checking files in 'vignettes' ... OK
* checking examples ... OK
Examples with CPU (user + system) or elapsed time > 5s
user system elapsed
biocExtract 5.38 0.31 5.75
makeSummarizedExperimentFromGISTIC 2.29 0.33 8.25
* checking for unstated dependencies in vignettes ... OK
* checking package vignettes in 'inst/doc' ... OK
* checking running R code from vignettes ... SKIPPED
* checking re-building of vignette outputs ... SKIPPED
* checking PDF version of manual ... OK
* DONE
Status: OK
RTCGAToolbox.Rcheck/00install.out
############################################################################## ############################################################################## ### ### Running command: ### ### F:\biocbuild\bbs-3.17-bioc\R\bin\R.exe CMD INSTALL RTCGAToolbox ### ############################################################################## ############################################################################## * installing to library 'F:/biocbuild/bbs-3.17-bioc/R/library' * installing *source* package 'RTCGAToolbox' ... ** using staged installation ** R ** data ** inst ** byte-compile and prepare package for lazy loading ** help *** installing help indices ** building package indices ** installing vignettes ** testing if installed package can be loaded from temporary location ** testing if installed package can be loaded from final location ** testing if installed package keeps a record of temporary installation path * DONE (RTCGAToolbox)
RTCGAToolbox.Rcheck/RTCGAToolbox-Ex.timings
| name | user | system | elapsed | |
| biocExtract | 5.38 | 0.31 | 5.75 | |
| getBroadSubtypes | 0.08 | 0.03 | 0.36 | |
| getCNGECorrelation | 0.04 | 0.00 | 0.04 | |
| getData | 0.05 | 0.02 | 0.07 | |
| getDiffExpressedGenes | 0.00 | 0.03 | 0.03 | |
| getFirehoseAnalyzeDates | 0 | 0 | 0 | |
| getFirehoseData | 0.01 | 0.02 | 0.04 | |
| getFirehoseDatasets | 0 | 0 | 0 | |
| getFirehoseRunningDates | 0 | 0 | 0 | |
| getGISTICPeaks | 3.67 | 0.14 | 4.15 | |
| getMutationRate | 0.00 | 0.03 | 0.03 | |
| getReport | 2.62 | 0.19 | 2.84 | |
| getSurvival | 0.02 | 0.01 | 0.03 | |
| makeSummarizedExperimentFromGISTIC | 2.29 | 0.33 | 8.25 | |
| showResults-CorResult | 0.02 | 0.02 | 0.03 | |
| showResults-DGEResult | 0.02 | 0.01 | 0.03 | |
| showResults | 0.02 | 0.03 | 0.04 | |