Back to Build/check report for BioC 3.17
ABCDEFGHIJKLMNOPQ[R]STUVWXYZ

This page was generated on 2023-01-02 09:00:48 -0500 (Mon, 02 Jan 2023).

HostnameOSArch (*)R versionInstalled pkgs
palomino5Windows Server 2022 Datacenterx64R Under development (unstable) (2022-12-25 r83502 ucrt) -- "Unsuffered Consequences" 4165
Click on any hostname to see more info about the system (e.g. compilers)      (*) as reported by 'uname -p', except on Windows and Mac OS X

CHECK results for RTCGA on palomino5


To the developers/maintainers of the RTCGA package:
Make sure to use the following settings in order to reproduce any error or warning you see on this page.

raw results

Package 1723/2158HostnameOS / ArchINSTALLBUILDCHECKBUILD BIN
RTCGA 1.29.0  (landing page)
Marcin Kosinski
Snapshot Date: 2022-12-28 11:00:06 -0500 (Wed, 28 Dec 2022)
git_url: https://git.bioconductor.org/packages/RTCGA
git_branch: master
git_last_commit: 29166a6
git_last_commit_date: 2022-11-01 11:12:11 -0500 (Tue, 01 Nov 2022)
palomino5Windows Server 2022 Datacenter / x64  OK    OK    OK    OK  

Summary

Package: RTCGA
Version: 1.29.0
Command: F:\biocbuild\bbs-3.17-bioc\R\bin\R.exe CMD check --no-multiarch --install=check:RTCGA.install-out.txt --library=F:\biocbuild\bbs-3.17-bioc\R\library --no-vignettes --timings RTCGA_1.29.0.tar.gz
StartedAt: 2022-12-29 03:06:10 -0500 (Thu, 29 Dec 2022)
EndedAt: 2022-12-29 03:08:23 -0500 (Thu, 29 Dec 2022)
EllapsedTime: 132.9 seconds
RetCode: 0
Status:   OK  
CheckDir: RTCGA.Rcheck
Warnings: 0

Command output

##############################################################################
##############################################################################
###
### Running command:
###
###   F:\biocbuild\bbs-3.17-bioc\R\bin\R.exe CMD check --no-multiarch --install=check:RTCGA.install-out.txt --library=F:\biocbuild\bbs-3.17-bioc\R\library --no-vignettes --timings RTCGA_1.29.0.tar.gz
###
##############################################################################
##############################################################################


* using log directory 'F:/biocbuild/bbs-3.17-bioc-rtools43/meat/RTCGA.Rcheck'
* using R Under development (unstable) (2022-12-25 r83502 ucrt)
* using platform: x86_64-w64-mingw32 (64-bit)
* R was compiled by
    gcc.exe (GCC) 10.4.0
    GNU Fortran (GCC) 10.4.0
* running under: Windows Server x64 (build 20348)
* using session charset: UTF-8
* using option '--no-vignettes'
* checking for file 'RTCGA/DESCRIPTION' ... OK
* this is package 'RTCGA' version '1.29.0'
* checking package namespace information ... OK
* checking package dependencies ... OK
* checking if this is a source package ... OK
* checking if there is a namespace ... OK
* checking for hidden files and directories ... OK
* checking for portable file names ... OK
* checking whether package 'RTCGA' can be installed ... OK
* checking installed package size ... OK
* checking package directory ... OK
* checking 'build' directory ... OK
* checking DESCRIPTION meta-information ... OK
* checking top-level files ... OK
* checking for left-over files ... OK
* checking index information ... OK
* checking package subdirectories ... OK
* checking R files for non-ASCII characters ... OK
* checking R files for syntax errors ... OK
* checking whether the package can be loaded ... OK
* checking whether the package can be loaded with stated dependencies ... OK
* checking whether the package can be unloaded cleanly ... OK
* checking whether the namespace can be loaded with stated dependencies ... OK
* checking whether the namespace can be unloaded cleanly ... OK
* checking dependencies in R code ... OK
* checking S3 generic/method consistency ... OK
* checking replacement functions ... OK
* checking foreign function calls ... OK
* checking R code for possible problems ... NOTE
availableDates: no visible binding for global variable '.'
downloadTCGA: no visible binding for global variable '.'
ggbiplot: no visible binding for global variable 'xvar'
ggbiplot: no visible binding for global variable 'yvar'
ggbiplot: no visible global function definition for 'muted'
ggbiplot: no visible binding for global variable 'varname'
ggbiplot: no visible binding for global variable 'angle'
ggbiplot: no visible binding for global variable 'hjust'
read.mutations: no visible binding for global variable '.'
read.rnaseq: no visible binding for global variable '.'
survivalTCGA: no visible binding for global variable 'times'
whichDateToUse: no visible binding for global variable '.'
Undefined global functions or variables:
  . angle hjust muted times varname xvar yvar
* checking Rd files ... OK
* checking Rd metadata ... OK
* checking Rd cross-references ... NOTE
Unknown packages 'RTCGA.rnaseq.20160128', 'RTCGA.clinical.20160128', 'RTCGA.mutations.20160128', 'RTCGA.CNV.20160128', 'RTCGA.RPPA.20160128', 'RTCGA.mRNA.20160128', 'RTCGA.miRNASeq.20160128', 'RTCGA.methylation.20160128' in Rd xrefs
* checking for missing documentation entries ... OK
* checking for code/documentation mismatches ... OK
* checking Rd \usage sections ... OK
* checking Rd contents ... OK
* checking for unstated dependencies in examples ... OK
* checking files in 'vignettes' ... OK
* checking examples ... OK
Examples with CPU (user + system) or elapsed time > 5s
                 user system elapsed
boxplotTCGA     11.46   0.89   12.70
expressionsTCGA 10.12   0.60   11.67
heatmapTCGA      6.34   0.41    6.79
kmTCGA           5.82   0.21    6.44
survivalTCGA     4.97   0.15    5.13
* checking for unstated dependencies in 'tests' ... OK
* checking tests ...
  Running 'testthat.R'
 OK
* checking for unstated dependencies in vignettes ... OK
* checking package vignettes in 'inst/doc' ... OK
* checking running R code from vignettes ... SKIPPED
* checking re-building of vignette outputs ... SKIPPED
* checking PDF version of manual ... OK
* DONE

Status: 2 NOTEs
See
  'F:/biocbuild/bbs-3.17-bioc-rtools43/meat/RTCGA.Rcheck/00check.log'
for details.



Installation output

RTCGA.Rcheck/00install.out

##############################################################################
##############################################################################
###
### Running command:
###
###   F:\biocbuild\bbs-3.17-bioc\R\bin\R.exe CMD INSTALL RTCGA
###
##############################################################################
##############################################################################


* installing to library 'F:/biocbuild/bbs-3.17-bioc/R/library'
* installing *source* package 'RTCGA' ...
** using staged installation
** R
** byte-compile and prepare package for lazy loading
** help
*** installing help indices
** building package indices
** installing vignettes
** testing if installed package can be loaded from temporary location
** testing if installed package can be loaded from final location
** testing if installed package keeps a record of temporary installation path
* DONE (RTCGA)

Tests output

RTCGA.Rcheck/tests/testthat.Rout


R Under development (unstable) (2022-12-25 r83502 ucrt) -- "Unsuffered Consequences"
Copyright (C) 2022 The R Foundation for Statistical Computing
Platform: x86_64-w64-mingw32/x64 (64-bit)

R is free software and comes with ABSOLUTELY NO WARRANTY.
You are welcome to redistribute it under certain conditions.
Type 'license()' or 'licence()' for distribution details.

R is a collaborative project with many contributors.
Type 'contributors()' for more information and
'citation()' on how to cite R or R packages in publications.

Type 'demo()' for some demos, 'help()' for on-line help, or
'help.start()' for an HTML browser interface to help.
Type 'q()' to quit R.

> library(testthat)
> library(RTCGA)
Welcome to the RTCGA (version: 1.29.0). Read more about the project under https://rtcga.github.io/RTCGA/
> library(RTCGA.rnaseq)
> library(Biobase)
Loading required package: BiocGenerics

Attaching package: 'BiocGenerics'

The following objects are masked from 'package:stats':

    IQR, mad, sd, var, xtabs

The following objects are masked from 'package:base':

    Filter, Find, Map, Position, Reduce, anyDuplicated, aperm, append,
    as.data.frame, basename, cbind, colnames, dirname, do.call,
    duplicated, eval, evalq, get, grep, grepl, intersect, is.unsorted,
    lapply, mapply, match, mget, order, paste, pmax, pmax.int, pmin,
    pmin.int, rank, rbind, rownames, sapply, setdiff, sort, table,
    tapply, union, unique, unsplit, which.max, which.min

Welcome to Bioconductor

    Vignettes contain introductory material; view with
    'browseVignettes()'. To cite Bioconductor, see
    'citation("Biobase")', and for packages 'citation("pkgname")'.

> library(GenomicRanges)
Loading required package: stats4
Loading required package: S4Vectors

Attaching package: 'S4Vectors'

The following objects are masked from 'package:base':

    I, expand.grid, unname

Loading required package: IRanges

Attaching package: 'IRanges'

The following object is masked from 'package:grDevices':

    windows

Loading required package: GenomeInfoDb
> #library(RTCGA.CNV)
> #library(RTCGA.PANCAN12)
> 
> test_check("RTCGA")
trying URL 'https://gdac.broadinstitute.org/runs/stddata__2015_06_01/data/ACC/20150601//gdac.broadinstitute.org_ACC.Merge_Clinical.Level_1.2015060100.0.0.tar.gz'
Content type 'application/x-gzip' length 151456 bytes (147 KB)
==================================================
downloaded 147 KB

trying URL 'https://gdac.broadinstitute.org/runs/stddata__2015_06_01/data/ACC/20150601//gdac.broadinstitute.org_ACC.Merge_Clinical.Level_1.2015060100.0.0.tar.gz'
Content type 'application/x-gzip' length 151456 bytes (147 KB)
==================================================
downloaded 147 KB

[ FAIL 0 | WARN 0 | SKIP 0 | PASS 11 ]
> 
> proc.time()
   user  system elapsed 
   8.32    0.62   11.18 

Example timings

RTCGA.Rcheck/RTCGA-Ex.timings

nameusersystemelapsed
RTCGA-package000
boxplotTCGA11.46 0.8912.70
checkTCGA0.130.021.31
convertTCGA1.310.061.37
datasetsTCGA000
downloadTCGA0.020.000.43
expressionsTCGA10.12 0.6011.67
heatmapTCGA6.340.416.79
infoTCGA0.580.030.84
installTCGA000
kmTCGA5.820.216.44
mutationsTCGA2.870.203.07
pcaTCGA000
readTCGA000
survivalTCGA4.970.155.13
theme_RTCGA1.780.001.78