| Back to Build/check report for BioC 3.17 | 
 | 
This page was generated on 2023-01-02 09:00:48 -0500 (Mon, 02 Jan 2023).
| Hostname | OS | Arch (*) | R version | Installed pkgs | 
|---|---|---|---|---|
| palomino5 | Windows Server 2022 Datacenter | x64 | R Under development (unstable) (2022-12-25 r83502 ucrt) -- "Unsuffered Consequences" | 4165 | 
| Click on any hostname to see more info about the system (e.g. compilers) (*) as reported by 'uname -p', except on Windows and Mac OS X | ||||
| To the developers/maintainers of the RSeqAn package: Make sure to use the following settings in order to reproduce any error or warning you see on this page. | 
| Package 1718/2158 | Hostname | OS / Arch | INSTALL | BUILD | CHECK | BUILD BIN | ||||||||
| RSeqAn 1.19.0  (landing page) August Guang 
 | palomino5 | Windows Server 2022 Datacenter / x64 | OK | OK | WARNINGS | OK | ||||||||
| Package: RSeqAn | 
| Version: 1.19.0 | 
| Command: rm -rf RSeqAn.buildbin-libdir && mkdir RSeqAn.buildbin-libdir && F:\biocbuild\bbs-3.17-bioc\R\bin\R.exe CMD INSTALL --build --library=RSeqAn.buildbin-libdir RSeqAn_1.19.0.tar.gz | 
| StartedAt: 2022-12-29 05:40:44 -0500 (Thu, 29 Dec 2022) | 
| EndedAt: 2022-12-29 05:41:00 -0500 (Thu, 29 Dec 2022) | 
| EllapsedTime: 15.4 seconds | 
| RetCode: 0 | 
| Status: OK | 
| PackageFile: RSeqAn_1.19.0.zip | 
| PackageFileSize: 2.507 MiB | 
############################################################################## ############################################################################## ### ### Running command: ### ### rm -rf RSeqAn.buildbin-libdir && mkdir RSeqAn.buildbin-libdir && F:\biocbuild\bbs-3.17-bioc\R\bin\R.exe CMD INSTALL --build --library=RSeqAn.buildbin-libdir RSeqAn_1.19.0.tar.gz ### ############################################################################## ############################################################################## * installing *source* package 'RSeqAn' ... ** using staged installation rm: cannot remove 'src': No such file or directory rm: cannot remove 'man': No such file or directory rm: cannot remove 'R': No such file or directory ** inst ** help No man pages found in package 'RSeqAn' *** installing help indices ** building package indices ** installing vignettes ** testing if installed package can be loaded from temporary location ** testing if installed package can be loaded from final location ** testing if installed package keeps a record of temporary installation path * MD5 sums packaged installation of 'RSeqAn' as RSeqAn_1.19.0.zip * DONE (RSeqAn)