| Back to Build/check report for BioC 3.17 |
|
This page was generated on 2023-01-02 09:00:47 -0500 (Mon, 02 Jan 2023).
| Hostname | OS | Arch (*) | R version | Installed pkgs |
|---|---|---|---|---|
| palomino5 | Windows Server 2022 Datacenter | x64 | R Under development (unstable) (2022-12-25 r83502 ucrt) -- "Unsuffered Consequences" | 4165 |
| Click on any hostname to see more info about the system (e.g. compilers) (*) as reported by 'uname -p', except on Windows and Mac OS X | ||||
|
To the developers/maintainers of the RNAinteract package: Make sure to use the following settings in order to reproduce any error or warning you see on this page. |
| Package 1684/2158 | Hostname | OS / Arch | INSTALL | BUILD | CHECK | BUILD BIN | ||||||||
| RNAinteract 1.47.0 (landing page) Mike Smith
| palomino5 | Windows Server 2022 Datacenter / x64 | OK | OK | OK | OK | ||||||||
| Package: RNAinteract |
| Version: 1.47.0 |
| Command: F:\biocbuild\bbs-3.17-bioc\R\bin\R.exe CMD check --no-multiarch --install=check:RNAinteract.install-out.txt --library=F:\biocbuild\bbs-3.17-bioc\R\library --no-vignettes --timings RNAinteract_1.47.0.tar.gz |
| StartedAt: 2022-12-29 02:57:47 -0500 (Thu, 29 Dec 2022) |
| EndedAt: 2022-12-29 03:00:22 -0500 (Thu, 29 Dec 2022) |
| EllapsedTime: 154.9 seconds |
| RetCode: 0 |
| Status: OK |
| CheckDir: RNAinteract.Rcheck |
| Warnings: 0 |
##############################################################################
##############################################################################
###
### Running command:
###
### F:\biocbuild\bbs-3.17-bioc\R\bin\R.exe CMD check --no-multiarch --install=check:RNAinteract.install-out.txt --library=F:\biocbuild\bbs-3.17-bioc\R\library --no-vignettes --timings RNAinteract_1.47.0.tar.gz
###
##############################################################################
##############################################################################
* using log directory 'F:/biocbuild/bbs-3.17-bioc-rtools43/meat/RNAinteract.Rcheck'
* using R Under development (unstable) (2022-12-25 r83502 ucrt)
* using platform: x86_64-w64-mingw32 (64-bit)
* R was compiled by
gcc.exe (GCC) 10.4.0
GNU Fortran (GCC) 10.4.0
* running under: Windows Server x64 (build 20348)
* using session charset: UTF-8
* using option '--no-vignettes'
* checking for file 'RNAinteract/DESCRIPTION' ... OK
* checking extension type ... Package
* this is package 'RNAinteract' version '1.47.0'
* checking package namespace information ... OK
* checking package dependencies ... OK
* checking if this is a source package ... OK
* checking if there is a namespace ... OK
* checking for hidden files and directories ... OK
* checking for portable file names ... OK
* checking whether package 'RNAinteract' can be installed ... OK
* checking installed package size ... OK
* checking package directory ... OK
* checking 'build' directory ... OK
* checking DESCRIPTION meta-information ... OK
* checking top-level files ... OK
* checking for left-over files ... OK
* checking index information ... OK
* checking package subdirectories ... OK
* checking R files for non-ASCII characters ... OK
* checking R files for syntax errors ... OK
* checking whether the package can be loaded ... OK
* checking whether the package can be loaded with stated dependencies ... OK
* checking whether the package can be unloaded cleanly ... OK
* checking whether the namespace can be loaded with stated dependencies ... OK
* checking whether the namespace can be unloaded cleanly ... OK
* checking dependencies in R code ... NOTE
Namespace in Imports field not imported from: 'ICS'
All declared Imports should be used.
* checking S3 generic/method consistency ... OK
* checking replacement functions ... OK
* checking foreign function calls ... OK
* checking R code for possible problems ... OK
* checking Rd files ... OK
* checking Rd metadata ... OK
* checking Rd cross-references ... OK
* checking for missing documentation entries ... OK
* checking for code/documentation mismatches ... OK
* checking Rd \usage sections ... OK
* checking Rd contents ... OK
* checking for unstated dependencies in examples ... OK
* checking contents of 'data' directory ... OK
* checking data for non-ASCII characters ... OK
* checking data for ASCII and uncompressed saves ... OK
* checking sizes of PDF files under 'inst/doc' ... OK
* checking files in 'vignettes' ... OK
* checking examples ... OK
* checking for unstated dependencies in vignettes ... OK
* checking package vignettes in 'inst/doc' ... OK
* checking running R code from vignettes ... SKIPPED
* checking re-building of vignette outputs ... SKIPPED
* checking PDF version of manual ... OK
* DONE
Status: 1 NOTE
See
'F:/biocbuild/bbs-3.17-bioc-rtools43/meat/RNAinteract.Rcheck/00check.log'
for details.
RNAinteract.Rcheck/00install.out
############################################################################## ############################################################################## ### ### Running command: ### ### F:\biocbuild\bbs-3.17-bioc\R\bin\R.exe CMD INSTALL RNAinteract ### ############################################################################## ############################################################################## * installing to library 'F:/biocbuild/bbs-3.17-bioc/R/library' * installing *source* package 'RNAinteract' ... ** using staged installation ** R ** data ** inst ** byte-compile and prepare package for lazy loading ** help *** installing help indices ** building package indices ** installing vignettes ** testing if installed package can be loaded from temporary location ** testing if installed package can be loaded from final location ** testing if installed package keeps a record of temporary installation path * DONE (RNAinteract)
RNAinteract.Rcheck/RNAinteract-Ex.timings
| name | user | system | elapsed | |
| RNAinteract-class | 0 | 0 | 0 | |
| bindsamples | 0.08 | 0.00 | 0.08 | |
| computePI | 0.01 | 0.00 | 0.02 | |
| computePValues | 0.07 | 0.02 | 0.08 | |
| embedPCA | 0.00 | 0.01 | 0.01 | |
| estimateMainEffect | 1.06 | 0.11 | 1.19 | |
| getData | 0.10 | 0.00 | 0.09 | |
| getMain | 0 | 0 | 0 | |
| getReplicateData | 0.02 | 0.00 | 0.02 | |
| getSampleNames | 0 | 0 | 0 | |
| getScale | 0 | 0 | 0 | |
| grid.sgiHeatmap | 0.07 | 0.00 | 0.06 | |
| normalizeMainEffectQuery | 0.04 | 0.00 | 0.05 | |
| normalizeMainEffectTemplate | 0.03 | 0.00 | 0.03 | |
| normalizePlateEffect | 0.77 | 0.08 | 0.84 | |
| plotDoublePerturbation | 0.03 | 0.00 | 0.03 | |
| plotHeatmap | 0.03 | 0.00 | 0.03 | |
| reportAnnotation | 0.02 | 0.00 | 0.02 | |
| sgi | 0.01 | 0.00 | 0.01 | |
| sgisubset | 0 | 0 | 0 | |
| startReport | 0.02 | 0.00 | 0.02 | |
| summarizeSamples | 0.06 | 0.02 | 0.08 | |