| Back to Build/check report for BioC 3.17 |
|
This page was generated on 2023-01-02 09:00:47 -0500 (Mon, 02 Jan 2023).
| Hostname | OS | Arch (*) | R version | Installed pkgs |
|---|---|---|---|---|
| palomino5 | Windows Server 2022 Datacenter | x64 | R Under development (unstable) (2022-12-25 r83502 ucrt) -- "Unsuffered Consequences" | 4165 |
| Click on any hostname to see more info about the system (e.g. compilers) (*) as reported by 'uname -p', except on Windows and Mac OS X | ||||
|
To the developers/maintainers of the RNAAgeCalc package: Make sure to use the following settings in order to reproduce any error or warning you see on this page. |
| Package 1681/2158 | Hostname | OS / Arch | INSTALL | BUILD | CHECK | BUILD BIN | ||||||||
| RNAAgeCalc 1.11.0 (landing page) Xu Ren
| palomino5 | Windows Server 2022 Datacenter / x64 | OK | OK | OK | OK | ||||||||
| Package: RNAAgeCalc |
| Version: 1.11.0 |
| Command: chmod a+r RNAAgeCalc -R && F:\biocbuild\bbs-3.17-bioc\R\bin\R.exe CMD build --keep-empty-dirs --no-resave-data RNAAgeCalc |
| StartedAt: 2022-12-28 20:12:55 -0500 (Wed, 28 Dec 2022) |
| EndedAt: 2022-12-28 20:13:57 -0500 (Wed, 28 Dec 2022) |
| EllapsedTime: 61.9 seconds |
| RetCode: 0 |
| Status: OK |
| PackageFile: RNAAgeCalc_1.11.0.tar.gz |
| PackageFileSize: 3.29 MiB |
############################################################################## ############################################################################## ### ### Running command: ### ### chmod a+r RNAAgeCalc -R && F:\biocbuild\bbs-3.17-bioc\R\bin\R.exe CMD build --keep-empty-dirs --no-resave-data RNAAgeCalc ### ############################################################################## ############################################################################## * checking for file 'RNAAgeCalc/DESCRIPTION' ... OK * preparing 'RNAAgeCalc': * checking DESCRIPTION meta-information ... OK * installing the package to build vignettes * creating vignettes ... OK * checking for LF line-endings in source and make files and shell scripts * checking for empty or unneeded directories * looking to see if a 'data/datalist' file should be added * building 'RNAAgeCalc_1.11.0.tar.gz'