| Back to Build/check report for BioC 3.17 |
|
This page was generated on 2023-01-02 09:00:46 -0500 (Mon, 02 Jan 2023).
| Hostname | OS | Arch (*) | R version | Installed pkgs |
|---|---|---|---|---|
| palomino5 | Windows Server 2022 Datacenter | x64 | R Under development (unstable) (2022-12-25 r83502 ucrt) -- "Unsuffered Consequences" | 4165 |
| Click on any hostname to see more info about the system (e.g. compilers) (*) as reported by 'uname -p', except on Windows and Mac OS X | ||||
|
To the developers/maintainers of the RDRToolbox package: Make sure to use the following settings in order to reproduce any error or warning you see on this page. |
| Package 1607/2158 | Hostname | OS / Arch | INSTALL | BUILD | CHECK | BUILD BIN | ||||||||
| RDRToolbox 1.49.0 (landing page) Christoph Bartenhagen
| palomino5 | Windows Server 2022 Datacenter / x64 | OK | OK | OK | OK | ||||||||
| Package: RDRToolbox |
| Version: 1.49.0 |
| Command: chmod a+r RDRToolbox -R && F:\biocbuild\bbs-3.17-bioc\R\bin\R.exe CMD build --keep-empty-dirs --no-resave-data RDRToolbox |
| StartedAt: 2022-12-28 20:04:26 -0500 (Wed, 28 Dec 2022) |
| EndedAt: 2022-12-28 20:04:46 -0500 (Wed, 28 Dec 2022) |
| EllapsedTime: 19.3 seconds |
| RetCode: 0 |
| Status: OK |
| PackageFile: RDRToolbox_1.49.0.tar.gz |
| PackageFileSize: 191.1 KiB |
############################################################################## ############################################################################## ### ### Running command: ### ### chmod a+r RDRToolbox -R && F:\biocbuild\bbs-3.17-bioc\R\bin\R.exe CMD build --keep-empty-dirs --no-resave-data RDRToolbox ### ############################################################################## ############################################################################## * checking for file 'RDRToolbox/DESCRIPTION' ... OK * preparing 'RDRToolbox': * checking DESCRIPTION meta-information ... OK * installing the package to build vignettes * creating vignettes ... OK * checking for LF line-endings in source and make files and shell scripts * checking for empty or unneeded directories * building 'RDRToolbox_1.49.0.tar.gz'