| Back to Build/check report for BioC 3.17 |
|
This page was generated on 2023-01-02 09:00:45 -0500 (Mon, 02 Jan 2023).
| Hostname | OS | Arch (*) | R version | Installed pkgs |
|---|---|---|---|---|
| palomino5 | Windows Server 2022 Datacenter | x64 | R Under development (unstable) (2022-12-25 r83502 ucrt) -- "Unsuffered Consequences" | 4165 |
| Click on any hostname to see more info about the system (e.g. compilers) (*) as reported by 'uname -p', except on Windows and Mac OS X | ||||
|
To the developers/maintainers of the R3CPET package: Make sure to use the following settings in order to reproduce any error or warning you see on this page. |
| Package 1566/2158 | Hostname | OS / Arch | INSTALL | BUILD | CHECK | BUILD BIN | ||||||||
| R3CPET 1.31.0 (landing page) Mohamed Nadhir Djekidel
| palomino5 | Windows Server 2022 Datacenter / x64 | OK | OK | WARNINGS | OK | ||||||||
| Package: R3CPET |
| Version: 1.31.0 |
| Command: chmod a+r R3CPET -R && F:\biocbuild\bbs-3.17-bioc\R\bin\R.exe CMD build --keep-empty-dirs --no-resave-data R3CPET |
| StartedAt: 2022-12-28 19:58:59 -0500 (Wed, 28 Dec 2022) |
| EndedAt: 2022-12-28 20:01:53 -0500 (Wed, 28 Dec 2022) |
| EllapsedTime: 173.1 seconds |
| RetCode: 0 |
| Status: OK |
| PackageFile: R3CPET_1.31.0.tar.gz |
| PackageFileSize: 5.083 MiB |
##############################################################################
##############################################################################
###
### Running command:
###
### chmod a+r R3CPET -R && F:\biocbuild\bbs-3.17-bioc\R\bin\R.exe CMD build --keep-empty-dirs --no-resave-data R3CPET
###
##############################################################################
##############################################################################
* checking for file 'R3CPET/DESCRIPTION' ... OK
* preparing 'R3CPET':
* checking DESCRIPTION meta-information ... OK
* cleaning src
* installing the package to build vignettes
* creating vignettes ... OK
Warning: 'inst/doc' files
'R3CPET.Rnw', 'R3CPET.pdf', 'R3CPET.R'
ignored as vignettes have been rebuilt.
Run R CMD build with --no-build-vignettes to prevent rebuilding.
* cleaning src
* checking for LF line-endings in source and make files and shell scripts
* checking for empty or unneeded directories
* looking to see if a 'data/datalist' file should be added
* building 'R3CPET_1.31.0.tar.gz'