| Back to Build/check report for BioC 3.17 | 
 | 
This page was generated on 2023-01-02 09:00:43 -0500 (Mon, 02 Jan 2023).
| Hostname | OS | Arch (*) | R version | Installed pkgs | 
|---|---|---|---|---|
| palomino5 | Windows Server 2022 Datacenter | x64 | R Under development (unstable) (2022-12-25 r83502 ucrt) -- "Unsuffered Consequences" | 4165 | 
| Click on any hostname to see more info about the system (e.g. compilers) (*) as reported by 'uname -p', except on Windows and Mac OS X | ||||
| To the developers/maintainers of the PhenStat package: Make sure to use the following settings in order to reproduce any error or warning you see on this page. | 
| Package 1460/2158 | Hostname | OS / Arch | INSTALL | BUILD | CHECK | BUILD BIN | ||||||||
| PhenStat 2.35.0  (landing page) Hamed Haselimashhadi 
 | palomino5 | Windows Server 2022 Datacenter / x64 | OK | OK | OK | OK | ||||||||
| Package: PhenStat | 
| Version: 2.35.0 | 
| Command: chmod a+r PhenStat -R && F:\biocbuild\bbs-3.17-bioc\R\bin\R.exe CMD build --keep-empty-dirs --no-resave-data PhenStat | 
| StartedAt: 2022-12-28 19:44:56 -0500 (Wed, 28 Dec 2022) | 
| EndedAt: 2022-12-28 19:45:44 -0500 (Wed, 28 Dec 2022) | 
| EllapsedTime: 47.7 seconds | 
| RetCode: 0 | 
| Status: OK | 
| PackageFile: PhenStat_2.35.0.tar.gz | 
| PackageFileSize: 682.7 KiB | 
##############################################################################
##############################################################################
###
### Running command:
###
###   chmod a+r PhenStat -R && F:\biocbuild\bbs-3.17-bioc\R\bin\R.exe CMD build --keep-empty-dirs --no-resave-data PhenStat
###
##############################################################################
##############################################################################
* checking for file 'PhenStat/DESCRIPTION' ... OK
* preparing 'PhenStat':
* checking DESCRIPTION meta-information ... OK
* installing the package to build vignettes
* creating vignettes ... OK
Warning: 'inst/doc' files
    'PhenStat.Rnw', 'PhenStat.pdf', 'PhenStat.R'
  ignored as vignettes have been rebuilt.
  Run R CMD build with --no-build-vignettes to prevent rebuilding.
* checking for LF line-endings in source and make files and shell scripts
* checking for empty or unneeded directories
* building 'PhenStat_2.35.0.tar.gz'