| Back to Build/check report for BioC 3.17 |
|
This page was generated on 2023-01-02 09:00:42 -0500 (Mon, 02 Jan 2023).
| Hostname | OS | Arch (*) | R version | Installed pkgs |
|---|---|---|---|---|
| palomino5 | Windows Server 2022 Datacenter | x64 | R Under development (unstable) (2022-12-25 r83502 ucrt) -- "Unsuffered Consequences" | 4165 |
| Click on any hostname to see more info about the system (e.g. compilers) (*) as reported by 'uname -p', except on Windows and Mac OS X | ||||
|
To the developers/maintainers of the PathoStat package: Make sure to use the following settings in order to reproduce any error or warning you see on this page. |
| Package 1428/2158 | Hostname | OS / Arch | INSTALL | BUILD | CHECK | BUILD BIN | ||||||||
| PathoStat 1.25.0 (landing page) Solaiappan Manimaran
| palomino5 | Windows Server 2022 Datacenter / x64 | OK | OK | OK | OK | ||||||||
| Package: PathoStat |
| Version: 1.25.0 |
| Command: F:\biocbuild\bbs-3.17-bioc\R\bin\R.exe CMD check --no-multiarch --install=check:PathoStat.install-out.txt --library=F:\biocbuild\bbs-3.17-bioc\R\library --no-vignettes --timings PathoStat_1.25.0.tar.gz |
| StartedAt: 2022-12-29 02:10:51 -0500 (Thu, 29 Dec 2022) |
| EndedAt: 2022-12-29 02:14:55 -0500 (Thu, 29 Dec 2022) |
| EllapsedTime: 244.0 seconds |
| RetCode: 0 |
| Status: OK |
| CheckDir: PathoStat.Rcheck |
| Warnings: 0 |
##############################################################################
##############################################################################
###
### Running command:
###
### F:\biocbuild\bbs-3.17-bioc\R\bin\R.exe CMD check --no-multiarch --install=check:PathoStat.install-out.txt --library=F:\biocbuild\bbs-3.17-bioc\R\library --no-vignettes --timings PathoStat_1.25.0.tar.gz
###
##############################################################################
##############################################################################
* using log directory 'F:/biocbuild/bbs-3.17-bioc-rtools43/meat/PathoStat.Rcheck'
* using R Under development (unstable) (2022-12-25 r83502 ucrt)
* using platform: x86_64-w64-mingw32 (64-bit)
* R was compiled by
gcc.exe (GCC) 10.4.0
GNU Fortran (GCC) 10.4.0
* running under: Windows Server x64 (build 20348)
* using session charset: UTF-8
* using option '--no-vignettes'
* checking for file 'PathoStat/DESCRIPTION' ... OK
* checking extension type ... Package
* this is package 'PathoStat' version '1.25.0'
* package encoding: UTF-8
* checking package namespace information ... OK
* checking package dependencies ... OK
* checking if this is a source package ... OK
* checking if there is a namespace ... OK
* checking for hidden files and directories ... OK
* checking for portable file names ... OK
* checking whether package 'PathoStat' can be installed ... OK
* checking installed package size ... OK
* checking package directory ... OK
* checking 'build' directory ... OK
* checking DESCRIPTION meta-information ... OK
* checking top-level files ... OK
* checking for left-over files ... OK
* checking index information ... OK
* checking package subdirectories ... OK
* checking R files for non-ASCII characters ... OK
* checking R files for syntax errors ... OK
* checking whether the package can be loaded ... OK
* checking whether the package can be loaded with stated dependencies ... OK
* checking whether the package can be unloaded cleanly ... OK
* checking whether the namespace can be loaded with stated dependencies ... OK
* checking whether the namespace can be unloaded cleanly ... OK
* checking dependencies in R code ... NOTE
Namespaces in Imports field not imported from:
'ComplexHeatmap' 'RColorBrewer'
All declared Imports should be used.
* checking S3 generic/method consistency ... OK
* checking replacement functions ... OK
* checking foreign function calls ... OK
* checking R code for possible problems ... OK
* checking Rd files ... OK
* checking Rd metadata ... OK
* checking Rd cross-references ... OK
* checking for missing documentation entries ... OK
* checking for code/documentation mismatches ... OK
* checking Rd \usage sections ... OK
* checking Rd contents ... OK
* checking for unstated dependencies in examples ... OK
* checking contents of 'data' directory ... OK
* checking data for non-ASCII characters ... OK
* checking data for ASCII and uncompressed saves ... OK
* checking files in 'vignettes' ... OK
* checking examples ... OK
Examples with CPU (user + system) or elapsed time > 5s
user system elapsed
Bootstrap_LOOCV_LR_AUC 8.23 0.11 8.34
getSignatureFromMultipleGlmnet 6.68 0.08 6.75
* checking for unstated dependencies in 'tests' ... OK
* checking tests ...
Running 'testthat.R'
OK
* checking for unstated dependencies in vignettes ... OK
* checking package vignettes in 'inst/doc' ... OK
* checking running R code from vignettes ... SKIPPED
* checking re-building of vignette outputs ... SKIPPED
* checking PDF version of manual ... OK
* DONE
Status: 1 NOTE
See
'F:/biocbuild/bbs-3.17-bioc-rtools43/meat/PathoStat.Rcheck/00check.log'
for details.
PathoStat.Rcheck/00install.out
############################################################################## ############################################################################## ### ### Running command: ### ### F:\biocbuild\bbs-3.17-bioc\R\bin\R.exe CMD INSTALL PathoStat ### ############################################################################## ############################################################################## * installing to library 'F:/biocbuild/bbs-3.17-bioc/R/library' * installing *source* package 'PathoStat' ... ** using staged installation ** R ** data ** inst ** byte-compile and prepare package for lazy loading ** help *** installing help indices ** building package indices ** installing vignettes ** testing if installed package can be loaded from temporary location ** testing if installed package can be loaded from final location ** testing if installed package keeps a record of temporary installation path * DONE (PathoStat)
PathoStat.Rcheck/tests/testthat.Rout
R Under development (unstable) (2022-12-25 r83502 ucrt) -- "Unsuffered Consequences"
Copyright (C) 2022 The R Foundation for Statistical Computing
Platform: x86_64-w64-mingw32/x64 (64-bit)
R is free software and comes with ABSOLUTELY NO WARRANTY.
You are welcome to redistribute it under certain conditions.
Type 'license()' or 'licence()' for distribution details.
R is a collaborative project with many contributors.
Type 'contributors()' for more information and
'citation()' on how to cite R or R packages in publications.
Type 'demo()' for some demos, 'help()' for on-line help, or
'help.start()' for an HTML browser interface to help.
Type 'q()' to quit R.
> library(testthat)
> library(PathoStat)
>
> test_check("PathoStat")
[ FAIL 0 | WARN 0 | SKIP 0 | PASS 1 ]
>
> proc.time()
user system elapsed
9.45 0.95 10.40
PathoStat.Rcheck/PathoStat-Ex.timings
| name | user | system | elapsed | |
| Bootstrap_LOOCV_LR_AUC | 8.23 | 0.11 | 8.34 | |
| Chisq_Test_Pam | 0 | 0 | 0 | |
| Fisher_Test_Pam | 0 | 0 | 0 | |
| GET_PAM | 0 | 0 | 0 | |
| LOOAUC_simple_multiple_noplot_one_df | 1.92 | 0.00 | 1.94 | |
| LOOAUC_simple_multiple_one_df | 1.90 | 0.03 | 1.93 | |
| PathoStat-class | 0.04 | 0.00 | 0.03 | |
| TranslateIdToTaxLevel | 0 | 0 | 0 | |
| Wilcox_Test_df | 0.01 | 0.00 | 0.02 | |
| findRAfromCount | 0.11 | 0.03 | 0.14 | |
| findTaxonMat | 0.06 | 0.00 | 0.08 | |
| findTaxonomy | 0.08 | 0.00 | 0.07 | |
| findTaxonomy300 | 0.06 | 0.02 | 0.08 | |
| getShinyInput | 0 | 0 | 0 | |
| getShinyInputCombat | 0 | 0 | 0 | |
| getShinyInputOrig | 0 | 0 | 0 | |
| getSignatureFromMultipleGlmnet | 6.68 | 0.08 | 6.75 | |
| grepTid | 0 | 0 | 0 | |
| loadPathoscopeReports | 0 | 0 | 0 | |
| loadPstat | 0 | 0 | 0 | |
| log2CPM | 0 | 0 | 0 | |
| percent | 0 | 0 | 0 | |
| phyloseq_to_edgeR | 0.06 | 0.01 | 0.08 | |
| plotPCAPlotly | 0.14 | 0.03 | 0.19 | |
| plotPCoAPlotly | 0.11 | 0.00 | 0.12 | |
| readPathoscopeData | 0.05 | 0.00 | 0.05 | |
| runPathoStat | 0.04 | 0.00 | 0.05 | |
| savePstat | 0 | 0 | 0 | |
| setShinyInput | 0 | 0 | 0 | |
| setShinyInputCombat | 0 | 0 | 0 | |
| setShinyInputOrig | 0 | 0 | 0 | |
| summarizeTable | 0 | 0 | 0 | |