| Back to Build/check report for BioC 3.17 |
|
This page was generated on 2023-01-02 09:00:43 -0500 (Mon, 02 Jan 2023).
| Hostname | OS | Arch (*) | R version | Installed pkgs |
|---|---|---|---|---|
| palomino5 | Windows Server 2022 Datacenter | x64 | R Under development (unstable) (2022-12-25 r83502 ucrt) -- "Unsuffered Consequences" | 4165 |
| Click on any hostname to see more info about the system (e.g. compilers) (*) as reported by 'uname -p', except on Windows and Mac OS X | ||||
|
To the developers/maintainers of the PING package: Make sure to use the following settings in order to reproduce any error or warning you see on this page. |
| Package 1472/2158 | Hostname | OS / Arch | INSTALL | BUILD | CHECK | BUILD BIN | ||||||||
| PING 2.43.0 (landing page) Renan Sauteraud
| palomino5 | Windows Server 2022 Datacenter / x64 | OK | OK | WARNINGS | OK | ||||||||
| Package: PING |
| Version: 2.43.0 |
| Command: rm -rf PING.buildbin-libdir && mkdir PING.buildbin-libdir && F:\biocbuild\bbs-3.17-bioc\R\bin\R.exe CMD INSTALL --build --library=PING.buildbin-libdir PING_2.43.0.tar.gz |
| StartedAt: 2022-12-29 05:32:12 -0500 (Thu, 29 Dec 2022) |
| EndedAt: 2022-12-29 05:33:07 -0500 (Thu, 29 Dec 2022) |
| EllapsedTime: 55.3 seconds |
| RetCode: 0 |
| Status: OK |
| PackageFile: PING_2.43.0.zip |
| PackageFileSize: 5.534 MiB |
##############################################################################
##############################################################################
###
### Running command:
###
### rm -rf PING.buildbin-libdir && mkdir PING.buildbin-libdir && F:\biocbuild\bbs-3.17-bioc\R\bin\R.exe CMD INSTALL --build --library=PING.buildbin-libdir PING_2.43.0.tar.gz
###
##############################################################################
##############################################################################
* installing *source* package 'PING' ...
** using staged installation
**********************************************
WARNING: this package has a configure script
It probably needs manual configuration
**********************************************
** libs
using C compiler: 'gcc.exe (GCC) 12.2.0'
gcc -I"F:/biocbuild/bbs-3.17-bioc/R/include" -DNDEBUG -Ifusion_sdk -D_USE_MEM_MAPPING_ -I/src/include -I/x64/include -I"c:/rtools42/x86_64-w64-mingw32.static.posix/include" -O2 -Wall -std=gnu99 -mfpmath=sse -msse2 -mstackrealign -c init.c -o init.o
gcc -I"F:/biocbuild/bbs-3.17-bioc/R/include" -DNDEBUG -Ifusion_sdk -D_USE_MEM_MAPPING_ -I/src/include -I/x64/include -I"c:/rtools42/x86_64-w64-mingw32.static.posix/include" -O2 -Wall -std=gnu99 -mfpmath=sse -msse2 -mstackrealign -c ping.c -o ping.o
ping.c: In function 'fitModelAllk':
ping.c:145:40: warning: suggest parentheses around comparison in operand of '&' [-Wparentheses]
145 | if( REAL(VECTOR_ELT(paraPrior, 5))[0]>0 & REAL(VECTOR_ELT(paraEM, 0))[0]==0) // automatically decide minK and maxKK for histone data, when minK=0
| ~~~~~~~~~~~~~~~~~~~~~~~~~~~~~~~~~^~
ping.c: In function 'ECM2':
ping.c:1536:16: warning: variable 'chiSum' set but not used [-Wunused-but-set-variable]
1536 | double chiSum = 0, etaF, etaR, dd, cc;
| ^~~~~~
ping.c: In function 'mergePeak':
ping.c:3280:20: warning: variable 'tstatMax' set but not used [-Wunused-but-set-variable]
3280 | double tstat=0.0,tstatMax=0.0;
| ^~~~~~~~
ping.c: In function 'fitModelK':
ping.c:477:25: warning: 'firstFit' may be used uninitialized [-Wmaybe-uninitialized]
477 | SEXP ans, temp, firstFit;
| ^~~~~~~~
gcc -shared -s -static-libgcc -o PING.dll tmp.def init.o ping.o -lws2_32 -L/x64/lib -lgsl -lgslcblas -lm -Lc:/rtools42/x86_64-w64-mingw32.static.posix/lib/x64 -Lc:/rtools42/x86_64-w64-mingw32.static.posix/lib -LF:/biocbuild/bbs-3.17-bioc/R/bin/x64 -lR
installing to F:/biocbuild/bbs-3.17-bioc-rtools43/meat/PING.buildbin-libdir/00LOCK-PING/00new/PING/libs/x64
** R
** inst
** byte-compile and prepare package for lazy loading
** help
*** installing help indices
** building package indices
** installing vignettes
** testing if installed package can be loaded from temporary location
** testing if installed package can be loaded from final location
** testing if installed package keeps a record of temporary installation path
* MD5 sums
packaged installation of 'PING' as PING_2.43.0.zip
* DONE (PING)