| Back to Build/check report for BioC 3.17 |
|
This page was generated on 2023-01-02 09:00:41 -0500 (Mon, 02 Jan 2023).
| Hostname | OS | Arch (*) | R version | Installed pkgs |
|---|---|---|---|---|
| palomino5 | Windows Server 2022 Datacenter | x64 | R Under development (unstable) (2022-12-25 r83502 ucrt) -- "Unsuffered Consequences" | 4165 |
| Click on any hostname to see more info about the system (e.g. compilers) (*) as reported by 'uname -p', except on Windows and Mac OS X | ||||
|
To the developers/maintainers of the NormqPCR package: Make sure to use the following settings in order to reproduce any error or warning you see on this page. |
| Package 1346/2158 | Hostname | OS / Arch | INSTALL | BUILD | CHECK | BUILD BIN | ||||||||
| NormqPCR 1.45.0 (landing page) James Perkins
| palomino5 | Windows Server 2022 Datacenter / x64 | OK | OK | OK | OK | ||||||||
| Package: NormqPCR |
| Version: 1.45.0 |
| Command: chmod a+r NormqPCR -R && F:\biocbuild\bbs-3.17-bioc\R\bin\R.exe CMD build --keep-empty-dirs --no-resave-data NormqPCR |
| StartedAt: 2022-12-28 19:23:01 -0500 (Wed, 28 Dec 2022) |
| EndedAt: 2022-12-28 19:23:22 -0500 (Wed, 28 Dec 2022) |
| EllapsedTime: 20.9 seconds |
| RetCode: 0 |
| Status: OK |
| PackageFile: NormqPCR_1.45.0.tar.gz |
| PackageFileSize: 292.9 KiB |
##############################################################################
##############################################################################
###
### Running command:
###
### chmod a+r NormqPCR -R && F:\biocbuild\bbs-3.17-bioc\R\bin\R.exe CMD build --keep-empty-dirs --no-resave-data NormqPCR
###
##############################################################################
##############################################################################
* checking for file 'NormqPCR/DESCRIPTION' ... OK
* preparing 'NormqPCR':
* checking DESCRIPTION meta-information ... OK
* installing the package to build vignettes
* creating vignettes ... OK
Warning: 'inst/doc' file
'NormqPCR.pdf'
ignored as vignettes have been rebuilt.
Run R CMD build with --no-build-vignettes to prevent rebuilding.
* checking for LF line-endings in source and make files and shell scripts
* checking for empty or unneeded directories
* building 'NormqPCR_1.45.0.tar.gz'