| Back to Build/check report for BioC 3.17 |
|
This page was generated on 2023-01-02 09:00:41 -0500 (Mon, 02 Jan 2023).
| Hostname | OS | Arch (*) | R version | Installed pkgs |
|---|---|---|---|---|
| palomino5 | Windows Server 2022 Datacenter | x64 | R Under development (unstable) (2022-12-25 r83502 ucrt) -- "Unsuffered Consequences" | 4165 |
| Click on any hostname to see more info about the system (e.g. compilers) (*) as reported by 'uname -p', except on Windows and Mac OS X | ||||
|
To the developers/maintainers of the NanoStringQCPro package: Make sure to use the following settings in order to reproduce any error or warning you see on this page. |
| Package 1309/2158 | Hostname | OS / Arch | INSTALL | BUILD | CHECK | BUILD BIN | ||||||||
| NanoStringQCPro 1.31.0 (landing page) Robert Ziman
| palomino5 | Windows Server 2022 Datacenter / x64 | OK | OK | OK | OK | ||||||||
| Package: NanoStringQCPro |
| Version: 1.31.0 |
| Command: F:\biocbuild\bbs-3.17-bioc\R\bin\R.exe CMD check --no-multiarch --install=check:NanoStringQCPro.install-out.txt --library=F:\biocbuild\bbs-3.17-bioc\R\library --no-vignettes --timings NanoStringQCPro_1.31.0.tar.gz |
| StartedAt: 2022-12-29 01:47:43 -0500 (Thu, 29 Dec 2022) |
| EndedAt: 2022-12-29 01:49:43 -0500 (Thu, 29 Dec 2022) |
| EllapsedTime: 120.3 seconds |
| RetCode: 0 |
| Status: OK |
| CheckDir: NanoStringQCPro.Rcheck |
| Warnings: 0 |
##############################################################################
##############################################################################
###
### Running command:
###
### F:\biocbuild\bbs-3.17-bioc\R\bin\R.exe CMD check --no-multiarch --install=check:NanoStringQCPro.install-out.txt --library=F:\biocbuild\bbs-3.17-bioc\R\library --no-vignettes --timings NanoStringQCPro_1.31.0.tar.gz
###
##############################################################################
##############################################################################
* using log directory 'F:/biocbuild/bbs-3.17-bioc-rtools43/meat/NanoStringQCPro.Rcheck'
* using R Under development (unstable) (2022-12-25 r83502 ucrt)
* using platform: x86_64-w64-mingw32 (64-bit)
* R was compiled by
gcc.exe (GCC) 10.4.0
GNU Fortran (GCC) 10.4.0
* running under: Windows Server x64 (build 20348)
* using session charset: UTF-8
* using option '--no-vignettes'
* checking for file 'NanoStringQCPro/DESCRIPTION' ... OK
* this is package 'NanoStringQCPro' version '1.31.0'
* checking package namespace information ... OK
* checking package dependencies ... OK
* checking if this is a source package ... OK
* checking if there is a namespace ... OK
* checking for hidden files and directories ... OK
* checking for portable file names ... OK
* checking whether package 'NanoStringQCPro' can be installed ... OK
* checking installed package size ... OK
* checking package directory ... OK
* checking DESCRIPTION meta-information ... NOTE
Package listed in more than one of Depends, Imports, Suggests, Enhances:
'knitr'
A package should be listed in only one of these fields.
* checking top-level files ... OK
* checking for left-over files ... OK
* checking index information ... OK
* checking package subdirectories ... OK
* checking R files for non-ASCII characters ... OK
* checking R files for syntax errors ... OK
* checking whether the package can be loaded ... OK
* checking whether the package can be loaded with stated dependencies ... OK
* checking whether the package can be unloaded cleanly ... OK
* checking whether the namespace can be loaded with stated dependencies ... OK
* checking whether the namespace can be unloaded cleanly ... OK
* checking dependencies in R code ... OK
* checking S3 generic/method consistency ... OK
* checking replacement functions ... OK
* checking foreign function calls ... OK
* checking R code for possible problems ... NOTE
centeredSampleClustering: no visible global function definition for
'png'
centeredSampleClustering: no visible global function definition for
'dev.off'
countsInBlankSamples_verticalPlot: no visible global function
definition for 'png'
countsInBlankSamples_verticalPlot: no visible global function
definition for 'dev.off'
geneClustering: no visible global function definition for 'png'
geneClustering: no visible global function definition for 'dev.off'
negCtrlsByLane_verticalPlot: no visible global function definition for
'png'
negCtrlsByLane_verticalPlot: no visible global function definition for
'dev.off'
previewPNG: no visible global function definition for 'png'
previewPNG: no visible global function definition for 'dev.off'
sampleClustering,RccSet: no visible global function definition for
'png'
sampleClustering,RccSet: no visible global function definition for
'dev.off'
Undefined global functions or variables:
dev.off png
Consider adding
importFrom("grDevices", "dev.off", "png")
to your NAMESPACE file.
* checking Rd files ... OK
* checking Rd metadata ... OK
* checking Rd cross-references ... OK
* checking for missing documentation entries ... OK
* checking for code/documentation mismatches ... OK
* checking Rd \usage sections ... OK
* checking Rd contents ... OK
* checking for unstated dependencies in examples ... OK
* checking contents of 'data' directory ... OK
* checking data for non-ASCII characters ... OK
* checking LazyData ... OK
* checking data for ASCII and uncompressed saves ... OK
* checking sizes of PDF files under 'inst/doc' ... OK
* checking installed files from 'inst/doc' ... OK
* checking examples ... OK
Examples with CPU (user + system) or elapsed time > 5s
user system elapsed
makeQCReport 6.87 1.81 8.9
* checking PDF version of manual ... OK
* DONE
Status: 2 NOTEs
See
'F:/biocbuild/bbs-3.17-bioc-rtools43/meat/NanoStringQCPro.Rcheck/00check.log'
for details.
NanoStringQCPro.Rcheck/00install.out
############################################################################## ############################################################################## ### ### Running command: ### ### F:\biocbuild\bbs-3.17-bioc\R\bin\R.exe CMD INSTALL NanoStringQCPro ### ############################################################################## ############################################################################## * installing to library 'F:/biocbuild/bbs-3.17-bioc/R/library' * installing *source* package 'NanoStringQCPro' ... ** using staged installation ** R ** data *** moving datasets to lazyload DB ** inst ** byte-compile and prepare package for lazy loading ** help *** installing help indices ** building package indices ** testing if installed package can be loaded from temporary location ** testing if installed package can be loaded from final location ** testing if installed package keeps a record of temporary installation path * DONE (NanoStringQCPro)
NanoStringQCPro.Rcheck/NanoStringQCPro-Ex.timings
| name | user | system | elapsed | |
| RccSet-class | 0.31 | 0.00 | 0.31 | |
| addCodesetAnnotation | 0.15 | 0.00 | 0.16 | |
| buildCodesetAnnotation | 0.02 | 0.00 | 0.01 | |
| checkRccSet | 0.01 | 0.01 | 0.03 | |
| contentNorm | 0.08 | 0.02 | 0.10 | |
| copyRccSet | 0.01 | 0.00 | 0.01 | |
| getBackground | 0.1 | 0.0 | 0.1 | |
| getBlankLabel | 0 | 0 | 0 | |
| makeQCReport | 6.87 | 1.81 | 8.90 | |
| newRccSet | 0.18 | 0.03 | 0.20 | |
| posCtrlNorm | 0.01 | 0.00 | 0.02 | |
| preprocRccSet | 0.08 | 0.00 | 0.08 | |
| presAbsCall | 0.01 | 0.02 | 0.03 | |
| readCdrDesignData | 0.02 | 0.00 | 0.02 | |
| readRcc | 0 | 0 | 0 | |
| readRlf | 0 | 0 | 0 | |
| subtractBackground | 0.03 | 0.02 | 0.04 | |