| Back to Build/check report for BioC 3.17 |
|
This page was generated on 2023-01-02 09:00:41 -0500 (Mon, 02 Jan 2023).
| Hostname | OS | Arch (*) | R version | Installed pkgs |
|---|---|---|---|---|
| palomino5 | Windows Server 2022 Datacenter | x64 | R Under development (unstable) (2022-12-25 r83502 ucrt) -- "Unsuffered Consequences" | 4165 |
| Click on any hostname to see more info about the system (e.g. compilers) (*) as reported by 'uname -p', except on Windows and Mac OS X | ||||
|
To the developers/maintainers of the NBSplice package: Make sure to use the following settings in order to reproduce any error or warning you see on this page. |
| Package 1313/2158 | Hostname | OS / Arch | INSTALL | BUILD | CHECK | BUILD BIN | ||||||||
| NBSplice 1.17.0 (landing page) Gabriela Merino
| palomino5 | Windows Server 2022 Datacenter / x64 | ERROR | ERROR | skipped | skipped | ||||||||
| Package: NBSplice |
| Version: 1.17.0 |
| Command: chmod a+r NBSplice -R && F:\biocbuild\bbs-3.17-bioc\R\bin\R.exe CMD build --keep-empty-dirs --no-resave-data NBSplice |
| StartedAt: 2022-12-28 19:19:24 -0500 (Wed, 28 Dec 2022) |
| EndedAt: 2022-12-28 19:19:37 -0500 (Wed, 28 Dec 2022) |
| EllapsedTime: 12.6 seconds |
| RetCode: 1 |
| Status: ERROR |
| PackageFile: None |
| PackageFileSize: NA |
##############################################################################
##############################################################################
###
### Running command:
###
### chmod a+r NBSplice -R && F:\biocbuild\bbs-3.17-bioc\R\bin\R.exe CMD build --keep-empty-dirs --no-resave-data NBSplice
###
##############################################################################
##############################################################################
* checking for file 'NBSplice/DESCRIPTION' ... OK
* preparing 'NBSplice':
* checking DESCRIPTION meta-information ... OK
* installing the package to build vignettes
-----------------------------------
ERROR: dependency 'mppa' is not available for package 'NBSplice'
* removing 'F:/biocbuild/bbs-3.17-bioc-rtools43/tmpdir/RtmpIhgCcX/Rinst284c4dfe73a1/NBSplice'
-----------------------------------
ERROR: package installation failed