| Back to Build/check report for BioC 3.17 |
|
This page was generated on 2023-01-02 09:00:39 -0500 (Mon, 02 Jan 2023).
| Hostname | OS | Arch (*) | R version | Installed pkgs |
|---|---|---|---|---|
| palomino5 | Windows Server 2022 Datacenter | x64 | R Under development (unstable) (2022-12-25 r83502 ucrt) -- "Unsuffered Consequences" | 4165 |
| Click on any hostname to see more info about the system (e.g. compilers) (*) as reported by 'uname -p', except on Windows and Mac OS X | ||||
|
To the developers/maintainers of the MotifDb package: Make sure to use the following settings in order to reproduce any error or warning you see on this page. |
| Package 1240/2158 | Hostname | OS / Arch | INSTALL | BUILD | CHECK | BUILD BIN | ||||||||
| MotifDb 1.41.0 (landing page) Paul Shannon
| palomino5 | Windows Server 2022 Datacenter / x64 | OK | OK | WARNINGS | OK | ||||||||
| Package: MotifDb |
| Version: 1.41.0 |
| Command: rm -rf MotifDb.buildbin-libdir && mkdir MotifDb.buildbin-libdir && F:\biocbuild\bbs-3.17-bioc\R\bin\R.exe CMD INSTALL --build --library=MotifDb.buildbin-libdir MotifDb_1.41.0.tar.gz |
| StartedAt: 2022-12-29 05:25:24 -0500 (Thu, 29 Dec 2022) |
| EndedAt: 2022-12-29 05:26:06 -0500 (Thu, 29 Dec 2022) |
| EllapsedTime: 41.9 seconds |
| RetCode: 0 |
| Status: OK |
| PackageFile: MotifDb_1.41.0.zip |
| PackageFileSize: 3.529 MiB |
##############################################################################
##############################################################################
###
### Running command:
###
### rm -rf MotifDb.buildbin-libdir && mkdir MotifDb.buildbin-libdir && F:\biocbuild\bbs-3.17-bioc\R\bin\R.exe CMD INSTALL --build --library=MotifDb.buildbin-libdir MotifDb_1.41.0.tar.gz
###
##############################################################################
##############################################################################
* installing *source* package 'MotifDb' ...
** using staged installation
** R
** inst
** byte-compile and prepare package for lazy loading
** help
*** installing help indices
** building package indices
** installing vignettes
** testing if installed package can be loaded from temporary location
See system.file("LICENSE", package="MotifDb") for use restrictions.
** testing if installed package can be loaded from final location
See system.file("LICENSE", package="MotifDb") for use restrictions.
** testing if installed package keeps a record of temporary installation path
* MD5 sums
packaged installation of 'MotifDb' as MotifDb_1.41.0.zip
* DONE (MotifDb)