| Back to Build/check report for BioC 3.17 |
|
This page was generated on 2023-01-02 09:00:38 -0500 (Mon, 02 Jan 2023).
| Hostname | OS | Arch (*) | R version | Installed pkgs |
|---|---|---|---|---|
| palomino5 | Windows Server 2022 Datacenter | x64 | R Under development (unstable) (2022-12-25 r83502 ucrt) -- "Unsuffered Consequences" | 4165 |
| Click on any hostname to see more info about the system (e.g. compilers) (*) as reported by 'uname -p', except on Windows and Mac OS X | ||||
|
To the developers/maintainers of the MethTargetedNGS package: Make sure to use the following settings in order to reproduce any error or warning you see on this page. |
| Package 1151/2158 | Hostname | OS / Arch | INSTALL | BUILD | CHECK | BUILD BIN | ||||||||
| MethTargetedNGS 1.31.0 (landing page) Muhammad Ahmer Jamil
| palomino5 | Windows Server 2022 Datacenter / x64 | OK | OK | OK | OK | ||||||||
| Package: MethTargetedNGS |
| Version: 1.31.0 |
| Command: F:\biocbuild\bbs-3.17-bioc\R\bin\R.exe CMD check --no-multiarch --install=check:MethTargetedNGS.install-out.txt --library=F:\biocbuild\bbs-3.17-bioc\R\library --no-vignettes --timings MethTargetedNGS_1.31.0.tar.gz |
| StartedAt: 2022-12-29 01:15:57 -0500 (Thu, 29 Dec 2022) |
| EndedAt: 2022-12-29 01:17:17 -0500 (Thu, 29 Dec 2022) |
| EllapsedTime: 80.4 seconds |
| RetCode: 0 |
| Status: OK |
| CheckDir: MethTargetedNGS.Rcheck |
| Warnings: 0 |
##############################################################################
##############################################################################
###
### Running command:
###
### F:\biocbuild\bbs-3.17-bioc\R\bin\R.exe CMD check --no-multiarch --install=check:MethTargetedNGS.install-out.txt --library=F:\biocbuild\bbs-3.17-bioc\R\library --no-vignettes --timings MethTargetedNGS_1.31.0.tar.gz
###
##############################################################################
##############################################################################
* using log directory 'F:/biocbuild/bbs-3.17-bioc-rtools43/meat/MethTargetedNGS.Rcheck'
* using R Under development (unstable) (2022-12-25 r83502 ucrt)
* using platform: x86_64-w64-mingw32 (64-bit)
* R was compiled by
gcc.exe (GCC) 10.4.0
GNU Fortran (GCC) 10.4.0
* running under: Windows Server x64 (build 20348)
* using session charset: UTF-8
* using option '--no-vignettes'
* checking for file 'MethTargetedNGS/DESCRIPTION' ... OK
* checking extension type ... Package
* this is package 'MethTargetedNGS' version '1.31.0'
* checking package namespace information ... OK
* checking package dependencies ... OK
* checking if this is a source package ... OK
* checking if there is a namespace ... OK
* checking for hidden files and directories ... OK
* checking for portable file names ... OK
* checking whether package 'MethTargetedNGS' can be installed ... OK
* checking installed package size ... OK
* checking package directory ... OK
* checking 'build' directory ... OK
* checking DESCRIPTION meta-information ... OK
* checking top-level files ... OK
* checking for left-over files ... OK
* checking index information ... OK
* checking package subdirectories ... OK
* checking R files for non-ASCII characters ... OK
* checking R files for syntax errors ... OK
* checking whether the package can be loaded ... OK
* checking whether the package can be loaded with stated dependencies ... OK
* checking whether the package can be unloaded cleanly ... OK
* checking whether the namespace can be loaded with stated dependencies ... OK
* checking whether the namespace can be unloaded cleanly ... OK
* checking dependencies in R code ... OK
* checking S3 generic/method consistency ... OK
* checking replacement functions ... OK
* checking foreign function calls ... OK
* checking R code for possible problems ... NOTE
compare_samples: no visible global function definition for 'par'
compare_samples: no visible global function definition for 'lines'
fishertest_cpg: no visible global function definition for 'fisher.test'
fishertest_cpg: no visible global function definition for 'p.adjust'
fishertest_cpg: no visible global function definition for 'barplot'
fishertest_cpg: no visible global function definition for 'abline'
methAlign: no visible global function definition for 'subject'
methAlign: no visible global function definition for 'pattern'
nhmmer: no visible global function definition for 'read.table'
nhmmer: no visible global function definition for 'setNames'
Undefined global functions or variables:
abline barplot fisher.test lines p.adjust par pattern read.table
setNames subject
Consider adding
importFrom("graphics", "abline", "barplot", "lines", "par")
importFrom("stats", "fisher.test", "p.adjust", "setNames")
importFrom("utils", "read.table")
to your NAMESPACE file.
* checking Rd files ... OK
* checking Rd metadata ... OK
* checking Rd cross-references ... OK
* checking for missing documentation entries ... OK
* checking for code/documentation mismatches ... OK
* checking Rd \usage sections ... OK
* checking Rd contents ... OK
* checking for unstated dependencies in examples ... OK
* checking sizes of PDF files under 'inst/doc' ... OK
* checking files in 'vignettes' ... OK
* checking examples ... OK
* checking for unstated dependencies in vignettes ... OK
* checking package vignettes in 'inst/doc' ... OK
* checking running R code from vignettes ... SKIPPED
* checking re-building of vignette outputs ... SKIPPED
* checking PDF version of manual ... OK
* DONE
Status: 1 NOTE
See
'F:/biocbuild/bbs-3.17-bioc-rtools43/meat/MethTargetedNGS.Rcheck/00check.log'
for details.
MethTargetedNGS.Rcheck/00install.out
############################################################################## ############################################################################## ### ### Running command: ### ### F:\biocbuild\bbs-3.17-bioc\R\bin\R.exe CMD INSTALL MethTargetedNGS ### ############################################################################## ############################################################################## * installing to library 'F:/biocbuild/bbs-3.17-bioc/R/library' * installing *source* package 'MethTargetedNGS' ... ** using staged installation ** R ** inst ** byte-compile and prepare package for lazy loading ** help *** installing help indices ** building package indices ** installing vignettes ** testing if installed package can be loaded from temporary location ** testing if installed package can be loaded from final location ** testing if installed package keeps a record of temporary installation path * DONE (MethTargetedNGS)
MethTargetedNGS.Rcheck/MethTargetedNGS-Ex.timings
| name | user | system | elapsed | |
| bconv | 0 | 0 | 0 | |
| compare_samples | 2.77 | 0.03 | 2.80 | |
| fishertest_cpg | 2.54 | 0.03 | 2.57 | |
| hmmbuild | 0 | 0 | 0 | |
| methAlign | 1.20 | 0.03 | 1.23 | |
| methAvg | 1.25 | 0.00 | 1.25 | |
| methEntropy | 1.22 | 0.02 | 1.23 | |
| methHeatmap | 1.18 | 0.03 | 1.22 | |
| nhmmer | 0 | 0 | 0 | |
| odd_ratio | 2.41 | 0.01 | 2.43 | |