| Back to Build/check report for BioC 3.17 | 
  | 
This page was generated on 2023-01-02 09:00:37 -0500 (Mon, 02 Jan 2023).
| Hostname | OS | Arch (*) | R version | Installed pkgs | 
|---|---|---|---|---|
| palomino5 | Windows Server 2022 Datacenter | x64 | R Under development (unstable) (2022-12-25 r83502 ucrt) -- "Unsuffered Consequences" | 4165 | 
| Click on any hostname to see more info about the system (e.g. compilers) (*) as reported by 'uname -p', except on Windows and Mac OS X | ||||
| 
To the developers/maintainers of the MAST package: Make sure to use the following settings in order to reproduce any error or warning you see on this page.  | 
| Package 1085/2158 | Hostname | OS / Arch | INSTALL | BUILD | CHECK | BUILD BIN | ||||||||
| MAST 1.25.1  (landing page) Andrew McDavid 
  | palomino5 | Windows Server 2022 Datacenter / x64 | OK | OK | OK | OK | ||||||||
| Package: MAST | 
| Version: 1.25.1 | 
| Command: rm -rf MAST.buildbin-libdir && mkdir MAST.buildbin-libdir && F:\biocbuild\bbs-3.17-bioc\R\bin\R.exe CMD INSTALL --build --library=MAST.buildbin-libdir MAST_1.25.1.tar.gz | 
| StartedAt: 2022-12-29 05:20:55 -0500 (Thu, 29 Dec 2022) | 
| EndedAt: 2022-12-29 05:21:42 -0500 (Thu, 29 Dec 2022) | 
| EllapsedTime: 47.1 seconds | 
| RetCode: 0 | 
| Status: OK | 
| PackageFile: MAST_1.25.1.zip | 
| PackageFileSize: 6.056 MiB | 
############################################################################## ############################################################################## ### ### Running command: ### ### rm -rf MAST.buildbin-libdir && mkdir MAST.buildbin-libdir && F:\biocbuild\bbs-3.17-bioc\R\bin\R.exe CMD INSTALL --build --library=MAST.buildbin-libdir MAST_1.25.1.tar.gz ### ############################################################################## ############################################################################## * installing *source* package 'MAST' ... ** using staged installation ** R ** data *** moving datasets to lazyload DB ** inst ** byte-compile and prepare package for lazy loading ** help *** installing help indices ** building package indices ** installing vignettes ** testing if installed package can be loaded from temporary location ** testing if installed package can be loaded from final location ** testing if installed package keeps a record of temporary installation path * MD5 sums packaged installation of 'MAST' as MAST_1.25.1.zip * DONE (MAST)