| Back to Build/check report for BioC 3.17 |
|
This page was generated on 2023-01-02 09:00:36 -0500 (Mon, 02 Jan 2023).
| Hostname | OS | Arch (*) | R version | Installed pkgs |
|---|---|---|---|---|
| palomino5 | Windows Server 2022 Datacenter | x64 | R Under development (unstable) (2022-12-25 r83502 ucrt) -- "Unsuffered Consequences" | 4165 |
| Click on any hostname to see more info about the system (e.g. compilers) (*) as reported by 'uname -p', except on Windows and Mac OS X | ||||
|
To the developers/maintainers of the MADSEQ package: Make sure to use the following settings in order to reproduce any error or warning you see on this page. |
| Package 1062/2158 | Hostname | OS / Arch | INSTALL | BUILD | CHECK | BUILD BIN | ||||||||
| MADSEQ 1.25.0 (landing page) Yu Kong
| palomino5 | Windows Server 2022 Datacenter / x64 | OK | OK | OK | OK | ||||||||
| Package: MADSEQ |
| Version: 1.25.0 |
| Command: chmod a+r MADSEQ -R && F:\biocbuild\bbs-3.17-bioc\R\bin\R.exe CMD build --keep-empty-dirs --no-resave-data MADSEQ |
| StartedAt: 2022-12-28 18:49:39 -0500 (Wed, 28 Dec 2022) |
| EndedAt: 2022-12-28 18:50:45 -0500 (Wed, 28 Dec 2022) |
| EllapsedTime: 66.0 seconds |
| RetCode: 0 |
| Status: OK |
| PackageFile: MADSEQ_1.25.0.tar.gz |
| PackageFileSize: 1.871 MiB |
##############################################################################
##############################################################################
###
### Running command:
###
### chmod a+r MADSEQ -R && F:\biocbuild\bbs-3.17-bioc\R\bin\R.exe CMD build --keep-empty-dirs --no-resave-data MADSEQ
###
##############################################################################
##############################################################################
* checking for file 'MADSEQ/DESCRIPTION' ... OK
* preparing 'MADSEQ':
* checking DESCRIPTION meta-information ... OK
* installing the package to build vignettes
* creating vignettes ... OK
* checking for LF line-endings in source and make files and shell scripts
* checking for empty or unneeded directories
NB: this package now depends on R (>= 3.5.0)
WARNING: Added dependency on R >= 3.5.0 because serialized objects in
serialize/load version 3 cannot be read in older versions of R.
File(s) containing such objects:
'MADSEQ/inst/AQP7/hg19_AQP7_gr.RDS'
'MADSEQ/inst/AQP7/hg38_AQP7_gr.RDS'
'MADSEQ/inst/AQP7/hs37d5_AQP7_gr.RDS'
'MADSEQ/inst/HLA/hg19_HLA_gr.RDS' 'MADSEQ/inst/HLA/hg38_HLA_gr.RDS'
'MADSEQ/inst/HLA/hs37d5_HLA_gr.RDS' 'MADSEQ/inst/gap/hg19_gap_gr.RDS'
'MADSEQ/inst/gap/hg38_gap_gr.RDS' 'MADSEQ/inst/gap/hs37d5_gap_gr.RDS'
* building 'MADSEQ_1.25.0.tar.gz'