| Back to Build/check report for BioC 3.17 |
|
This page was generated on 2023-01-02 09:00:35 -0500 (Mon, 02 Jan 2023).
| Hostname | OS | Arch (*) | R version | Installed pkgs |
|---|---|---|---|---|
| palomino5 | Windows Server 2022 Datacenter | x64 | R Under development (unstable) (2022-12-25 r83502 ucrt) -- "Unsuffered Consequences" | 4165 |
| Click on any hostname to see more info about the system (e.g. compilers) (*) as reported by 'uname -p', except on Windows and Mac OS X | ||||
|
To the developers/maintainers of the KnowSeq package: Make sure to use the following settings in order to reproduce any error or warning you see on this page. |
| Package 1013/2158 | Hostname | OS / Arch | INSTALL | BUILD | CHECK | BUILD BIN | ||||||||
| KnowSeq 1.13.0 (landing page) Daniel Castillo-Secilla
| palomino5 | Windows Server 2022 Datacenter / x64 | OK | OK | OK | OK | ||||||||
| Package: KnowSeq |
| Version: 1.13.0 |
| Command: F:\biocbuild\bbs-3.17-bioc\R\bin\R.exe CMD check --no-multiarch --install=check:KnowSeq.install-out.txt --library=F:\biocbuild\bbs-3.17-bioc\R\library --no-vignettes --timings KnowSeq_1.13.0.tar.gz |
| StartedAt: 2022-12-29 00:52:07 -0500 (Thu, 29 Dec 2022) |
| EndedAt: 2022-12-29 00:56:17 -0500 (Thu, 29 Dec 2022) |
| EllapsedTime: 250.2 seconds |
| RetCode: 0 |
| Status: OK |
| CheckDir: KnowSeq.Rcheck |
| Warnings: 0 |
##############################################################################
##############################################################################
###
### Running command:
###
### F:\biocbuild\bbs-3.17-bioc\R\bin\R.exe CMD check --no-multiarch --install=check:KnowSeq.install-out.txt --library=F:\biocbuild\bbs-3.17-bioc\R\library --no-vignettes --timings KnowSeq_1.13.0.tar.gz
###
##############################################################################
##############################################################################
* using log directory 'F:/biocbuild/bbs-3.17-bioc-rtools43/meat/KnowSeq.Rcheck'
* using R Under development (unstable) (2022-12-25 r83502 ucrt)
* using platform: x86_64-w64-mingw32 (64-bit)
* R was compiled by
gcc.exe (GCC) 10.4.0
GNU Fortran (GCC) 10.4.0
* running under: Windows Server x64 (build 20348)
* using session charset: UTF-8
* using option '--no-vignettes'
* checking for file 'KnowSeq/DESCRIPTION' ... OK
* checking extension type ... Package
* this is package 'KnowSeq' version '1.13.0'
* package encoding: UTF-8
* checking package namespace information ... OK
* checking package dependencies ... OK
* checking if this is a source package ... OK
* checking if there is a namespace ... OK
* checking for hidden files and directories ... OK
* checking for portable file names ... OK
* checking whether package 'KnowSeq' can be installed ... OK
* checking installed package size ... NOTE
installed size is 7.2Mb
sub-directories of 1Mb or more:
extdata 6.9Mb
* checking package directory ... OK
* checking 'build' directory ... OK
* checking DESCRIPTION meta-information ... OK
* checking top-level files ... OK
* checking for left-over files ... OK
* checking index information ... OK
* checking package subdirectories ... OK
* checking R files for non-ASCII characters ... OK
* checking R files for syntax errors ... OK
* checking whether the package can be loaded ... OK
* checking whether the package can be loaded with stated dependencies ... OK
* checking whether the package can be unloaded cleanly ... OK
* checking whether the namespace can be loaded with stated dependencies ... OK
* checking whether the namespace can be unloaded cleanly ... OK
* checking dependencies in R code ... OK
* checking S3 generic/method consistency ... OK
* checking replacement functions ... OK
* checking foreign function calls ... OK
* checking R code for possible problems ... NOTE
DEGsExtraction: warning in topTable(fit, number = number, coef = 2,
sort.by = "logFC", p.value = pvalue, adjust = "fdr", lfc = lfc):
partial argument match of 'adjust' to 'adjust.method'
RNAseqQA : outlierBarPlot: no visible binding for global variable 'x'
RNAseqQA : outlierBarPlot: no visible binding for global variable 'y'
RNAseqQA: no visible binding for global variable 'Var1'
RNAseqQA: no visible binding for global variable 'Var2'
RNAseqQA: no visible binding for global variable 'value'
RNAseqQA: no visible binding for global variable 'Expression'
RNAseqQA: no visible binding for global variable 'Samples'
dataPlot: no visible binding for global variable 'Var1'
dataPlot: no visible binding for global variable 'Var2'
dataPlot: no visible binding for global variable 'value'
dataPlot: no visible binding for global variable 'Classes'
dataPlot: no visible binding for global variable 'Value'
knn_trn: no visible global function definition for 'knn.cv'
knowseqReport: no visible binding for global variable 'target'
Undefined global functions or variables:
Classes Expression Samples Value Var1 Var2 knn.cv target value x y
* checking Rd files ... OK
* checking Rd metadata ... OK
* checking Rd cross-references ... OK
* checking for missing documentation entries ... OK
* checking for code/documentation mismatches ... OK
* checking Rd \usage sections ... OK
* checking Rd contents ... OK
* checking for unstated dependencies in examples ... OK
* checking files in 'vignettes' ... OK
* checking examples ... OK
Examples with CPU (user + system) or elapsed time > 5s
user system elapsed
dataPlot 17.55 0.31 17.89
svm_trn 13.52 0.02 13.55
rf_trn 12.40 0.71 13.11
svm_test 11.36 0.26 11.64
downloadPublicSeries 1.18 0.04 18.37
* checking for unstated dependencies in vignettes ... OK
* checking package vignettes in 'inst/doc' ... OK
* checking running R code from vignettes ... SKIPPED
* checking re-building of vignette outputs ... SKIPPED
* checking PDF version of manual ... OK
* DONE
Status: 2 NOTEs
See
'F:/biocbuild/bbs-3.17-bioc-rtools43/meat/KnowSeq.Rcheck/00check.log'
for details.
KnowSeq.Rcheck/00install.out
############################################################################## ############################################################################## ### ### Running command: ### ### F:\biocbuild\bbs-3.17-bioc\R\bin\R.exe CMD INSTALL KnowSeq ### ############################################################################## ############################################################################## * installing to library 'F:/biocbuild/bbs-3.17-bioc/R/library' * installing *source* package 'KnowSeq' ... ** using staged installation ** R ** inst ** byte-compile and prepare package for lazy loading ** help *** installing help indices ** building package indices ** installing vignettes ** testing if installed package can be loaded from temporary location ** testing if installed package can be loaded from final location ** testing if installed package keeps a record of temporary installation path * DONE (KnowSeq)
KnowSeq.Rcheck/KnowSeq-Ex.timings
| name | user | system | elapsed | |
| DEGsEvidences | 0.30 | 0.03 | 0.43 | |
| DEGsExtraction | 0.65 | 0.01 | 0.75 | |
| DEGsToDiseases | 0.22 | 0.00 | 0.25 | |
| DEGsToPathways | 0.36 | 0.00 | 0.36 | |
| RNAseqQA | 1.66 | 0.07 | 1.88 | |
| batchEffectRemoval | 1.05 | 0.00 | 1.05 | |
| calculateGeneExpressionValues | 0.39 | 0.07 | 0.47 | |
| countsToMatrix | 0.08 | 0.05 | 0.13 | |
| dataPlot | 17.55 | 0.31 | 17.89 | |
| downloadPublicSeries | 1.18 | 0.04 | 18.37 | |
| featureSelection | 0.00 | 0.00 | 0.03 | |
| fileMove | 0 | 0 | 0 | |
| gdcClientDownload | 0 | 0 | 0 | |
| geneOntologyEnrichment | 0 | 0 | 0 | |
| getGenesAnnotation | 0.14 | 0.01 | 0.16 | |
| hisatAlignment | 0.00 | 0.00 | 0.01 | |
| knn_test | 0.04 | 0.00 | 0.04 | |
| knn_trn | 1.18 | 0.02 | 1.20 | |
| knowseqReport | 0.02 | 0.00 | 0.01 | |
| plotConfMatrix | 0.00 | 0.01 | 0.02 | |
| rawAlignment | 0 | 0 | 0 | |
| rf_test | 3.28 | 0.17 | 3.45 | |
| rf_trn | 12.40 | 0.71 | 13.11 | |
| sraToFastq | 0 | 0 | 0 | |
| svm_test | 11.36 | 0.26 | 11.64 | |
| svm_trn | 13.52 | 0.02 | 13.55 | |