| Back to Build/check report for BioC 3.17 |
|
This page was generated on 2023-01-02 09:00:35 -0500 (Mon, 02 Jan 2023).
| Hostname | OS | Arch (*) | R version | Installed pkgs |
|---|---|---|---|---|
| palomino5 | Windows Server 2022 Datacenter | x64 | R Under development (unstable) (2022-12-25 r83502 ucrt) -- "Unsuffered Consequences" | 4165 |
| Click on any hostname to see more info about the system (e.g. compilers) (*) as reported by 'uname -p', except on Windows and Mac OS X | ||||
|
To the developers/maintainers of the InteractiveComplexHeatmap package: Make sure to use the following settings in order to reproduce any error or warning you see on this page. |
| Package 968/2158 | Hostname | OS / Arch | INSTALL | BUILD | CHECK | BUILD BIN | ||||||||
| InteractiveComplexHeatmap 1.7.0 (landing page) Zuguang Gu
| palomino5 | Windows Server 2022 Datacenter / x64 | OK | OK | OK | OK | ||||||||
| Package: InteractiveComplexHeatmap |
| Version: 1.7.0 |
| Command: F:\biocbuild\bbs-3.17-bioc\R\bin\R.exe CMD check --no-multiarch --install=check:InteractiveComplexHeatmap.install-out.txt --library=F:\biocbuild\bbs-3.17-bioc\R\library --no-vignettes --timings InteractiveComplexHeatmap_1.7.0.tar.gz |
| StartedAt: 2022-12-29 00:42:15 -0500 (Thu, 29 Dec 2022) |
| EndedAt: 2022-12-29 00:43:40 -0500 (Thu, 29 Dec 2022) |
| EllapsedTime: 85.0 seconds |
| RetCode: 0 |
| Status: OK |
| CheckDir: InteractiveComplexHeatmap.Rcheck |
| Warnings: 0 |
##############################################################################
##############################################################################
###
### Running command:
###
### F:\biocbuild\bbs-3.17-bioc\R\bin\R.exe CMD check --no-multiarch --install=check:InteractiveComplexHeatmap.install-out.txt --library=F:\biocbuild\bbs-3.17-bioc\R\library --no-vignettes --timings InteractiveComplexHeatmap_1.7.0.tar.gz
###
##############################################################################
##############################################################################
* using log directory 'F:/biocbuild/bbs-3.17-bioc-rtools43/meat/InteractiveComplexHeatmap.Rcheck'
* using R Under development (unstable) (2022-12-25 r83502 ucrt)
* using platform: x86_64-w64-mingw32 (64-bit)
* R was compiled by
gcc.exe (GCC) 10.4.0
GNU Fortran (GCC) 10.4.0
* running under: Windows Server x64 (build 20348)
* using session charset: UTF-8
* using option '--no-vignettes'
* checking for file 'InteractiveComplexHeatmap/DESCRIPTION' ... OK
* checking extension type ... Package
* this is package 'InteractiveComplexHeatmap' version '1.7.0'
* checking package namespace information ... OK
* checking package dependencies ... OK
* checking if this is a source package ... OK
* checking if there is a namespace ... OK
* checking for hidden files and directories ... OK
* checking for portable file names ... OK
* checking whether package 'InteractiveComplexHeatmap' can be installed ... OK
* checking installed package size ... OK
* checking package directory ... OK
* checking 'build' directory ... OK
* checking DESCRIPTION meta-information ... OK
* checking top-level files ... OK
* checking for left-over files ... OK
* checking index information ... OK
* checking package subdirectories ... OK
* checking R files for non-ASCII characters ... OK
* checking R files for syntax errors ... OK
* checking whether the package can be loaded ... OK
* checking whether the package can be loaded with stated dependencies ... OK
* checking whether the package can be unloaded cleanly ... OK
* checking whether the namespace can be loaded with stated dependencies ... OK
* checking whether the namespace can be unloaded cleanly ... OK
* checking dependencies in R code ... OK
* checking S3 generic/method consistency ... OK
* checking replacement functions ... OK
* checking foreign function calls ... OK
* checking R code for possible problems ... OK
* checking Rd files ... OK
* checking Rd metadata ... OK
* checking Rd cross-references ... OK
* checking for missing documentation entries ... OK
* checking for code/documentation mismatches ... OK
* checking Rd \usage sections ... OK
* checking Rd contents ... OK
* checking for unstated dependencies in examples ... OK
* checking contents of 'data' directory ... OK
* checking data for non-ASCII characters ... OK
* checking data for ASCII and uncompressed saves ... OK
* checking files in 'vignettes' ... OK
* checking examples ... OK
* checking for unstated dependencies in 'tests' ... OK
* checking tests ...
Running 'test-all.R'
OK
* checking for unstated dependencies in vignettes ... OK
* checking package vignettes in 'inst/doc' ... OK
* checking running R code from vignettes ... SKIPPED
* checking re-building of vignette outputs ... SKIPPED
* checking PDF version of manual ... OK
* DONE
Status: OK
InteractiveComplexHeatmap.Rcheck/00install.out
############################################################################## ############################################################################## ### ### Running command: ### ### F:\biocbuild\bbs-3.17-bioc\R\bin\R.exe CMD INSTALL InteractiveComplexHeatmap ### ############################################################################## ############################################################################## * installing to library 'F:/biocbuild/bbs-3.17-bioc/R/library' * installing *source* package 'InteractiveComplexHeatmap' ... ** using staged installation ** R ** data ** inst ** byte-compile and prepare package for lazy loading ** help *** installing help indices ** building package indices ** installing vignettes ** testing if installed package can be loaded from temporary location ** testing if installed package can be loaded from final location ** testing if installed package keeps a record of temporary installation path * DONE (InteractiveComplexHeatmap)
InteractiveComplexHeatmap.Rcheck/tests/test-all.Rout
R Under development (unstable) (2022-12-25 r83502 ucrt) -- "Unsuffered Consequences"
Copyright (C) 2022 The R Foundation for Statistical Computing
Platform: x86_64-w64-mingw32/x64 (64-bit)
R is free software and comes with ABSOLUTELY NO WARRANTY.
You are welcome to redistribute it under certain conditions.
Type 'license()' or 'licence()' for distribution details.
R is a collaborative project with many contributors.
Type 'contributors()' for more information and
'citation()' on how to cite R or R packages in publications.
Type 'demo()' for some demos, 'help()' for on-line help, or
'help.start()' for an HTML browser interface to help.
Type 'q()' to quit R.
> library(testthat)
> suppressWarnings(suppressPackageStartupMessages(library(InteractiveComplexHeatmap)))
>
> test_check("InteractiveComplexHeatmap")
Point: x = 3.0 cm, y = 3.0 cm (measured in the graphics device)
Search in heatmap 'matrix_1'
- row slice 1, column slice 1 [matrix_1_heatmap_body_1_1]... overlap
Point 1: x = 3.0 cm, y = 3.0 cm (measured in the graphics device)
Point 2: x = 5.0 cm, y = 5.0 cm (measured in the graphics device)
The heatmaps have been changed. Calcualte the new heatmap positions.
Search in heatmap 'matrix_1'
- row slice 1, column slice 1 [matrix_1_heatmap_body_1_1]... overlap
[ FAIL 0 | WARN 0 | SKIP 0 | PASS 4 ]
>
> proc.time()
user system elapsed
4.75 0.40 5.18
InteractiveComplexHeatmap.Rcheck/InteractiveComplexHeatmap-Ex.timings
| name | user | system | elapsed | |
| HeatmapInfoOutput | 0 | 0 | 0 | |
| InteractiveComplexHeatmapModal | 0 | 0 | 0 | |
| InteractiveComplexHeatmapOutput | 0 | 0 | 0 | |
| InteractiveComplexHeatmapWidget | 0 | 0 | 0 | |
| all_column_indices | 0 | 0 | 0 | |
| all_row_indices | 0 | 0 | 0 | |
| getPositionFromBrush | 0 | 0 | 0 | |
| getPositionFromClick | 0 | 0 | 0 | |
| getPositionFromDblclick | 0 | 0 | 0 | |
| getPositionFromHover | 0 | 0 | 0 | |
| htPositionsOnDevice | 0 | 0 | 0 | |
| htShiny | 0 | 0 | 0 | |
| htShinyExample | 0.04 | 0.00 | 0.03 | |
| ht_shiny | 0 | 0 | 0 | |
| interactivate.DESeqDataSet | 0 | 0 | 0 | |
| interactivate | 0 | 0 | 0 | |
| interactivate.kde | 0 | 0 | 0 | |
| interactivateDensity2D | 0 | 0 | 0 | |
| is_in_sub_heatmap | 0 | 0 | 0 | |
| makeInteractiveComplexHeatmap | 0 | 0 | 0 | |
| originalHeatmapOutput | 0 | 0 | 0 | |
| rand_mat | 0.01 | 0.02 | 0.04 | |
| record_observation | 0 | 0 | 0 | |
| selectArea | 0 | 0 | 0 | |
| selectPosition | 0 | 0 | 0 | |
| subHeatmapOutput | 0 | 0 | 0 | |