| Back to Build/check report for BioC 3.17 |
|
This page was generated on 2023-01-02 09:00:35 -0500 (Mon, 02 Jan 2023).
| Hostname | OS | Arch (*) | R version | Installed pkgs |
|---|---|---|---|---|
| palomino5 | Windows Server 2022 Datacenter | x64 | R Under development (unstable) (2022-12-25 r83502 ucrt) -- "Unsuffered Consequences" | 4165 |
| Click on any hostname to see more info about the system (e.g. compilers) (*) as reported by 'uname -p', except on Windows and Mac OS X | ||||
|
To the developers/maintainers of the InteractionSet package: Make sure to use the following settings in order to reproduce any error or warning you see on this page. |
| Package 967/2158 | Hostname | OS / Arch | INSTALL | BUILD | CHECK | BUILD BIN | ||||||||
| InteractionSet 1.27.0 (landing page) Aaron Lun
| palomino5 | Windows Server 2022 Datacenter / x64 | OK | OK | WARNINGS | OK | ||||||||
| Package: InteractionSet |
| Version: 1.27.0 |
| Command: rm -rf InteractionSet.buildbin-libdir && mkdir InteractionSet.buildbin-libdir && F:\biocbuild\bbs-3.17-bioc\R\bin\R.exe CMD INSTALL --build --library=InteractionSet.buildbin-libdir InteractionSet_1.27.0.tar.gz |
| StartedAt: 2022-12-29 05:17:26 -0500 (Thu, 29 Dec 2022) |
| EndedAt: 2022-12-29 05:18:52 -0500 (Thu, 29 Dec 2022) |
| EllapsedTime: 85.8 seconds |
| RetCode: 0 |
| Status: OK |
| PackageFile: InteractionSet_1.27.0.zip |
| PackageFileSize: 1.898 MiB |
##############################################################################
##############################################################################
###
### Running command:
###
### rm -rf InteractionSet.buildbin-libdir && mkdir InteractionSet.buildbin-libdir && F:\biocbuild\bbs-3.17-bioc\R\bin\R.exe CMD INSTALL --build --library=InteractionSet.buildbin-libdir InteractionSet_1.27.0.tar.gz
###
##############################################################################
##############################################################################
* installing *source* package 'InteractionSet' ...
** using staged installation
** libs
using C++ compiler: 'G__~1.EXE (GCC) 12.2.0'
using C++11
g++ -std=gnu++11 -I"F:/biocbuild/bbs-3.17-bioc/R/include" -DNDEBUG -I'F:/biocbuild/bbs-3.17-bioc/R/library/Rcpp/include' -I"c:/rtools42/x86_64-w64-mingw32.static.posix/include" -O2 -Wall -mfpmath=sse -msse2 -mstackrealign -c box_bounds.cpp -o box_bounds.o
box_bounds.cpp: In function 'SEXPREC* get_box_bounds(SEXP, SEXP, SEXP, SEXP, SEXP, SEXP)':
box_bounds.cpp:10:13: warning: comparison of integer expressions of different signedness: 'const size_t' {aka 'const long long unsigned int'} and 'R_xlen_t' {aka 'long long int'} [-Wsign-compare]
10 | if (npts!=Adex.size()) {
| ~~~~^~~~~~~~~~~~~
g++ -std=gnu++11 -I"F:/biocbuild/bbs-3.17-bioc/R/include" -DNDEBUG -I'F:/biocbuild/bbs-3.17-bioc/R/library/Rcpp/include' -I"c:/rtools42/x86_64-w64-mingw32.static.posix/include" -O2 -Wall -mfpmath=sse -msse2 -mstackrealign -c detect_overlaps.cpp -o detect_overlaps.o
g++ -std=gnu++11 -I"F:/biocbuild/bbs-3.17-bioc/R/include" -DNDEBUG -I'F:/biocbuild/bbs-3.17-bioc/R/library/Rcpp/include' -I"c:/rtools42/x86_64-w64-mingw32.static.posix/include" -O2 -Wall -mfpmath=sse -msse2 -mstackrealign -c init.cpp -o init.o
g++ -std=gnu++11 -I"F:/biocbuild/bbs-3.17-bioc/R/include" -DNDEBUG -I'F:/biocbuild/bbs-3.17-bioc/R/library/Rcpp/include' -I"c:/rtools42/x86_64-w64-mingw32.static.posix/include" -O2 -Wall -mfpmath=sse -msse2 -mstackrealign -c link_overlaps.cpp -o link_overlaps.o
g++ -std=gnu++11 -I"F:/biocbuild/bbs-3.17-bioc/R/include" -DNDEBUG -I'F:/biocbuild/bbs-3.17-bioc/R/library/Rcpp/include' -I"c:/rtools42/x86_64-w64-mingw32.static.posix/include" -O2 -Wall -mfpmath=sse -msse2 -mstackrealign -c overlap_utils.cpp -o overlap_utils.o
g++ -shared -s -static-libgcc -o InteractionSet.dll tmp.def box_bounds.o detect_overlaps.o init.o link_overlaps.o overlap_utils.o -Lc:/rtools42/x86_64-w64-mingw32.static.posix/lib/x64 -Lc:/rtools42/x86_64-w64-mingw32.static.posix/lib -LF:/biocbuild/bbs-3.17-bioc/R/bin/x64 -lR
installing to F:/biocbuild/bbs-3.17-bioc-rtools43/meat/InteractionSet.buildbin-libdir/00LOCK-InteractionSet/00new/InteractionSet/libs/x64
** R
** inst
** byte-compile and prepare package for lazy loading
** help
*** installing help indices
** building package indices
** installing vignettes
** testing if installed package can be loaded from temporary location
** testing if installed package can be loaded from final location
** testing if installed package keeps a record of temporary installation path
* MD5 sums
packaged installation of 'InteractionSet' as InteractionSet_1.27.0.zip
* DONE (InteractionSet)