| Back to Build/check report for BioC 3.17 |
|
This page was generated on 2023-01-02 09:00:35 -0500 (Mon, 02 Jan 2023).
| Hostname | OS | Arch (*) | R version | Installed pkgs |
|---|---|---|---|---|
| palomino5 | Windows Server 2022 Datacenter | x64 | R Under development (unstable) (2022-12-25 r83502 ucrt) -- "Unsuffered Consequences" | 4165 |
| Click on any hostname to see more info about the system (e.g. compilers) (*) as reported by 'uname -p', except on Windows and Mac OS X | ||||
|
To the developers/maintainers of the IntEREst package: Make sure to use the following settings in order to reproduce any error or warning you see on this page. |
| Package 972/2158 | Hostname | OS / Arch | INSTALL | BUILD | CHECK | BUILD BIN | ||||||||
| IntEREst 1.23.2 (landing page) Ali Oghabian
| palomino5 | Windows Server 2022 Datacenter / x64 | OK | OK | OK | OK | ||||||||
| Package: IntEREst |
| Version: 1.23.2 |
| Command: F:\biocbuild\bbs-3.17-bioc\R\bin\R.exe CMD check --no-multiarch --install=check:IntEREst.install-out.txt --library=F:\biocbuild\bbs-3.17-bioc\R\library --no-vignettes --timings IntEREst_1.23.2.tar.gz |
| StartedAt: 2022-12-29 00:42:34 -0500 (Thu, 29 Dec 2022) |
| EndedAt: 2022-12-29 00:47:14 -0500 (Thu, 29 Dec 2022) |
| EllapsedTime: 279.8 seconds |
| RetCode: 0 |
| Status: OK |
| CheckDir: IntEREst.Rcheck |
| Warnings: 0 |
##############################################################################
##############################################################################
###
### Running command:
###
### F:\biocbuild\bbs-3.17-bioc\R\bin\R.exe CMD check --no-multiarch --install=check:IntEREst.install-out.txt --library=F:\biocbuild\bbs-3.17-bioc\R\library --no-vignettes --timings IntEREst_1.23.2.tar.gz
###
##############################################################################
##############################################################################
* using log directory 'F:/biocbuild/bbs-3.17-bioc-rtools43/meat/IntEREst.Rcheck'
* using R Under development (unstable) (2022-12-25 r83502 ucrt)
* using platform: x86_64-w64-mingw32 (64-bit)
* R was compiled by
gcc.exe (GCC) 10.4.0
GNU Fortran (GCC) 10.4.0
* running under: Windows Server x64 (build 20348)
* using session charset: UTF-8
* using option '--no-vignettes'
* checking for file 'IntEREst/DESCRIPTION' ... OK
* this is package 'IntEREst' version '1.23.2'
* checking package namespace information ... OK
* checking package dependencies ... NOTE
Depends: includes the non-default packages:
'GenomicRanges', 'Rsamtools', 'SummarizedExperiment', 'edgeR',
'S4Vectors', 'GenomicFiles'
Adding so many packages to the search path is excessive and importing
selectively is preferable.
* checking if this is a source package ... OK
* checking if there is a namespace ... OK
* checking for hidden files and directories ... OK
* checking for portable file names ... OK
* checking whether package 'IntEREst' can be installed ... OK
* checking installed package size ... OK
* checking package directory ... OK
* checking 'build' directory ... OK
* checking DESCRIPTION meta-information ... OK
* checking top-level files ... OK
* checking for left-over files ... OK
* checking index information ... OK
* checking package subdirectories ... OK
* checking R files for non-ASCII characters ... OK
* checking R files for syntax errors ... OK
* checking whether the package can be loaded ... OK
* checking whether the package can be loaded with stated dependencies ... OK
* checking whether the package can be unloaded cleanly ... OK
* checking whether the namespace can be loaded with stated dependencies ... OK
* checking whether the namespace can be unloaded cleanly ... OK
* checking dependencies in R code ... OK
* checking S3 generic/method consistency ... OK
* checking replacement functions ... OK
* checking foreign function calls ... OK
* checking R code for possible problems ... OK
* checking Rd files ... OK
* checking Rd metadata ... OK
* checking Rd cross-references ... OK
* checking for missing documentation entries ... OK
* checking for code/documentation mismatches ... OK
* checking Rd \usage sections ... OK
* checking Rd contents ... OK
* checking for unstated dependencies in examples ... OK
* checking contents of 'data' directory ... OK
* checking data for non-ASCII characters ... OK
* checking LazyData ... OK
* checking data for ASCII and uncompressed saves ... OK
* checking files in 'vignettes' ... OK
* checking examples ... OK
Examples with CPU (user + system) or elapsed time > 5s
user system elapsed
DEXSeqIntEREst 17.03 0.17 17.2
* checking for unstated dependencies in vignettes ... OK
* checking package vignettes in 'inst/doc' ... OK
* checking running R code from vignettes ... SKIPPED
* checking re-building of vignette outputs ... SKIPPED
* checking PDF version of manual ... OK
* DONE
Status: 1 NOTE
See
'F:/biocbuild/bbs-3.17-bioc-rtools43/meat/IntEREst.Rcheck/00check.log'
for details.
IntEREst.Rcheck/00install.out
############################################################################## ############################################################################## ### ### Running command: ### ### F:\biocbuild\bbs-3.17-bioc\R\bin\R.exe CMD INSTALL IntEREst ### ############################################################################## ############################################################################## * installing to library 'F:/biocbuild/bbs-3.17-bioc/R/library' * installing *source* package 'IntEREst' ... ** using staged installation ** R ** data *** moving datasets to lazyload DB ** inst ** byte-compile and prepare package for lazy loading ** help *** installing help indices ** building package indices ** installing vignettes ** testing if installed package can be loaded from temporary location ** testing if installed package can be loaded from final location ** testing if installed package keeps a record of temporary installation path * DONE (IntEREst)
IntEREst.Rcheck/IntEREst-Ex.timings
| name | user | system | elapsed | |
| DEXSeqIntEREst | 17.03 | 0.17 | 17.20 | |
| addAnnotation | 0.03 | 0.00 | 0.03 | |
| annotateU12 | 1.54 | 0.16 | 1.71 | |
| applyOverlap | 0.13 | 0.00 | 0.12 | |
| attributes | 0.02 | 0.00 | 0.02 | |
| boxplot-method | 0.03 | 0.00 | 0.03 | |
| buildSsTypePwms | 0 | 0 | 0 | |
| counts-method | 0.03 | 0.00 | 0.03 | |
| deseqInterest | 3.45 | 0.01 | 3.47 | |
| exactTestInterest | 0.08 | 0.00 | 0.08 | |
| getRepeatTable | 0 | 0 | 0 | |
| glmInterest | 0.17 | 0.00 | 0.17 | |
| interest | 1.17 | 0.02 | 1.19 | |
| interest.sequential | 0.89 | 0.03 | 0.92 | |
| interestResult | 0.02 | 0.00 | 0.01 | |
| interestResultIntEx | 0.12 | 0.00 | 0.13 | |
| intexIndex | 0 | 0 | 0 | |
| lfc | 0.19 | 0.02 | 0.21 | |
| mergeInterestResult | 0.06 | 0.00 | 0.06 | |
| plot-method | 0.22 | 0.02 | 0.23 | |
| psi | 0.60 | 0.03 | 0.63 | |
| qlfInterest | 0.2 | 0.0 | 0.2 | |
| readInterestResults | 0.05 | 0.00 | 0.05 | |
| referencePrepare | 0.79 | 0.01 | 0.81 | |
| subInterestResult | 0.03 | 0.00 | 0.03 | |
| treatInterest | 0.18 | 0.00 | 0.17 | |
| u12Boxplot | 0.04 | 0.00 | 0.05 | |
| u12BoxplotNb | 0.05 | 0.00 | 0.05 | |
| u12DensityPlot | 0.28 | 0.00 | 0.28 | |
| u12Index | 0.02 | 0.00 | 0.02 | |
| u12NbIndex | 0.03 | 0.00 | 0.03 | |
| unionRefTr | 0.01 | 0.00 | 0.01 | |
| updateRowDataCol | 0.04 | 0.00 | 0.03 | |