| Back to Build/check report for BioC 3.17 |
|
This page was generated on 2023-01-02 09:00:34 -0500 (Mon, 02 Jan 2023).
| Hostname | OS | Arch (*) | R version | Installed pkgs |
|---|---|---|---|---|
| palomino5 | Windows Server 2022 Datacenter | x64 | R Under development (unstable) (2022-12-25 r83502 ucrt) -- "Unsuffered Consequences" | 4165 |
| Click on any hostname to see more info about the system (e.g. compilers) (*) as reported by 'uname -p', except on Windows and Mac OS X | ||||
|
To the developers/maintainers of the ImmuneSpaceR package: Make sure to use the following settings in order to reproduce any error or warning you see on this page. |
| Package 952/2158 | Hostname | OS / Arch | INSTALL | BUILD | CHECK | BUILD BIN | ||||||||
| ImmuneSpaceR 1.27.1 (landing page) ImmuneSpace Package Maintainer
| palomino5 | Windows Server 2022 Datacenter / x64 | OK | OK | OK | OK | ||||||||
| Package: ImmuneSpaceR |
| Version: 1.27.1 |
| Command: chmod a+r ImmuneSpaceR -R && F:\biocbuild\bbs-3.17-bioc\R\bin\R.exe CMD build --keep-empty-dirs --no-resave-data ImmuneSpaceR |
| StartedAt: 2022-12-28 18:39:53 -0500 (Wed, 28 Dec 2022) |
| EndedAt: 2022-12-28 18:41:48 -0500 (Wed, 28 Dec 2022) |
| EllapsedTime: 115.8 seconds |
| RetCode: 0 |
| Status: OK |
| PackageFile: ImmuneSpaceR_1.27.1.tar.gz |
| PackageFileSize: 1014 KiB |
##############################################################################
##############################################################################
###
### Running command:
###
### chmod a+r ImmuneSpaceR -R && F:\biocbuild\bbs-3.17-bioc\R\bin\R.exe CMD build --keep-empty-dirs --no-resave-data ImmuneSpaceR
###
##############################################################################
##############################################################################
* checking for file 'ImmuneSpaceR/DESCRIPTION' ... OK
* preparing 'ImmuneSpaceR':
* checking DESCRIPTION meta-information ... OK
* installing the package to build vignettes
* creating vignettes ... OK
* checking for LF line-endings in source and make files and shell scripts
* checking for empty or unneeded directories
NB: this package now depends on R (>= 3.5.0)
WARNING: Added dependency on R >= 3.5.0 because serialized objects in
serialize/load version 3 cannot be read in older versions of R.
File(s) containing such objects:
'ImmuneSpaceR/tests/testthat/datasets/SDY180_fcs_control_files.rds'
'ImmuneSpaceR/tests/testthat/datasets/SDY180_fcs_sample_files.rds'
'ImmuneSpaceR/tests/testthat/datasets/SDY180_mbaa.rds'
'ImmuneSpaceR/tests/testthat/datasets/SDY180_neut_ab_titer.rds'
'ImmuneSpaceR/tests/testthat/datasets/SDY269_elisa.rds'
'ImmuneSpaceR/tests/testthat/datasets/SDY269_elispot.rds'
'ImmuneSpaceR/tests/testthat/datasets/SDY269_hai.rds'
* building 'ImmuneSpaceR_1.27.1.tar.gz'