| Back to Build/check report for BioC 3.17 | 
  | 
This page was generated on 2023-01-02 09:00:35 -0500 (Mon, 02 Jan 2023).
| Hostname | OS | Arch (*) | R version | Installed pkgs | 
|---|---|---|---|---|
| palomino5 | Windows Server 2022 Datacenter | x64 | R Under development (unstable) (2022-12-25 r83502 ucrt) -- "Unsuffered Consequences" | 4165 | 
| Click on any hostname to see more info about the system (e.g. compilers) (*) as reported by 'uname -p', except on Windows and Mac OS X | ||||
| 
To the developers/maintainers of the IVAS package: Make sure to use the following settings in order to reproduce any error or warning you see on this page.  | 
| Package 999/2158 | Hostname | OS / Arch | INSTALL | BUILD | CHECK | BUILD BIN | ||||||||
| IVAS 2.19.0  (landing page) Seonggyun Han 
  | palomino5 | Windows Server 2022 Datacenter / x64 | OK | OK | WARNINGS | OK | ||||||||
| Package: IVAS | 
| Version: 2.19.0 | 
| Command: rm -rf IVAS.buildbin-libdir && mkdir IVAS.buildbin-libdir && F:\biocbuild\bbs-3.17-bioc\R\bin\R.exe CMD INSTALL --build --library=IVAS.buildbin-libdir IVAS_2.19.0.tar.gz | 
| StartedAt: 2022-12-29 05:18:40 -0500 (Thu, 29 Dec 2022) | 
| EndedAt: 2022-12-29 05:19:21 -0500 (Thu, 29 Dec 2022) | 
| EllapsedTime: 41.7 seconds | 
| RetCode: 0 | 
| Status: OK | 
| PackageFile: IVAS_2.19.0.zip | 
| PackageFileSize: 679 KiB | 
############################################################################## ############################################################################## ### ### Running command: ### ### rm -rf IVAS.buildbin-libdir && mkdir IVAS.buildbin-libdir && F:\biocbuild\bbs-3.17-bioc\R\bin\R.exe CMD INSTALL --build --library=IVAS.buildbin-libdir IVAS_2.19.0.tar.gz ### ############################################################################## ############################################################################## * installing *source* package 'IVAS' ... ** using staged installation ** R ** data ** inst ** byte-compile and prepare package for lazy loading Note: next used in wrong context: no loop is visible ** help *** installing help indices ** building package indices ** installing vignettes ** testing if installed package can be loaded from temporary location ** testing if installed package can be loaded from final location ** testing if installed package keeps a record of temporary installation path * MD5 sums packaged installation of 'IVAS' as IVAS_2.19.0.zip * DONE (IVAS)