| Back to Build/check report for BioC 3.17 |
|
This page was generated on 2023-01-02 09:00:35 -0500 (Mon, 02 Jan 2023).
| Hostname | OS | Arch (*) | R version | Installed pkgs |
|---|---|---|---|---|
| palomino5 | Windows Server 2022 Datacenter | x64 | R Under development (unstable) (2022-12-25 r83502 ucrt) -- "Unsuffered Consequences" | 4165 |
| Click on any hostname to see more info about the system (e.g. compilers) (*) as reported by 'uname -p', except on Windows and Mac OS X | ||||
|
To the developers/maintainers of the IRanges package: Make sure to use the following settings in order to reproduce any error or warning you see on this page. |
| Package 980/2158 | Hostname | OS / Arch | INSTALL | BUILD | CHECK | BUILD BIN | ||||||||
| IRanges 2.33.0 (landing page) Hervé Pagès
| palomino5 | Windows Server 2022 Datacenter / x64 | OK | OK | WARNINGS | OK | ||||||||
| Package: IRanges |
| Version: 2.33.0 |
| Command: rm -rf IRanges.buildbin-libdir && mkdir IRanges.buildbin-libdir && F:\biocbuild\bbs-3.17-bioc\R\bin\R.exe CMD INSTALL --build --library=IRanges.buildbin-libdir IRanges_2.33.0.tar.gz |
| StartedAt: 2022-12-29 05:17:56 -0500 (Thu, 29 Dec 2022) |
| EndedAt: 2022-12-29 05:19:27 -0500 (Thu, 29 Dec 2022) |
| EllapsedTime: 91.1 seconds |
| RetCode: 0 |
| Status: OK |
| PackageFile: IRanges_2.33.0.zip |
| PackageFileSize: 2.182 MiB |
##############################################################################
##############################################################################
###
### Running command:
###
### rm -rf IRanges.buildbin-libdir && mkdir IRanges.buildbin-libdir && F:\biocbuild\bbs-3.17-bioc\R\bin\R.exe CMD INSTALL --build --library=IRanges.buildbin-libdir IRanges_2.33.0.tar.gz
###
##############################################################################
##############################################################################
* installing *source* package 'IRanges' ...
** using staged installation
** libs
using C compiler: 'gcc.exe (GCC) 12.2.0'
gcc -I"F:/biocbuild/bbs-3.17-bioc/R/include" -DNDEBUG -I'F:/biocbuild/bbs-3.17-bioc/R/library/S4Vectors/include' -I"c:/rtools42/x86_64-w64-mingw32.static.posix/include" -O2 -Wall -std=gnu99 -mfpmath=sse -msse2 -mstackrealign -c CompressedAtomicList_utils.c -o CompressedAtomicList_utils.o
gcc -I"F:/biocbuild/bbs-3.17-bioc/R/include" -DNDEBUG -I'F:/biocbuild/bbs-3.17-bioc/R/library/S4Vectors/include' -I"c:/rtools42/x86_64-w64-mingw32.static.posix/include" -O2 -Wall -std=gnu99 -mfpmath=sse -msse2 -mstackrealign -c CompressedIRangesList_class.c -o CompressedIRangesList_class.o
gcc -I"F:/biocbuild/bbs-3.17-bioc/R/include" -DNDEBUG -I'F:/biocbuild/bbs-3.17-bioc/R/library/S4Vectors/include' -I"c:/rtools42/x86_64-w64-mingw32.static.posix/include" -O2 -Wall -std=gnu99 -mfpmath=sse -msse2 -mstackrealign -c CompressedList_class.c -o CompressedList_class.o
gcc -I"F:/biocbuild/bbs-3.17-bioc/R/include" -DNDEBUG -I'F:/biocbuild/bbs-3.17-bioc/R/library/S4Vectors/include' -I"c:/rtools42/x86_64-w64-mingw32.static.posix/include" -O2 -Wall -std=gnu99 -mfpmath=sse -msse2 -mstackrealign -c Grouping_class.c -o Grouping_class.o
gcc -I"F:/biocbuild/bbs-3.17-bioc/R/include" -DNDEBUG -I'F:/biocbuild/bbs-3.17-bioc/R/library/S4Vectors/include' -I"c:/rtools42/x86_64-w64-mingw32.static.posix/include" -O2 -Wall -std=gnu99 -mfpmath=sse -msse2 -mstackrealign -c IPosRanges_comparison.c -o IPosRanges_comparison.o
gcc -I"F:/biocbuild/bbs-3.17-bioc/R/include" -DNDEBUG -I'F:/biocbuild/bbs-3.17-bioc/R/library/S4Vectors/include' -I"c:/rtools42/x86_64-w64-mingw32.static.posix/include" -O2 -Wall -std=gnu99 -mfpmath=sse -msse2 -mstackrealign -c IRanges_class.c -o IRanges_class.o
gcc -I"F:/biocbuild/bbs-3.17-bioc/R/include" -DNDEBUG -I'F:/biocbuild/bbs-3.17-bioc/R/library/S4Vectors/include' -I"c:/rtools42/x86_64-w64-mingw32.static.posix/include" -O2 -Wall -std=gnu99 -mfpmath=sse -msse2 -mstackrealign -c IRanges_constructor.c -o IRanges_constructor.o
gcc -I"F:/biocbuild/bbs-3.17-bioc/R/include" -DNDEBUG -I'F:/biocbuild/bbs-3.17-bioc/R/library/S4Vectors/include' -I"c:/rtools42/x86_64-w64-mingw32.static.posix/include" -O2 -Wall -std=gnu99 -mfpmath=sse -msse2 -mstackrealign -c NCList.c -o NCList.o
NCList.c:1173:13: warning: 'NCList_get_y_overlaps_rec' defined but not used [-Wunused-function]
1173 | static void NCList_get_y_overlaps_rec(const NCList *x_nclist,
| ^~~~~~~~~~~~~~~~~~~~~~~~~
NCList.c:202:22: warning: 'next_top_down' defined but not used [-Wunused-function]
202 | static const NCList *next_top_down(const NCList *nclist)
| ^~~~~~~~~~~~~
NCList.c: In function 'C_print_NCListAsINTSXP':
NCList.c:674:37: warning: '%d' directive writing between 1 and 11 bytes into a region of size 8 [-Wformat-overflow=]
674 | sprintf(format, "%c0%d%c", '%', max_digits, 'd');
| ^~
NCList.c:674:33: note: directive argument in the range [-2147483647, 2147483647]
674 | sprintf(format, "%c0%d%c", '%', max_digits, 'd');
| ^~~~~~~~~
NCList.c:674:17: note: 'sprintf' output between 5 and 15 bytes into a destination of size 10
674 | sprintf(format, "%c0%d%c", '%', max_digits, 'd');
| ^~~~~~~~~~~~~~~~~~~~~~~~~~~~~~~~~~~~~~~~~~~~~~~~
gcc -I"F:/biocbuild/bbs-3.17-bioc/R/include" -DNDEBUG -I'F:/biocbuild/bbs-3.17-bioc/R/library/S4Vectors/include' -I"c:/rtools42/x86_64-w64-mingw32.static.posix/include" -O2 -Wall -std=gnu99 -mfpmath=sse -msse2 -mstackrealign -c R_init_IRanges.c -o R_init_IRanges.o
gcc -I"F:/biocbuild/bbs-3.17-bioc/R/include" -DNDEBUG -I'F:/biocbuild/bbs-3.17-bioc/R/library/S4Vectors/include' -I"c:/rtools42/x86_64-w64-mingw32.static.posix/include" -O2 -Wall -std=gnu99 -mfpmath=sse -msse2 -mstackrealign -c Ranges_class.c -o Ranges_class.o
gcc -I"F:/biocbuild/bbs-3.17-bioc/R/include" -DNDEBUG -I'F:/biocbuild/bbs-3.17-bioc/R/library/S4Vectors/include' -I"c:/rtools42/x86_64-w64-mingw32.static.posix/include" -O2 -Wall -std=gnu99 -mfpmath=sse -msse2 -mstackrealign -c RleViews_utils.c -o RleViews_utils.o
gcc -I"F:/biocbuild/bbs-3.17-bioc/R/include" -DNDEBUG -I'F:/biocbuild/bbs-3.17-bioc/R/library/S4Vectors/include' -I"c:/rtools42/x86_64-w64-mingw32.static.posix/include" -O2 -Wall -std=gnu99 -mfpmath=sse -msse2 -mstackrealign -c S4Vectors_stubs.c -o S4Vectors_stubs.o
gcc -I"F:/biocbuild/bbs-3.17-bioc/R/include" -DNDEBUG -I'F:/biocbuild/bbs-3.17-bioc/R/library/S4Vectors/include' -I"c:/rtools42/x86_64-w64-mingw32.static.posix/include" -O2 -Wall -std=gnu99 -mfpmath=sse -msse2 -mstackrealign -c SimpleIRangesList_class.c -o SimpleIRangesList_class.o
gcc -I"F:/biocbuild/bbs-3.17-bioc/R/include" -DNDEBUG -I'F:/biocbuild/bbs-3.17-bioc/R/library/S4Vectors/include' -I"c:/rtools42/x86_64-w64-mingw32.static.posix/include" -O2 -Wall -std=gnu99 -mfpmath=sse -msse2 -mstackrealign -c coverage_methods.c -o coverage_methods.o
In function 'shift_and_clip_ranges',
inlined from 'compute_coverage_from_IRanges_holder' at coverage_methods.c:609:12:
coverage_methods.c:579:35: warning: 'x_end' may be used uninitialized [-Wmaybe-uninitialized]
579 | if (*out_ranges_are_tiles && x_end != cvg_len)
| ~~~~~~~~~~~~~~~~~~~~~~^~~~~~~~~~~~~~~~~~~
coverage_methods.c: In function 'compute_coverage_from_IRanges_holder':
coverage_methods.c:495:28: note: 'x_end' was declared here
495 | i, j, x_start, x_end, shift_elt, tmp;
| ^~~~~
gcc -I"F:/biocbuild/bbs-3.17-bioc/R/include" -DNDEBUG -I'F:/biocbuild/bbs-3.17-bioc/R/library/S4Vectors/include' -I"c:/rtools42/x86_64-w64-mingw32.static.posix/include" -O2 -Wall -std=gnu99 -mfpmath=sse -msse2 -mstackrealign -c extractListFragments.c -o extractListFragments.o
extractListFragments.c: In function 'C_find_partition_overlaps':
extractListFragments.c:66:33: warning: 'split_partitions_buf' may be used uninitialized [-Wmaybe-uninitialized]
66 | IntAE_insert_at(split_partitions_buf,
| ^~~~~~~~~~~~~~~~~~~~~~~~~~~~~~~~~~~~~
67 | IntAE_get_nelt(split_partitions_buf),
| ~~~~~~~~~~~~~~~~~~~~~~~~~~~~~~~~~~~~~
68 | q_prev_end);
| ~~~~~~~~~~~
extractListFragments.c:35:16: note: 'split_partitions_buf' was declared here
35 | IntAE *split_partitions_buf;
| ^~~~~~~~~~~~~~~~~~~~
gcc -I"F:/biocbuild/bbs-3.17-bioc/R/include" -DNDEBUG -I'F:/biocbuild/bbs-3.17-bioc/R/library/S4Vectors/include' -I"c:/rtools42/x86_64-w64-mingw32.static.posix/include" -O2 -Wall -std=gnu99 -mfpmath=sse -msse2 -mstackrealign -c inter_range_methods.c -o inter_range_methods.o
gcc -shared -s -static-libgcc -o IRanges.dll tmp.def CompressedAtomicList_utils.o CompressedIRangesList_class.o CompressedList_class.o Grouping_class.o IPosRanges_comparison.o IRanges_class.o IRanges_constructor.o NCList.o R_init_IRanges.o Ranges_class.o RleViews_utils.o S4Vectors_stubs.o SimpleIRangesList_class.o coverage_methods.o extractListFragments.o inter_range_methods.o -Lc:/rtools42/x86_64-w64-mingw32.static.posix/lib/x64 -Lc:/rtools42/x86_64-w64-mingw32.static.posix/lib -LF:/biocbuild/bbs-3.17-bioc/R/bin/x64 -lR
installing to F:/biocbuild/bbs-3.17-bioc-rtools43/meat/IRanges.buildbin-libdir/00LOCK-IRanges/00new/IRanges/libs/x64
** R
** inst
** byte-compile and prepare package for lazy loading
Creating a generic function for 'drop' from package 'base' in package 'IRanges'
Creating a generic function for 'runmed' from package 'stats' in package 'IRanges'
Creating a generic function for 'chartr' from package 'base' in package 'IRanges'
Creating a generic function for 'toupper' from package 'base' in package 'IRanges'
Creating a generic function for 'tolower' from package 'base' in package 'IRanges'
Creating a generic function for 'sub' from package 'base' in package 'IRanges'
Creating a generic function for 'gsub' from package 'base' in package 'IRanges'
Creating a generic function for 'startsWith' from package 'base' in package 'IRanges'
Creating a generic function for 'endsWith' from package 'base' in package 'IRanges'
Creating a generic function for 'smoothEnds' from package 'stats' in package 'IRanges'
Creating a new generic function for 'windows' in package 'IRanges'
** help
*** installing help indices
** building package indices
** installing vignettes
** testing if installed package can be loaded from temporary location
** testing if installed package can be loaded from final location
** testing if installed package keeps a record of temporary installation path
* MD5 sums
packaged installation of 'IRanges' as IRanges_2.33.0.zip
* DONE (IRanges)