| Back to Build/check report for BioC 3.17 |
|
This page was generated on 2023-01-02 09:00:31 -0500 (Mon, 02 Jan 2023).
| Hostname | OS | Arch (*) | R version | Installed pkgs |
|---|---|---|---|---|
| palomino5 | Windows Server 2022 Datacenter | x64 | R Under development (unstable) (2022-12-25 r83502 ucrt) -- "Unsuffered Consequences" | 4165 |
| Click on any hostname to see more info about the system (e.g. compilers) (*) as reported by 'uname -p', except on Windows and Mac OS X | ||||
|
To the developers/maintainers of the GeomxTools package: Make sure to use the following settings in order to reproduce any error or warning you see on this page. |
| Package 789/2158 | Hostname | OS / Arch | INSTALL | BUILD | CHECK | BUILD BIN | ||||||||
| GeomxTools 3.3.0 (landing page) Nicole Ortogero
| palomino5 | Windows Server 2022 Datacenter / x64 | OK | OK | WARNINGS | OK | ||||||||
| Package: GeomxTools |
| Version: 3.3.0 |
| Command: rm -rf GeomxTools.buildbin-libdir && mkdir GeomxTools.buildbin-libdir && F:\biocbuild\bbs-3.17-bioc\R\bin\R.exe CMD INSTALL --build --library=GeomxTools.buildbin-libdir GeomxTools_3.3.0.tar.gz |
| StartedAt: 2022-12-29 05:12:32 -0500 (Thu, 29 Dec 2022) |
| EndedAt: 2022-12-29 05:13:18 -0500 (Thu, 29 Dec 2022) |
| EllapsedTime: 45.2 seconds |
| RetCode: 0 |
| Status: OK |
| PackageFile: GeomxTools_3.3.0.zip |
| PackageFileSize: 12.79 MiB |
############################################################################## ############################################################################## ### ### Running command: ### ### rm -rf GeomxTools.buildbin-libdir && mkdir GeomxTools.buildbin-libdir && F:\biocbuild\bbs-3.17-bioc\R\bin\R.exe CMD INSTALL --build --library=GeomxTools.buildbin-libdir GeomxTools_3.3.0.tar.gz ### ############################################################################## ############################################################################## * installing *source* package 'GeomxTools' ... ** using staged installation ** R ** inst ** byte-compile and prepare package for lazy loading ** help *** installing help indices ** building package indices ** installing vignettes ** testing if installed package can be loaded from temporary location ** testing if installed package can be loaded from final location ** testing if installed package keeps a record of temporary installation path * MD5 sums packaged installation of 'GeomxTools' as GeomxTools_3.3.0.zip * DONE (GeomxTools)