| Back to Build/check report for BioC 3.17 |
|
This page was generated on 2023-01-02 09:00:31 -0500 (Mon, 02 Jan 2023).
| Hostname | OS | Arch (*) | R version | Installed pkgs |
|---|---|---|---|---|
| palomino5 | Windows Server 2022 Datacenter | x64 | R Under development (unstable) (2022-12-25 r83502 ucrt) -- "Unsuffered Consequences" | 4165 |
| Click on any hostname to see more info about the system (e.g. compilers) (*) as reported by 'uname -p', except on Windows and Mac OS X | ||||
|
To the developers/maintainers of the GenomicAlignments package: Make sure to use the following settings in order to reproduce any error or warning you see on this page. |
| Package 769/2158 | Hostname | OS / Arch | INSTALL | BUILD | CHECK | BUILD BIN | ||||||||
| GenomicAlignments 1.35.0 (landing page) Hervé Pagès
| palomino5 | Windows Server 2022 Datacenter / x64 | OK | OK | WARNINGS | OK | ||||||||
| Package: GenomicAlignments |
| Version: 1.35.0 |
| Command: chmod a+r GenomicAlignments -R && F:\biocbuild\bbs-3.17-bioc\R\bin\R.exe CMD build --keep-empty-dirs --no-resave-data GenomicAlignments |
| StartedAt: 2022-12-28 18:17:34 -0500 (Wed, 28 Dec 2022) |
| EndedAt: 2022-12-28 18:19:36 -0500 (Wed, 28 Dec 2022) |
| EllapsedTime: 122.0 seconds |
| RetCode: 0 |
| Status: OK |
| PackageFile: GenomicAlignments_1.35.0.tar.gz |
| PackageFileSize: 2.166 MiB |
############################################################################## ############################################################################## ### ### Running command: ### ### chmod a+r GenomicAlignments -R && F:\biocbuild\bbs-3.17-bioc\R\bin\R.exe CMD build --keep-empty-dirs --no-resave-data GenomicAlignments ### ############################################################################## ############################################################################## * checking for file 'GenomicAlignments/DESCRIPTION' ... OK * preparing 'GenomicAlignments': * checking DESCRIPTION meta-information ... OK * cleaning src * installing the package to build vignettes * creating vignettes ... OK * cleaning src * checking for LF line-endings in source and make files and shell scripts * checking for empty or unneeded directories * building 'GenomicAlignments_1.35.0.tar.gz'