| Back to Build/check report for BioC 3.17 |
|
This page was generated on 2023-01-02 09:00:30 -0500 (Mon, 02 Jan 2023).
| Hostname | OS | Arch (*) | R version | Installed pkgs |
|---|---|---|---|---|
| palomino5 | Windows Server 2022 Datacenter | x64 | R Under development (unstable) (2022-12-25 r83502 ucrt) -- "Unsuffered Consequences" | 4165 |
| Click on any hostname to see more info about the system (e.g. compilers) (*) as reported by 'uname -p', except on Windows and Mac OS X | ||||
|
To the developers/maintainers of the GeneRegionScan package: Make sure to use the following settings in order to reproduce any error or warning you see on this page. |
| Package 753/2158 | Hostname | OS / Arch | INSTALL | BUILD | CHECK | BUILD BIN | ||||||||
| GeneRegionScan 1.55.0 (landing page) Lasse Folkersen
| palomino5 | Windows Server 2022 Datacenter / x64 | ERROR | ERROR | skipped | skipped | ||||||||
| Package: GeneRegionScan |
| Version: 1.55.0 |
| Command: chmod a+r GeneRegionScan -R && F:\biocbuild\bbs-3.17-bioc\R\bin\R.exe CMD build --keep-empty-dirs --no-resave-data GeneRegionScan |
| StartedAt: 2022-12-28 18:16:34 -0500 (Wed, 28 Dec 2022) |
| EndedAt: 2022-12-28 18:16:36 -0500 (Wed, 28 Dec 2022) |
| EllapsedTime: 2.0 seconds |
| RetCode: 1 |
| Status: ERROR |
| PackageFile: None |
| PackageFileSize: NA |
##############################################################################
##############################################################################
###
### Running command:
###
### chmod a+r GeneRegionScan -R && F:\biocbuild\bbs-3.17-bioc\R\bin\R.exe CMD build --keep-empty-dirs --no-resave-data GeneRegionScan
###
##############################################################################
##############################################################################
* checking for file 'GeneRegionScan/DESCRIPTION' ... OK
* preparing 'GeneRegionScan':
* checking DESCRIPTION meta-information ... OK
* installing the package to build vignettes
-----------------------------------
ERROR: dependency 'affxparser' is not available for package 'GeneRegionScan'
* removing 'F:/biocbuild/bbs-3.17-bioc-rtools43/tmpdir/RtmpMZw478/Rinst47481d472286/GeneRegionScan'
-----------------------------------
ERROR: package installation failed