| Back to Build/check report for BioC 3.17 |
|
This page was generated on 2023-01-02 09:00:31 -0500 (Mon, 02 Jan 2023).
| Hostname | OS | Arch (*) | R version | Installed pkgs |
|---|---|---|---|---|
| palomino5 | Windows Server 2022 Datacenter | x64 | R Under development (unstable) (2022-12-25 r83502 ucrt) -- "Unsuffered Consequences" | 4165 |
| Click on any hostname to see more info about the system (e.g. compilers) (*) as reported by 'uname -p', except on Windows and Mac OS X | ||||
|
To the developers/maintainers of the GenProSeq package: Make sure to use the following settings in order to reproduce any error or warning you see on this page. |
| Package 783/2158 | Hostname | OS / Arch | INSTALL | BUILD | CHECK | BUILD BIN | ||||||||
| GenProSeq 1.3.0 (landing page) Dongmin Jung
| palomino5 | Windows Server 2022 Datacenter / x64 | OK | OK | OK | OK | ||||||||
| Package: GenProSeq |
| Version: 1.3.0 |
| Command: F:\biocbuild\bbs-3.17-bioc\R\bin\R.exe CMD check --no-multiarch --install=check:GenProSeq.install-out.txt --library=F:\biocbuild\bbs-3.17-bioc\R\library --no-vignettes --timings GenProSeq_1.3.0.tar.gz |
| StartedAt: 2022-12-29 00:08:28 -0500 (Thu, 29 Dec 2022) |
| EndedAt: 2022-12-29 00:11:59 -0500 (Thu, 29 Dec 2022) |
| EllapsedTime: 211.2 seconds |
| RetCode: 0 |
| Status: OK |
| CheckDir: GenProSeq.Rcheck |
| Warnings: 0 |
##############################################################################
##############################################################################
###
### Running command:
###
### F:\biocbuild\bbs-3.17-bioc\R\bin\R.exe CMD check --no-multiarch --install=check:GenProSeq.install-out.txt --library=F:\biocbuild\bbs-3.17-bioc\R\library --no-vignettes --timings GenProSeq_1.3.0.tar.gz
###
##############################################################################
##############################################################################
* using log directory 'F:/biocbuild/bbs-3.17-bioc-rtools43/meat/GenProSeq.Rcheck'
* using R Under development (unstable) (2022-12-25 r83502 ucrt)
* using platform: x86_64-w64-mingw32 (64-bit)
* R was compiled by
gcc.exe (GCC) 10.4.0
GNU Fortran (GCC) 10.4.0
* running under: Windows Server x64 (build 20348)
* using session charset: UTF-8
* using option '--no-vignettes'
* checking for file 'GenProSeq/DESCRIPTION' ... OK
* checking extension type ... Package
* this is package 'GenProSeq' version '1.3.0'
* checking package namespace information ... OK
* checking package dependencies ... OK
* checking if this is a source package ... OK
* checking if there is a namespace ... OK
* checking for hidden files and directories ... NOTE
Found the following hidden files and directories:
.BBSoptions
These were most likely included in error. See section 'Package
structure' in the 'Writing R Extensions' manual.
* checking for portable file names ... OK
* checking whether package 'GenProSeq' can be installed ... OK
* checking installed package size ... OK
* checking package directory ... OK
* checking 'build' directory ... OK
* checking DESCRIPTION meta-information ... OK
* checking top-level files ... OK
* checking for left-over files ... OK
* checking index information ... OK
* checking package subdirectories ... OK
* checking R files for non-ASCII characters ... OK
* checking R files for syntax errors ... OK
* checking whether the package can be loaded ... OK
* checking whether the package can be loaded with stated dependencies ... OK
* checking whether the package can be unloaded cleanly ... OK
* checking whether the namespace can be loaded with stated dependencies ... OK
* checking whether the namespace can be unloaded cleanly ... OK
* checking dependencies in R code ... OK
* checking S3 generic/method consistency ... OK
* checking replacement functions ... OK
* checking foreign function calls ... OK
* checking R code for possible problems ... NOTE
fit_VAE: no visible binding for global variable 'z_mean'
fit_VAE: no visible binding for global variable 'z_log_stddev'
fit_VAE : vae_loss: no visible binding for global variable
'z_log_stddev'
fit_VAE : vae_loss: no visible binding for global variable 'z_mean'
layer_embedding_token_position : <anonymous>: no visible global
function definition for 'super'
layer_embedding_token_position : <anonymous>: no visible binding for
global variable 'self'
layer_transformer_encoder : <anonymous>: no visible global function
definition for 'super'
layer_transformer_encoder : <anonymous>: no visible binding for global
variable 'self'
Undefined global functions or variables:
self super z_log_stddev z_mean
* checking Rd files ... OK
* checking Rd metadata ... OK
* checking Rd cross-references ... OK
* checking for missing documentation entries ... OK
* checking for code/documentation mismatches ... OK
* checking Rd \usage sections ... OK
* checking Rd contents ... OK
* checking for unstated dependencies in examples ... OK
* checking contents of 'data' directory ... OK
* checking data for non-ASCII characters ... OK
* checking data for ASCII and uncompressed saves ... OK
* checking files in 'vignettes' ... OK
* checking examples ... OK
Examples with CPU (user + system) or elapsed time > 5s
user system elapsed
VAE 49.98 9.72 39.11
ART 41.25 4.81 71.16
GAN 14.88 3.94 11.95
* checking for unstated dependencies in 'tests' ... OK
* checking tests ...
Running 'testthat.R'
OK
* checking for unstated dependencies in vignettes ... OK
* checking package vignettes in 'inst/doc' ... OK
* checking running R code from vignettes ... SKIPPED
* checking re-building of vignette outputs ... SKIPPED
* checking PDF version of manual ... OK
* DONE
Status: 2 NOTEs
See
'F:/biocbuild/bbs-3.17-bioc-rtools43/meat/GenProSeq.Rcheck/00check.log'
for details.
GenProSeq.Rcheck/00install.out
############################################################################## ############################################################################## ### ### Running command: ### ### F:\biocbuild\bbs-3.17-bioc\R\bin\R.exe CMD INSTALL GenProSeq ### ############################################################################## ############################################################################## * installing to library 'F:/biocbuild/bbs-3.17-bioc/R/library' * installing *source* package 'GenProSeq' ... ** using staged installation ** R ** data ** inst ** byte-compile and prepare package for lazy loading ** help *** installing help indices ** building package indices ** installing vignettes ** testing if installed package can be loaded from temporary location ** testing if installed package can be loaded from final location ** testing if installed package keeps a record of temporary installation path * DONE (GenProSeq)
GenProSeq.Rcheck/tests/testthat.Rout
R Under development (unstable) (2022-12-25 r83502 ucrt) -- "Unsuffered Consequences"
Copyright (C) 2022 The R Foundation for Statistical Computing
Platform: x86_64-w64-mingw32/x64 (64-bit)
R is free software and comes with ABSOLUTELY NO WARRANTY.
You are welcome to redistribute it under certain conditions.
Type 'license()' or 'licence()' for distribution details.
R is a collaborative project with many contributors.
Type 'contributors()' for more information and
'citation()' on how to cite R or R packages in publications.
Type 'demo()' for some demos, 'help()' for on-line help, or
'help.start()' for an HTML browser interface to help.
Type 'q()' to quit R.
> library(testthat)
> library(GenProSeq)
Loading required package: keras
Loading required package: mclust
Package 'mclust' version 6.0.0
Type 'citation("mclust")' for citing this R package in publications.
>
> test_check("GenProSeq")
2022-12-29 00:11:46.363333: W tensorflow/stream_executor/platform/default/dso_loader.cc:64] Could not load dynamic library 'cudart64_110.dll'; dlerror: cudart64_110.dll not found
2022-12-29 00:11:46.363377: I tensorflow/stream_executor/cuda/cudart_stub.cc:29] Ignore above cudart dlerror if you do not have a GPU set up on your machine.
[ FAIL 0 | WARN 14 | SKIP 0 | PASS 26 ]
[ FAIL 0 | WARN 14 | SKIP 0 | PASS 26 ]
>
> proc.time()
user system elapsed
5.31 1.62 7.31
GenProSeq.Rcheck/GenProSeq-Ex.timings
| name | user | system | elapsed | |
| ART | 41.25 | 4.81 | 71.16 | |
| GAN | 14.88 | 3.94 | 11.95 | |
| VAE | 49.98 | 9.72 | 39.11 | |
| prot_seq_check | 0.03 | 0.00 | 0.03 | |
| prot_vec | 0.27 | 0.00 | 0.29 | |
| transformer | 0.66 | 0.00 | 0.66 | |