| Back to Build/check report for BioC 3.17 |
|
This page was generated on 2023-01-02 09:00:30 -0500 (Mon, 02 Jan 2023).
| Hostname | OS | Arch (*) | R version | Installed pkgs |
|---|---|---|---|---|
| palomino5 | Windows Server 2022 Datacenter | x64 | R Under development (unstable) (2022-12-25 r83502 ucrt) -- "Unsuffered Consequences" | 4165 |
| Click on any hostname to see more info about the system (e.g. compilers) (*) as reported by 'uname -p', except on Windows and Mac OS X | ||||
|
To the developers/maintainers of the GBScleanR package: Make sure to use the following settings in order to reproduce any error or warning you see on this page. |
| Package 724/2158 | Hostname | OS / Arch | INSTALL | BUILD | CHECK | BUILD BIN | ||||||||
| GBScleanR 1.3.4 (landing page) Tomoyuki Furuta
| palomino5 | Windows Server 2022 Datacenter / x64 | OK | OK | OK | OK | ||||||||
| Package: GBScleanR |
| Version: 1.3.4 |
| Command: rm -rf GBScleanR.buildbin-libdir && mkdir GBScleanR.buildbin-libdir && F:\biocbuild\bbs-3.17-bioc\R\bin\R.exe CMD INSTALL --build --library=GBScleanR.buildbin-libdir GBScleanR_1.3.4.tar.gz |
| StartedAt: 2022-12-29 05:10:31 -0500 (Thu, 29 Dec 2022) |
| EndedAt: 2022-12-29 05:11:22 -0500 (Thu, 29 Dec 2022) |
| EllapsedTime: 51.5 seconds |
| RetCode: 0 |
| Status: OK |
| PackageFile: GBScleanR_1.3.4.zip |
| PackageFileSize: 1.689 MiB |
############################################################################## ############################################################################## ### ### Running command: ### ### rm -rf GBScleanR.buildbin-libdir && mkdir GBScleanR.buildbin-libdir && F:\biocbuild\bbs-3.17-bioc\R\bin\R.exe CMD INSTALL --build --library=GBScleanR.buildbin-libdir GBScleanR_1.3.4.tar.gz ### ############################################################################## ############################################################################## * installing *source* package 'GBScleanR' ... ** using staged installation ** libs using C++ compiler: 'G__~1.EXE (GCC) 12.2.0' using C++11 g++ -std=gnu++11 -I"F:/biocbuild/bbs-3.17-bioc/R/include" -DNDEBUG -I'F:/biocbuild/bbs-3.17-bioc/R/library/Rcpp/include' -I'F:/biocbuild/bbs-3.17-bioc/R/library/RcppParallel/include' -I"c:/rtools42/x86_64-w64-mingw32.static.posix/include" -DRCPP_PARALLEL_USE_TBB=1 -O2 -Wall -mfpmath=sse -msse2 -mstackrealign -c GBSR_HMM.cpp -o GBSR_HMM.o g++ -std=gnu++11 -I"F:/biocbuild/bbs-3.17-bioc/R/include" -DNDEBUG -I'F:/biocbuild/bbs-3.17-bioc/R/library/Rcpp/include' -I'F:/biocbuild/bbs-3.17-bioc/R/library/RcppParallel/include' -I"c:/rtools42/x86_64-w64-mingw32.static.posix/include" -DRCPP_PARALLEL_USE_TBB=1 -O2 -Wall -mfpmath=sse -msse2 -mstackrealign -c GBSR_stats.cpp -o GBSR_stats.o g++ -std=gnu++11 -I"F:/biocbuild/bbs-3.17-bioc/R/include" -DNDEBUG -I'F:/biocbuild/bbs-3.17-bioc/R/library/Rcpp/include' -I'F:/biocbuild/bbs-3.17-bioc/R/library/RcppParallel/include' -I"c:/rtools42/x86_64-w64-mingw32.static.posix/include" -DRCPP_PARALLEL_USE_TBB=1 -O2 -Wall -mfpmath=sse -msse2 -mstackrealign -c RcppExports.cpp -o RcppExports.o g++ -shared -s -static-libgcc -o GBScleanR.dll tmp.def GBSR_HMM.o GBSR_stats.o RcppExports.o -LF:/biocbuild/bbs-3.17-bioc/R/library/RcppParallel/lib/x64 -ltbb -ltbbmalloc -Lc:/rtools42/x86_64-w64-mingw32.static.posix/lib/x64 -Lc:/rtools42/x86_64-w64-mingw32.static.posix/lib -LF:/biocbuild/bbs-3.17-bioc/R/bin/x64 -lR installing to F:/biocbuild/bbs-3.17-bioc-rtools43/meat/GBScleanR.buildbin-libdir/00LOCK-GBScleanR/00new/GBScleanR/libs/x64 ** R ** inst ** byte-compile and prepare package for lazy loading ** help *** installing help indices ** building package indices ** installing vignettes ** testing if installed package can be loaded from temporary location ** testing if installed package can be loaded from final location ** testing if installed package keeps a record of temporary installation path * MD5 sums packaged installation of 'GBScleanR' as GBScleanR_1.3.4.zip * DONE (GBScleanR)