| Back to Build/check report for BioC 3.17 |
|
This page was generated on 2023-01-02 09:00:30 -0500 (Mon, 02 Jan 2023).
| Hostname | OS | Arch (*) | R version | Installed pkgs |
|---|---|---|---|---|
| palomino5 | Windows Server 2022 Datacenter | x64 | R Under development (unstable) (2022-12-25 r83502 ucrt) -- "Unsuffered Consequences" | 4165 |
| Click on any hostname to see more info about the system (e.g. compilers) (*) as reported by 'uname -p', except on Windows and Mac OS X | ||||
|
To the developers/maintainers of the GA4GHclient package: Make sure to use the following settings in order to reproduce any error or warning you see on this page. |
| Package 714/2158 | Hostname | OS / Arch | INSTALL | BUILD | CHECK | BUILD BIN | ||||||||
| GA4GHclient 1.23.0 (landing page) Welliton Souza
| palomino5 | Windows Server 2022 Datacenter / x64 | OK | OK | OK | OK | ||||||||
| Package: GA4GHclient |
| Version: 1.23.0 |
| Command: chmod a+r GA4GHclient -R && F:\biocbuild\bbs-3.17-bioc\R\bin\R.exe CMD build --keep-empty-dirs --no-resave-data GA4GHclient |
| StartedAt: 2022-12-28 18:13:17 -0500 (Wed, 28 Dec 2022) |
| EndedAt: 2022-12-28 18:14:27 -0500 (Wed, 28 Dec 2022) |
| EllapsedTime: 70.1 seconds |
| RetCode: 0 |
| Status: OK |
| PackageFile: GA4GHclient_1.23.0.tar.gz |
| PackageFileSize: 624.5 KiB |
##############################################################################
##############################################################################
###
### Running command:
###
### chmod a+r GA4GHclient -R && F:\biocbuild\bbs-3.17-bioc\R\bin\R.exe CMD build --keep-empty-dirs --no-resave-data GA4GHclient
###
##############################################################################
##############################################################################
* checking for file 'GA4GHclient/DESCRIPTION' ... OK
* preparing 'GA4GHclient':
* checking DESCRIPTION meta-information ... OK
* installing the package to build vignettes
* creating vignettes ... OK
* checking for LF line-endings in source and make files and shell scripts
* checking for empty or unneeded directories
Omitted 'LazyData' from DESCRIPTION
NB: this package now depends on R (>= 3.5.0)
WARNING: Added dependency on R >= 3.5.0 because serialized objects in
serialize/load version 3 cannot be read in older versions of R.
File(s) containing such objects:
'GA4GHclient/inst/extdata/vignette.rda'
* building 'GA4GHclient_1.23.0.tar.gz'