| Back to Build/check report for BioC 3.17 |
|
This page was generated on 2023-01-02 09:00:28 -0500 (Mon, 02 Jan 2023).
| Hostname | OS | Arch (*) | R version | Installed pkgs |
|---|---|---|---|---|
| palomino5 | Windows Server 2022 Datacenter | x64 | R Under development (unstable) (2022-12-25 r83502 ucrt) -- "Unsuffered Consequences" | 4165 |
| Click on any hostname to see more info about the system (e.g. compilers) (*) as reported by 'uname -p', except on Windows and Mac OS X | ||||
|
To the developers/maintainers of the EventPointer package: Make sure to use the following settings in order to reproduce any error or warning you see on this page. |
| Package 631/2158 | Hostname | OS / Arch | INSTALL | BUILD | CHECK | BUILD BIN | ||||||||
| EventPointer 3.7.0 (landing page) Juan A. Ferrer-Bonsoms
| palomino5 | Windows Server 2022 Datacenter / x64 | ERROR | ERROR | skipped | skipped | ||||||||
| Package: EventPointer |
| Version: 3.7.0 |
| Command: chmod a+r EventPointer -R && F:\biocbuild\bbs-3.17-bioc\R\bin\R.exe CMD build --keep-empty-dirs --no-resave-data EventPointer |
| StartedAt: 2022-12-28 18:01:03 -0500 (Wed, 28 Dec 2022) |
| EndedAt: 2022-12-28 18:01:11 -0500 (Wed, 28 Dec 2022) |
| EllapsedTime: 7.2 seconds |
| RetCode: 1 |
| Status: ERROR |
| PackageFile: None |
| PackageFileSize: NA |
##############################################################################
##############################################################################
###
### Running command:
###
### chmod a+r EventPointer -R && F:\biocbuild\bbs-3.17-bioc\R\bin\R.exe CMD build --keep-empty-dirs --no-resave-data EventPointer
###
##############################################################################
##############################################################################
* checking for file 'EventPointer/DESCRIPTION' ... OK
* preparing 'EventPointer':
* checking DESCRIPTION meta-information ... OK
* cleaning src
* installing the package to build vignettes
-----------------------------------
ERROR: dependency 'affxparser' is not available for package 'EventPointer'
* removing 'F:/biocbuild/bbs-3.17-bioc-rtools43/tmpdir/RtmpIV5RIn/Rinst2a107791514c/EventPointer'
-----------------------------------
ERROR: package installation failed