| Back to Build/check report for BioC 3.17 |
|
This page was generated on 2023-01-02 09:00:27 -0500 (Mon, 02 Jan 2023).
| Hostname | OS | Arch (*) | R version | Installed pkgs |
|---|---|---|---|---|
| palomino5 | Windows Server 2022 Datacenter | x64 | R Under development (unstable) (2022-12-25 r83502 ucrt) -- "Unsuffered Consequences" | 4165 |
| Click on any hostname to see more info about the system (e.g. compilers) (*) as reported by 'uname -p', except on Windows and Mac OS X | ||||
|
To the developers/maintainers of the EBcoexpress package: Make sure to use the following settings in order to reproduce any error or warning you see on this page. |
| Package 577/2158 | Hostname | OS / Arch | INSTALL | BUILD | CHECK | BUILD BIN | ||||||||
| EBcoexpress 1.43.0 (landing page) John A. Dawson
| palomino5 | Windows Server 2022 Datacenter / x64 | OK | OK | WARNINGS | OK | ||||||||
| Package: EBcoexpress |
| Version: 1.43.0 |
| Command: rm -rf EBcoexpress.buildbin-libdir && mkdir EBcoexpress.buildbin-libdir && F:\biocbuild\bbs-3.17-bioc\R\bin\R.exe CMD INSTALL --build --library=EBcoexpress.buildbin-libdir EBcoexpress_1.43.0.tar.gz |
| StartedAt: 2022-12-29 05:06:02 -0500 (Thu, 29 Dec 2022) |
| EndedAt: 2022-12-29 05:06:13 -0500 (Thu, 29 Dec 2022) |
| EllapsedTime: 10.8 seconds |
| RetCode: 0 |
| Status: OK |
| PackageFile: EBcoexpress_1.43.0.zip |
| PackageFileSize: 824.1 KiB |
##############################################################################
##############################################################################
###
### Running command:
###
### rm -rf EBcoexpress.buildbin-libdir && mkdir EBcoexpress.buildbin-libdir && F:\biocbuild\bbs-3.17-bioc\R\bin\R.exe CMD INSTALL --build --library=EBcoexpress.buildbin-libdir EBcoexpress_1.43.0.tar.gz
###
##############################################################################
##############################################################################
* installing *source* package 'EBcoexpress' ...
** using staged installation
** libs
using C compiler: 'gcc.exe (GCC) 12.2.0'
gcc -I"F:/biocbuild/bbs-3.17-bioc/R/include" -DNDEBUG -I"c:/rtools42/x86_64-w64-mingw32.static.posix/include" -O2 -Wall -std=gnu99 -mfpmath=sse -msse2 -mstackrealign -c EBcoexpress.c -o EBcoexpress.o
EBcoexpress.c: In function 'bwmcCworker':
EBcoexpress.c:74:15: warning: suggest parentheses around comparison in operand of '|' [-Wparentheses]
74 | if(temp < -1 | temp > 1)
| ~~~~~^~~~
gcc -shared -s -static-libgcc -o EBcoexpress.dll tmp.def EBcoexpress.o -Lc:/rtools42/x86_64-w64-mingw32.static.posix/lib/x64 -Lc:/rtools42/x86_64-w64-mingw32.static.posix/lib -LF:/biocbuild/bbs-3.17-bioc/R/bin/x64 -lR
installing to F:/biocbuild/bbs-3.17-bioc-rtools43/meat/EBcoexpress.buildbin-libdir/00LOCK-EBcoexpress/00new/EBcoexpress/libs/x64
** R
** data
** demo
** inst
** byte-compile and prepare package for lazy loading
** help
*** installing help indices
** building package indices
** installing vignettes
** testing if installed package can be loaded from temporary location
** testing if installed package can be loaded from final location
** testing if installed package keeps a record of temporary installation path
* MD5 sums
packaged installation of 'EBcoexpress' as EBcoexpress_1.43.0.zip
* DONE (EBcoexpress)