| Back to Build/check report for BioC 3.17 |
|
This page was generated on 2023-01-02 09:00:27 -0500 (Mon, 02 Jan 2023).
| Hostname | OS | Arch (*) | R version | Installed pkgs |
|---|---|---|---|---|
| palomino5 | Windows Server 2022 Datacenter | x64 | R Under development (unstable) (2022-12-25 r83502 ucrt) -- "Unsuffered Consequences" | 4165 |
| Click on any hostname to see more info about the system (e.g. compilers) (*) as reported by 'uname -p', except on Windows and Mac OS X | ||||
|
To the developers/maintainers of the Director package: Make sure to use the following settings in order to reproduce any error or warning you see on this page. |
| Package 532/2158 | Hostname | OS / Arch | INSTALL | BUILD | CHECK | BUILD BIN | ||||||||
| Director 1.25.0 (landing page) Katherine Icay
| palomino5 | Windows Server 2022 Datacenter / x64 | OK | TIMEOUT | skipped | skipped | ||||||||
| Package: Director |
| Version: 1.25.0 |
| Command: chmod a+r Director -R && F:\biocbuild\bbs-3.17-bioc\R\bin\R.exe CMD build --keep-empty-dirs --no-resave-data Director |
| StartedAt: 2022-12-28 17:39:52 -0500 (Wed, 28 Dec 2022) |
| EndedAt: 2022-12-28 18:19:52 -0500 (Wed, 28 Dec 2022) |
| EllapsedTime: 2400.2 seconds |
| RetCode: None |
| Status: TIMEOUT |
| PackageFile: None |
| PackageFileSize: NA |
############################################################################## ############################################################################## ### ### Running command: ### ### chmod a+r Director -R && F:\biocbuild\bbs-3.17-bioc\R\bin\R.exe CMD build --keep-empty-dirs --no-resave-data Director ### ############################################################################## ############################################################################## * checking for file 'Director/DESCRIPTION' ... OK * preparing 'Director': * checking DESCRIPTION meta-information ... OK * installing the package to build vignettes * creating vignettes ...