| Back to Build/check report for BioC 3.17 |
|
This page was generated on 2023-01-02 09:00:26 -0500 (Mon, 02 Jan 2023).
| Hostname | OS | Arch (*) | R version | Installed pkgs |
|---|---|---|---|---|
| palomino5 | Windows Server 2022 Datacenter | x64 | R Under development (unstable) (2022-12-25 r83502 ucrt) -- "Unsuffered Consequences" | 4165 |
| Click on any hostname to see more info about the system (e.g. compilers) (*) as reported by 'uname -p', except on Windows and Mac OS X | ||||
|
To the developers/maintainers of the DeMixT package: Make sure to use the following settings in order to reproduce any error or warning you see on this page. |
| Package 500/2158 | Hostname | OS / Arch | INSTALL | BUILD | CHECK | BUILD BIN | ||||||||
| DeMixT 1.15.0 (landing page) Shuai Guo
| palomino5 | Windows Server 2022 Datacenter / x64 | OK | OK | WARNINGS | OK | ||||||||
| Package: DeMixT |
| Version: 1.15.0 |
| Command: chmod a+r DeMixT -R && F:\biocbuild\bbs-3.17-bioc\R\bin\R.exe CMD build --keep-empty-dirs --no-resave-data DeMixT |
| StartedAt: 2022-12-28 17:35:03 -0500 (Wed, 28 Dec 2022) |
| EndedAt: 2022-12-28 17:36:12 -0500 (Wed, 28 Dec 2022) |
| EllapsedTime: 69.5 seconds |
| RetCode: 0 |
| Status: OK |
| PackageFile: DeMixT_1.15.0.tar.gz |
| PackageFileSize: 3.524 MiB |
##############################################################################
##############################################################################
###
### Running command:
###
### chmod a+r DeMixT -R && F:\biocbuild\bbs-3.17-bioc\R\bin\R.exe CMD build --keep-empty-dirs --no-resave-data DeMixT
###
##############################################################################
##############################################################################
* checking for file 'DeMixT/DESCRIPTION' ... OK
* preparing 'DeMixT':
* checking DESCRIPTION meta-information ... OK
* cleaning src
* installing the package to build vignettes
* creating vignettes ... OK
Warning: 'inst/doc' files
'demixt.Rmd', 'demixt.html', 'demixt.R'
ignored as vignettes have been rebuilt.
Run R CMD build with --no-build-vignettes to prevent rebuilding.
* cleaning src
* checking for LF line-endings in source and make files and shell scripts
* checking for empty or unneeded directories
* building 'DeMixT_1.15.0.tar.gz'