| Back to Build/check report for BioC 3.17 |
|
This page was generated on 2023-01-02 09:00:27 -0500 (Mon, 02 Jan 2023).
| Hostname | OS | Arch (*) | R version | Installed pkgs |
|---|---|---|---|---|
| palomino5 | Windows Server 2022 Datacenter | x64 | R Under development (unstable) (2022-12-25 r83502 ucrt) -- "Unsuffered Consequences" | 4165 |
| Click on any hostname to see more info about the system (e.g. compilers) (*) as reported by 'uname -p', except on Windows and Mac OS X | ||||
|
To the developers/maintainers of the DMCHMM package: Make sure to use the following settings in order to reproduce any error or warning you see on this page. |
| Package 541/2158 | Hostname | OS / Arch | INSTALL | BUILD | CHECK | BUILD BIN | ||||||||
| DMCHMM 1.21.0 (landing page) Farhad Shokoohi
| palomino5 | Windows Server 2022 Datacenter / x64 | OK | OK | WARNINGS | OK | ||||||||
| Package: DMCHMM |
| Version: 1.21.0 |
| Command: rm -rf DMCHMM.buildbin-libdir && mkdir DMCHMM.buildbin-libdir && F:\biocbuild\bbs-3.17-bioc\R\bin\R.exe CMD INSTALL --build --library=DMCHMM.buildbin-libdir DMCHMM_1.21.0.tar.gz |
| StartedAt: 2022-12-29 05:04:56 -0500 (Thu, 29 Dec 2022) |
| EndedAt: 2022-12-29 05:05:32 -0500 (Thu, 29 Dec 2022) |
| EllapsedTime: 36.5 seconds |
| RetCode: 0 |
| Status: OK |
| PackageFile: DMCHMM_1.21.0.zip |
| PackageFileSize: 951.3 KiB |
############################################################################## ############################################################################## ### ### Running command: ### ### rm -rf DMCHMM.buildbin-libdir && mkdir DMCHMM.buildbin-libdir && F:\biocbuild\bbs-3.17-bioc\R\bin\R.exe CMD INSTALL --build --library=DMCHMM.buildbin-libdir DMCHMM_1.21.0.tar.gz ### ############################################################################## ############################################################################## * installing *source* package 'DMCHMM' ... ** using staged installation ** R ** inst ** byte-compile and prepare package for lazy loading Warning: replacing previous import 'IRanges::windows' by 'grDevices::windows' when loading 'DMCHMM' ** help *** installing help indices ** building package indices ** installing vignettes ** testing if installed package can be loaded from temporary location Warning: replacing previous import 'IRanges::windows' by 'grDevices::windows' when loading 'DMCHMM' ** testing if installed package can be loaded from final location Warning: replacing previous import 'IRanges::windows' by 'grDevices::windows' when loading 'DMCHMM' ** testing if installed package keeps a record of temporary installation path * MD5 sums packaged installation of 'DMCHMM' as DMCHMM_1.21.0.zip * DONE (DMCHMM)