| Back to Build/check report for BioC 3.17 |
|
This page was generated on 2023-01-02 09:00:25 -0500 (Mon, 02 Jan 2023).
| Hostname | OS | Arch (*) | R version | Installed pkgs |
|---|---|---|---|---|
| palomino5 | Windows Server 2022 Datacenter | x64 | R Under development (unstable) (2022-12-25 r83502 ucrt) -- "Unsuffered Consequences" | 4165 |
| Click on any hostname to see more info about the system (e.g. compilers) (*) as reported by 'uname -p', except on Windows and Mac OS X | ||||
|
To the developers/maintainers of the CytoGLMM package: Make sure to use the following settings in order to reproduce any error or warning you see on this page. |
| Package 455/2158 | Hostname | OS / Arch | INSTALL | BUILD | CHECK | BUILD BIN | ||||||||
| CytoGLMM 1.7.0 (landing page) Christof Seiler
| palomino5 | Windows Server 2022 Datacenter / x64 | OK | OK | OK | OK | ||||||||
| Package: CytoGLMM |
| Version: 1.7.0 |
| Command: chmod a+r CytoGLMM -R && F:\biocbuild\bbs-3.17-bioc\R\bin\R.exe CMD build --keep-empty-dirs --no-resave-data CytoGLMM |
| StartedAt: 2022-12-28 17:28:54 -0500 (Wed, 28 Dec 2022) |
| EndedAt: 2022-12-28 17:30:45 -0500 (Wed, 28 Dec 2022) |
| EllapsedTime: 110.9 seconds |
| RetCode: 0 |
| Status: OK |
| PackageFile: CytoGLMM_1.7.0.tar.gz |
| PackageFileSize: 296 KiB |
############################################################################## ############################################################################## ### ### Running command: ### ### chmod a+r CytoGLMM -R && F:\biocbuild\bbs-3.17-bioc\R\bin\R.exe CMD build --keep-empty-dirs --no-resave-data CytoGLMM ### ############################################################################## ############################################################################## * checking for file 'CytoGLMM/DESCRIPTION' ... OK * preparing 'CytoGLMM': * checking DESCRIPTION meta-information ... OK * installing the package to build vignettes * creating vignettes ... OK * checking for LF line-endings in source and make files and shell scripts * checking for empty or unneeded directories Omitted 'LazyData' from DESCRIPTION * building 'CytoGLMM_1.7.0.tar.gz'