| Back to Build/check report for BioC 3.17 |
|
This page was generated on 2023-01-02 09:00:23 -0500 (Mon, 02 Jan 2023).
| Hostname | OS | Arch (*) | R version | Installed pkgs |
|---|---|---|---|---|
| palomino5 | Windows Server 2022 Datacenter | x64 | R Under development (unstable) (2022-12-25 r83502 ucrt) -- "Unsuffered Consequences" | 4165 |
| Click on any hostname to see more info about the system (e.g. compilers) (*) as reported by 'uname -p', except on Windows and Mac OS X | ||||
|
To the developers/maintainers of the ChIPseqR package: Make sure to use the following settings in order to reproduce any error or warning you see on this page. |
| Package 311/2158 | Hostname | OS / Arch | INSTALL | BUILD | CHECK | BUILD BIN | ||||||||
| ChIPseqR 1.53.0 (landing page) Peter Humburg
| palomino5 | Windows Server 2022 Datacenter / x64 | OK | OK | OK | OK | ||||||||
| Package: ChIPseqR |
| Version: 1.53.0 |
| Command: rm -rf ChIPseqR.buildbin-libdir && mkdir ChIPseqR.buildbin-libdir && F:\biocbuild\bbs-3.17-bioc\R\bin\R.exe CMD INSTALL --build --library=ChIPseqR.buildbin-libdir ChIPseqR_1.53.0.tar.gz |
| StartedAt: 2022-12-29 04:57:29 -0500 (Thu, 29 Dec 2022) |
| EndedAt: 2022-12-29 04:58:08 -0500 (Thu, 29 Dec 2022) |
| EllapsedTime: 39.5 seconds |
| RetCode: 0 |
| Status: OK |
| PackageFile: ChIPseqR_1.53.0.zip |
| PackageFileSize: 1.34 MiB |
##############################################################################
##############################################################################
###
### Running command:
###
### rm -rf ChIPseqR.buildbin-libdir && mkdir ChIPseqR.buildbin-libdir && F:\biocbuild\bbs-3.17-bioc\R\bin\R.exe CMD INSTALL --build --library=ChIPseqR.buildbin-libdir ChIPseqR_1.53.0.tar.gz
###
##############################################################################
##############################################################################
* installing *source* package 'ChIPseqR' ...
** using staged installation
** libs
using C compiler: 'gcc.exe (GCC) 12.2.0'
gcc -I"F:/biocbuild/bbs-3.17-bioc/R/include" -DNDEBUG -I"c:/rtools42/x86_64-w64-mingw32.static.posix/include" -O2 -Wall -std=gnu99 -mfpmath=sse -msse2 -mstackrealign -c startScore.c -o startScore.o
startScore.c: In function '_ratioStat_pois':
startScore.c:66:22: warning: unused variable 'tmp_stat' [-Wunused-variable]
66 | double stat, tmp_stat;
| ^~~~~~~~
gcc -shared -s -static-libgcc -o ChIPseqR.dll tmp.def startScore.o -Lc:/rtools42/x86_64-w64-mingw32.static.posix/lib/x64 -Lc:/rtools42/x86_64-w64-mingw32.static.posix/lib -LF:/biocbuild/bbs-3.17-bioc/R/bin/x64 -lR
installing to F:/biocbuild/bbs-3.17-bioc-rtools43/meat/ChIPseqR.buildbin-libdir/00LOCK-ChIPseqR/00new/ChIPseqR/libs/x64
** R
** inst
** byte-compile and prepare package for lazy loading
** help
*** installing help indices
** building package indices
** installing vignettes
** testing if installed package can be loaded from temporary location
** testing if installed package can be loaded from final location
** testing if installed package keeps a record of temporary installation path
* MD5 sums
packaged installation of 'ChIPseqR' as ChIPseqR_1.53.0.zip
* DONE (ChIPseqR)