| Back to Build/check report for BioC 3.17 |
|
This page was generated on 2023-01-02 09:00:23 -0500 (Mon, 02 Jan 2023).
| Hostname | OS | Arch (*) | R version | Installed pkgs |
|---|---|---|---|---|
| palomino5 | Windows Server 2022 Datacenter | x64 | R Under development (unstable) (2022-12-25 r83502 ucrt) -- "Unsuffered Consequences" | 4165 |
| Click on any hostname to see more info about the system (e.g. compilers) (*) as reported by 'uname -p', except on Windows and Mac OS X | ||||
|
To the developers/maintainers of the ChIPexoQual package: Make sure to use the following settings in order to reproduce any error or warning you see on this page. |
| Package 306/2158 | Hostname | OS / Arch | INSTALL | BUILD | CHECK | BUILD BIN | ||||||||
| ChIPexoQual 1.23.0 (landing page) Rene Welch
| palomino5 | Windows Server 2022 Datacenter / x64 | OK | OK | OK | OK | ||||||||
| Package: ChIPexoQual |
| Version: 1.23.0 |
| Command: chmod a+r ChIPexoQual -R && F:\biocbuild\bbs-3.17-bioc\R\bin\R.exe CMD build --keep-empty-dirs --no-resave-data ChIPexoQual |
| StartedAt: 2022-12-28 17:12:20 -0500 (Wed, 28 Dec 2022) |
| EndedAt: 2022-12-28 17:16:12 -0500 (Wed, 28 Dec 2022) |
| EllapsedTime: 232.5 seconds |
| RetCode: 0 |
| Status: OK |
| PackageFile: ChIPexoQual_1.23.0.tar.gz |
| PackageFileSize: 2.111 MiB |
##############################################################################
##############################################################################
###
### Running command:
###
### chmod a+r ChIPexoQual -R && F:\biocbuild\bbs-3.17-bioc\R\bin\R.exe CMD build --keep-empty-dirs --no-resave-data ChIPexoQual
###
##############################################################################
##############################################################################
* checking for file 'ChIPexoQual/DESCRIPTION' ... OK
* preparing 'ChIPexoQual':
* checking DESCRIPTION meta-information ... OK
* installing the package to build vignettes
* creating vignettes ... OK
* checking for LF line-endings in source and make files and shell scripts
* checking for empty or unneeded directories
* looking to see if a 'data/datalist' file should be added
NB: this package now depends on R (>= 3.5.0)
WARNING: Added dependency on R >= 3.5.0 because serialized objects in
serialize/load version 3 cannot be read in older versions of R.
File(s) containing such objects:
'ChIPexoQual/data/blacklists.RData'
'ChIPexoQual/data/exoExample.RData'
* building 'ChIPexoQual_1.23.0.tar.gz'